BEGIN:VCALENDAR
VERSION:2.0
PRODID:-//Visual Effects Society - ECPv6.15.20//NONSGML v1.0//EN
CALSCALE:GREGORIAN
METHOD:PUBLISH
X-WR-CALNAME:Visual Effects Society
X-ORIGINAL-URL:https://vesglobal.org
X-WR-CALDESC:Events for Visual Effects Society
REFRESH-INTERVAL;VALUE=DURATION:PT1H
X-Robots-Tag:noindex
X-PUBLISHED-TTL:PT1H
BEGIN:VTIMEZONE
TZID:America/Los_Angeles
BEGIN:DAYLIGHT
TZOFFSETFROM:-0800
TZOFFSETTO:-0700
TZNAME:PDT
DTSTART:20200308T100000
END:DAYLIGHT
BEGIN:STANDARD
TZOFFSETFROM:-0700
TZOFFSETTO:-0800
TZNAME:PST
DTSTART:20201101T090000
END:STANDARD
BEGIN:DAYLIGHT
TZOFFSETFROM:-0800
TZOFFSETTO:-0700
TZNAME:PDT
DTSTART:20210314T100000
END:DAYLIGHT
BEGIN:STANDARD
TZOFFSETFROM:-0700
TZOFFSETTO:-0800
TZNAME:PST
DTSTART:20211107T090000
END:STANDARD
BEGIN:DAYLIGHT
TZOFFSETFROM:-0800
TZOFFSETTO:-0700
TZNAME:PDT
DTSTART:20220313T100000
END:DAYLIGHT
BEGIN:STANDARD
TZOFFSETFROM:-0700
TZOFFSETTO:-0800
TZNAME:PST
DTSTART:20221106T090000
END:STANDARD
END:VTIMEZONE
BEGIN:VEVENT
DTSTART;TZID=America/Los_Angeles:20211223T190000
DTEND;TZID=America/Los_Angeles:20211223T212800
DTSTAMP:20260421T033555
CREATED:20211221T180509Z
LAST-MODIFIED:20211222T173909Z
UID:10010239-1640286000-1640294880@vesglobal.org
SUMMARY:Screening - SPIDER-MAN: NO WAY HOME (Los Angeles)
DESCRIPTION:VES Members and Up to 4 Guests are Invited to a Screening of Sony Pictures’ SPIDER-MAN: NO WAY HOME. Los Angeles City Ordinance #187219 requires that all VES members and guests must show photo ID & proof of vaccination against COVID-19 for admission and masks must be worn at all times in indoor public settings. \nPlease RSVP below (VES members must login to RSVP)\nThursday\, December 23\, 2021 at 7:00PM (RSVPs close on Thursday at 10:00AM)\nThe Cary Grant Theater on the Sony Pictures Studio Lot\n10202 West Washington Blvd.\, Culver City\, CA 90232\n(Please enter through the Culver/Motor gate and park in that structure.) \n***VES Members: Please enter your first and last name in the “Attendee 1″ fields*** \nIn an effort to prevent the spread of COVID-19\, we ask that you or your guests do not attend VES events if you are experiencing any symptoms or if you have been exposed to the virus. \nScreenings are overbooked to compensate for no-shows. Seating is limited and will be available on a first come\, first served basis. An RSVP does not guarantee seating. \nBy signing up for this on-site\, in-person screening/event sponsored by VES (Visual Effects Society)\, you willingly accept any potential inherent risks associated with COVID-19. VES cannot be held liable from any consequences that may transpire from said risk. Therefore\, signing up for this screening/event infers implied consent of yourself and your party and hereby indemnifies and holds harmless VES\, its directors\, its employees and any other affiliated persons from any adverse medical or financial impact that may result from our participation.
URL:https://vesglobal.org/event/screening-spider-man-no-way-home-los-angeles/
LOCATION:Sony Pictures Studios\, 10202 West Washington Blvd.\, Culver City\, CA\, 90232\, United States
CATEGORIES:Screening
ATTACH;FMTTYPE=image/jpeg:https://vesglobal.org/wp-content/uploads/2021/12/lg-spider-man-no-way-home.jpg
END:VEVENT
BEGIN:VEVENT
DTSTART;TZID=America/Los_Angeles:20211214T193000
DTEND;TZID=America/Los_Angeles:20211214T210700
DTSTAMP:20260421T033555
CREATED:20211209T183105Z
LAST-MODIFIED:20211214T203910Z
UID:10008775-1639510200-1639516020@vesglobal.org
SUMMARY:Screening - VENOM: LET THERE BE CARNAGE in 3D (Los Angeles)
DESCRIPTION:VES Members and Up to 4 Guests are Invited to a 3D Screening of Sony Pictures’ VENOM: LET THERE BE CARNAGE. Los Angeles City Ordinance #187219 requires that all VES members and guests must show photo ID & proof of vaccination against COVID-19 for admission and masks must be worn at all times in indoor public settings. \nRSVPs are closed\nTuesday\, December 14\, 2021 at 7:30PM\nThe John Singleton Theater (formerly the Backstage) on Sony Pictures Studio Lot\n10202 West Washington Blvd.\, Culver City\, CA 90232\n(Parking instructions will be included in the reminder e-mail.) \n***VES Members: Please enter your first and last name in the “Attendee 1″ fields*** \nIn an effort to prevent the spread of COVID-19\, we ask that you or your guests do not attend VES events if you are experiencing any symptoms or if you have been exposed to the virus. \nScreenings are overbooked to compensate for no-shows. Seating is limited and will be available on a first come\, first served basis. An RSVP does not guarantee seating. \nBy signing up for this on-site\, in-person screening/event sponsored by VES (Visual Effects Society)\, you willingly accept any potential inherent risks associated with COVID-19. VES cannot be held liable from any consequences that may transpire from said risk. Therefore\, signing up for this screening/event infers implied consent of yourself and your party and hereby indemnifies and holds harmless VES\, its directors\, its employees and any other affiliated persons from any adverse medical or financial impact that may result from our participation.
URL:https://vesglobal.org/event/screening-venom-let-there-be-carnage-in-3d-los-angeles/
LOCATION:Sony Pictures Studios\, 10202 West Washington Blvd.\, Culver City\, CA\, 90232\, United States
CATEGORIES:Screening
ATTACH;FMTTYPE=image/jpeg:https://vesglobal.org/wp-content/uploads/2021/12/lg-venom-let-there-be-carnage.jpg
END:VEVENT
BEGIN:VEVENT
DTSTART;TZID=America/Los_Angeles:20211122T193000
DTEND;TZID=America/Los_Angeles:20211122T213400
DTSTAMP:20260421T033555
CREATED:20211118T221352Z
LAST-MODIFIED:20211120T001749Z
UID:10010200-1637609400-1637616840@vesglobal.org
SUMMARY:Screening - GHOSTBUSTERS: AFTERLIFE (Los Angeles)
DESCRIPTION:VES Members and Up to 3 Guests are Invited to a Screening of Sony Pictures’ GHOSTBUSTERS: AFTERLIFE. Los Angeles City Ordinance #187219 requires that all VES members and guests must show photo ID & proof of vaccination against COVID-19 for admission and masks must be worn at all times in indoor public settings. \nThis screening is overbooked and RSVPs are closed\nMonday\, November 22\, 2021 at 7:30PM (RSVPs close on Monday at 12:00PM)\nThe John Singleton Theater (formerly the Backstage) on Sony Pictures Studio Lot\n10202 West Washington Blvd.\, Culver City\, CA 90232\n(Parking instructions will be included in this weekend’s reminder e-mail.) \n***VES Members: Please enter your first and last name in the “Attendee 1″ fields*** \nIn an effort to prevent the spread of COVID-19\, we ask that you or your guests do not attend VES events if you are experiencing any symptoms or if you have been exposed to the virus. \nScreenings are overbooked to compensate for no-shows. Seating is limited and will be available on a first come\, first served basis. An RSVP does not guarantee seating. \nBy signing up for this on-site\, in-person screening/event sponsored by VES (Visual Effects Society)\, you willingly accept any potential inherent risks associated with COVID-19. VES cannot be held liable from any consequences that may transpire from said risk. Therefore\, signing up for this screening/event infers implied consent of yourself and your party and hereby indemnifies and holds harmless VES\, its directors\, its employees and any other affiliated persons from any adverse medical or financial impact that may result from our participation.
URL:https://vesglobal.org/event/screening-ghostbusters-afterlife-los-angeles/
LOCATION:Sony Pictures Studios\, 10202 West Washington Blvd.\, Culver City\, CA\, 90232\, United States
CATEGORIES:Screening
ATTACH;FMTTYPE=image/jpeg:https://vesglobal.org/wp-content/uploads/2021/11/lg-ghostbusters-afterlife.jpg
END:VEVENT
END:VCALENDAR