BEGIN:VCALENDAR
VERSION:2.0
PRODID:-//Visual Effects Society - ECPv6.15.20//NONSGML v1.0//EN
CALSCALE:GREGORIAN
METHOD:PUBLISH
X-WR-CALNAME:Visual Effects Society
X-ORIGINAL-URL:https://vesglobal.org
X-WR-CALDESC:Events for Visual Effects Society
REFRESH-INTERVAL;VALUE=DURATION:PT1H
X-Robots-Tag:noindex
X-PUBLISHED-TTL:PT1H
BEGIN:VTIMEZONE
TZID:America/New_York
BEGIN:DAYLIGHT
TZOFFSETFROM:-0500
TZOFFSETTO:-0400
TZNAME:EDT
DTSTART:20180311T070000
END:DAYLIGHT
BEGIN:STANDARD
TZOFFSETFROM:-0400
TZOFFSETTO:-0500
TZNAME:EST
DTSTART:20181104T060000
END:STANDARD
BEGIN:DAYLIGHT
TZOFFSETFROM:-0500
TZOFFSETTO:-0400
TZNAME:EDT
DTSTART:20190310T070000
END:DAYLIGHT
BEGIN:STANDARD
TZOFFSETFROM:-0400
TZOFFSETTO:-0500
TZNAME:EST
DTSTART:20191103T060000
END:STANDARD
BEGIN:DAYLIGHT
TZOFFSETFROM:-0500
TZOFFSETTO:-0400
TZNAME:EDT
DTSTART:20200308T070000
END:DAYLIGHT
BEGIN:STANDARD
TZOFFSETFROM:-0400
TZOFFSETTO:-0500
TZNAME:EST
DTSTART:20201101T060000
END:STANDARD
BEGIN:DAYLIGHT
TZOFFSETFROM:-0500
TZOFFSETTO:-0400
TZNAME:EDT
DTSTART:20210314T070000
END:DAYLIGHT
BEGIN:STANDARD
TZOFFSETFROM:-0400
TZOFFSETTO:-0500
TZNAME:EST
DTSTART:20211107T060000
END:STANDARD
END:VTIMEZONE
BEGIN:VEVENT
DTSTART;TZID=America/New_York:20200109T193000
DTEND;TZID=America/New_York:20200109T213000
DTSTAMP:20260421T033750
CREATED:20200101T152044Z
LAST-MODIFIED:20200101T152849Z
UID:10008387-1578598200-1578605400@vesglobal.org
SUMMARY:VES Georgia - January “Hangout”
DESCRIPTION:VES Georgia January “Hangout” – Thursday\, January 9th 7:30 – 9:30 pm. \nWhat better way to celebrate the start of a new year? Craft your resolutions for 2020 at Ormsby’s in Atlanta with your visual effects colleagues at this casual meet-up. Network and enhance the VES community bond. Bring a co-worker or two. Come as you are…Pay your own way. \nNo RSVP needed. Just ask at the entrance to be guided downstairs to the other VES members in attendance.\nFree parking in the garage at the end of 14th Street. \ndownload announcement \nVES Georgia Board of Managers and Events Committee
URL:https://vesglobal.org/event/ves-georgia-january-hangout/
LOCATION:Ormsby’s Atlanta\, 1170 Howell Mill Rd\, Atlanta\, GA\, 30318\, United States
ATTACH;FMTTYPE=image/jpeg:https://vesglobal.org/wp-content/uploads/2020/01/VES_Hangout_20200109_1.jpg
END:VEVENT
BEGIN:VEVENT
DTSTART;TZID=America/New_York:20191121T190000
DTEND;TZID=America/New_York:20191121T213000
DTSTAMP:20260421T033750
CREATED:20191118T131747Z
LAST-MODIFIED:20191118T133155Z
UID:10008332-1574362800-1574371800@vesglobal.org
SUMMARY:VES Georgia November "Hangout" - this Thursday November 21st\, 7-9:30P
DESCRIPTION:VES Georgia November “Hangout” – this Thursday\, November 21st \nCome enjoy Bocce Ball\, Billiards\, Darts and more at Ormsby’s with your visual effects colleagues at this casual meet-up. Network and enhance the VES community bond. Bring a co-worker or two. Come as you are…Pay your own way. \nThursday\, November 21st\, 7-9:30P \nOrmsby’s \n1170 Howell Mill Road \nAtlanta\, GA 30318 \n(404) 968-2033 \nFree Parking available in the garage at the end of 14th St. \nNo RSVP needed. Just ask at the entrance to be guided downstairs to the other VES members in attendance. \nVES Georgia Board of Managers and Events Committee
URL:https://vesglobal.org/event/ves-georgia-november-hangout-this-thursday-november-21st/
LOCATION:Ormsby’s Atlanta\, 1170 Howell Mill Rd\, Atlanta\, GA\, 30318\, United States
CATEGORIES:Pub Night
END:VEVENT
END:VCALENDAR