BEGIN:VCALENDAR
VERSION:2.0
PRODID:-//Visual Effects Society - ECPv6.15.20//NONSGML v1.0//EN
CALSCALE:GREGORIAN
METHOD:PUBLISH
X-ORIGINAL-URL:https://vesglobal.org
X-WR-CALDESC:Events for Visual Effects Society
REFRESH-INTERVAL;VALUE=DURATION:PT1H
X-Robots-Tag:noindex
X-PUBLISHED-TTL:PT1H
BEGIN:VTIMEZONE
TZID:America/Los_Angeles
BEGIN:DAYLIGHT
TZOFFSETFROM:-0800
TZOFFSETTO:-0700
TZNAME:PDT
DTSTART:20250309T100000
END:DAYLIGHT
BEGIN:STANDARD
TZOFFSETFROM:-0700
TZOFFSETTO:-0800
TZNAME:PST
DTSTART:20251102T090000
END:STANDARD
BEGIN:DAYLIGHT
TZOFFSETFROM:-0800
TZOFFSETTO:-0700
TZNAME:PDT
DTSTART:20260308T100000
END:DAYLIGHT
BEGIN:STANDARD
TZOFFSETFROM:-0700
TZOFFSETTO:-0800
TZNAME:PST
DTSTART:20261101T090000
END:STANDARD
BEGIN:DAYLIGHT
TZOFFSETFROM:-0800
TZOFFSETTO:-0700
TZNAME:PDT
DTSTART:20270314T100000
END:DAYLIGHT
BEGIN:STANDARD
TZOFFSETFROM:-0700
TZOFFSETTO:-0800
TZNAME:PST
DTSTART:20271107T090000
END:STANDARD
END:VTIMEZONE
BEGIN:VEVENT
DTSTART;TZID=America/Los_Angeles:20260502T130000
DTEND;TZID=America/Los_Angeles:20260502T150000
DTSTAMP:20260423T085701
CREATED:20260327T075533Z
LAST-MODIFIED:20260410T221955Z
UID:10011666-1777726800-1777734000@vesglobal.org
SUMMARY:VES LA Central Library Tour + Community Care Drive
DESCRIPTION:VES LA: Tour DTLA Central Library + Octavia Lab / Community Care Drive\nSaturday\, May 2 | 1:00 PM\nMeet in the main lobby near the gift shop by 12:50 PM\nLibrary tour begins promptly at 1:00 PM\, lasts approximately one hour \nJoin your fellow VES LA members for a behind-the-scenes look at one of downtown’s most architecturally stunning and historically rich landmarks\, the Los Angeles Central Library. Our docent-led tour will cover the building’s striking architecture\, its murals and public art\, and the library’s storied history.Then we head downstairs to the Octavia Lab\, named after pioneering science fiction author Octavia E. Butler\, who wrote her first novel here. \nThe lab offers free access to tools including 3D printers\, 3D scanners\, sewing machines\, a podcast and livestream studio\, a photography studio with green screen\, laser cutters\, a vinyl cutter\, a CNC mill\, digital media stations with Adobe Creative Cloud\, and a DIY Memory Lab with equipment to digitize analog film\, VHS\, Super 8\, and audio. If you’ve ever wanted a place to prototype a prop\, digitize archival footage\, or spin up a side project\, this is it! \nAfter the tour\, anyone interested is welcome to walk over to Grand Central Market for a bite to eat. VES Members and guests welcome. Free to attend. \nPets not allowed. Service Animals permitted. For ADA accommodations\, please call (213) 228-7430 at least 72 hours prior to the event. \nValidated Parking is available for $1 in the garage at 524 South Flower Street. \nCommunity Care Drive: Emergency Whistle + Food Collection\nWe’re collecting 3D printed safety whistles at this event to give to vulnerable community members. A link to the file will be shared with attendees via Email. Print and bring as many as you like. Prefer a different way to help? Nonperishable food donations are also welcome and can be brought to the parking structure after the event (Board member Sarah McGrail will be collecting for distribution). \n 
URL:https://vesglobal.org/event/ves-la-central-library-tour-community-care-drive/
LOCATION:LA Central Library\, 630 W 5th St\, Los Angeles\, CA 90071
CATEGORIES:Educational
ATTACH;FMTTYPE=image/png:https://vesglobal.org/wp-content/uploads/2026/03/VES_LA_Central_Library_Tour-and-Drive-scaled.png
END:VEVENT
END:VCALENDAR