BEGIN:VCALENDAR
VERSION:2.0
PRODID:-//Visual Effects Society - ECPv6.15.20//NONSGML v1.0//EN
CALSCALE:GREGORIAN
METHOD:PUBLISH
X-ORIGINAL-URL:https://vesglobal.org
X-WR-CALDESC:Events for Visual Effects Society
REFRESH-INTERVAL;VALUE=DURATION:PT1H
X-Robots-Tag:noindex
X-PUBLISHED-TTL:PT1H
BEGIN:VTIMEZONE
TZID:America/Los_Angeles
BEGIN:DAYLIGHT
TZOFFSETFROM:-0800
TZOFFSETTO:-0700
TZNAME:PDT
DTSTART:20240310T100000
END:DAYLIGHT
BEGIN:STANDARD
TZOFFSETFROM:-0700
TZOFFSETTO:-0800
TZNAME:PST
DTSTART:20241103T090000
END:STANDARD
BEGIN:DAYLIGHT
TZOFFSETFROM:-0800
TZOFFSETTO:-0700
TZNAME:PDT
DTSTART:20250309T100000
END:DAYLIGHT
BEGIN:STANDARD
TZOFFSETFROM:-0700
TZOFFSETTO:-0800
TZNAME:PST
DTSTART:20251102T090000
END:STANDARD
BEGIN:DAYLIGHT
TZOFFSETFROM:-0800
TZOFFSETTO:-0700
TZNAME:PDT
DTSTART:20260308T100000
END:DAYLIGHT
BEGIN:STANDARD
TZOFFSETFROM:-0700
TZOFFSETTO:-0800
TZNAME:PST
DTSTART:20261101T090000
END:STANDARD
END:VTIMEZONE
BEGIN:VEVENT
DTSTART;TZID=America/Los_Angeles:20250702T183000
DTEND;TZID=America/Los_Angeles:20250702T203000
DTSTAMP:20260421T032233
CREATED:20250615T072757Z
LAST-MODIFIED:20250615T074947Z
UID:10011276-1751481000-1751488200@vesglobal.org
SUMMARY:VES x Dreamscreen - Virtual Production Event
DESCRIPTION:An Evening of Education + Industry NetworkingDreamscreen and the Visual Effects Society Australia invite VES members to an exclusive experience – step onto the stage and into the future of virtual production.Get hands-on with the LED volume technology and discover Dreamscreen and their dedicated team focus on designing\, building\, and operating LED volumes for in-camera VFX—from concept to final frame.
URL:https://events.humanitix.com/ves-x-dreamscreen-vp2025
LOCATION:Dreamscreen studio Melbourne\, 77 Willandra Dr\, Epping VIC 3076\, Australia\, Melbourne\, VIC\, 3076\, Australia
CATEGORIES:Educational,Event
ATTACH;FMTTYPE=image/webp:https://vesglobal.org/wp-content/uploads/2025/06/VES-x-Dreamscreen-Virtual-Production-Event-Future-is-Virtual-Events.webp
END:VEVENT
END:VCALENDAR