BEGIN:VCALENDAR
VERSION:2.0
PRODID:-//Visual Effects Society - ECPv6.15.20//NONSGML v1.0//EN
CALSCALE:GREGORIAN
METHOD:PUBLISH
X-ORIGINAL-URL:https://vesglobal.org
X-WR-CALDESC:Events for Visual Effects Society
REFRESH-INTERVAL;VALUE=DURATION:PT1H
X-Robots-Tag:noindex
X-PUBLISHED-TTL:PT1H
BEGIN:VTIMEZONE
TZID:Europe/Berlin
BEGIN:DAYLIGHT
TZOFFSETFROM:+0100
TZOFFSETTO:+0200
TZNAME:CEST
DTSTART:20200329T010000
END:DAYLIGHT
BEGIN:STANDARD
TZOFFSETFROM:+0200
TZOFFSETTO:+0100
TZNAME:CET
DTSTART:20201025T010000
END:STANDARD
BEGIN:DAYLIGHT
TZOFFSETFROM:+0100
TZOFFSETTO:+0200
TZNAME:CEST
DTSTART:20210328T010000
END:DAYLIGHT
BEGIN:STANDARD
TZOFFSETFROM:+0200
TZOFFSETTO:+0100
TZNAME:CET
DTSTART:20211031T010000
END:STANDARD
BEGIN:DAYLIGHT
TZOFFSETFROM:+0100
TZOFFSETTO:+0200
TZNAME:CEST
DTSTART:20220327T010000
END:DAYLIGHT
BEGIN:STANDARD
TZOFFSETFROM:+0200
TZOFFSETTO:+0100
TZNAME:CET
DTSTART:20221030T010000
END:STANDARD
END:VTIMEZONE
BEGIN:VEVENT
DTSTART;TZID=Europe/Berlin:20210922T190000
DTEND;TZID=Europe/Berlin:20210922T220000
DTSTAMP:20260422T090750
CREATED:20210917T115918Z
LAST-MODIFIED:20210917T115941Z
UID:10008682-1632337200-1632348000@vesglobal.org
SUMMARY:DUNE - Berlin\, Wednesday Sept. 22nd\, 7 pm
DESCRIPTION:VES Germany invites its members to a screening of\n\nDUNE\n\nin Berlin\n\n\nSCREENING DETAILS:\n\nWednesday Sept 22nd\, 19:00 CET\n\nCinestar CUBIX am Alexanderplatz\nRathausstraße 1\, 10178 Berlin\n(Closest subway station: S+U Alexanderplatz)\n\nCurrently\, tickets are limited to a total guest count of 10 people and will be allocated on a first come\, first served basis.\nWe might be able to reserve more if there’s enough demand.\n\n\n\n\n\nPlease be aware that the current Covid-19 regulations for Berlin apply.\nCurrently\, this measns that\n– You need to register with your contact details (this is possible with either the Luca app or by filling in a form which is available on the web page of the theatre\n– You need to wear either a medical or FFP2/N95 mask until seated.\nMore detailed information is available on the theatre’s web page here.
URL:https://vesglobal.org/event/dune-berlin-wednesday-sept-22nd-7-pm/
LOCATION:Cinestar CUBIX am Alexanderplatz\, Rathaussstrasse 1\, Berlin\, Berlin\, 10178\, Germany
CATEGORIES:Screening
ATTACH;FMTTYPE=image/jpeg:https://vesglobal.org/wp-content/uploads/2021/09/Dune_poster.jpg
ORGANIZER;CN="Germany":MAILTO:germanyboard@vesglobal.org
END:VEVENT
END:VCALENDAR