BEGIN:VCALENDAR
VERSION:2.0
PRODID:-//Visual Effects Society - ECPv6.15.20//NONSGML v1.0//EN
CALSCALE:GREGORIAN
METHOD:PUBLISH
X-WR-CALNAME:Visual Effects Society
X-ORIGINAL-URL:https://vesglobal.org
X-WR-CALDESC:Events for Visual Effects Society
REFRESH-INTERVAL;VALUE=DURATION:PT1H
X-Robots-Tag:noindex
X-PUBLISHED-TTL:PT1H
BEGIN:VTIMEZONE
TZID:America/Los_Angeles
BEGIN:DAYLIGHT
TZOFFSETFROM:-0800
TZOFFSETTO:-0700
TZNAME:PDT
DTSTART:20040404T100000
END:DAYLIGHT
BEGIN:STANDARD
TZOFFSETFROM:-0700
TZOFFSETTO:-0800
TZNAME:PST
DTSTART:20041031T090000
END:STANDARD
BEGIN:DAYLIGHT
TZOFFSETFROM:-0800
TZOFFSETTO:-0700
TZNAME:PDT
DTSTART:20050403T100000
END:DAYLIGHT
BEGIN:STANDARD
TZOFFSETFROM:-0700
TZOFFSETTO:-0800
TZNAME:PST
DTSTART:20051030T090000
END:STANDARD
BEGIN:DAYLIGHT
TZOFFSETFROM:-0800
TZOFFSETTO:-0700
TZNAME:PDT
DTSTART:20060402T100000
END:DAYLIGHT
BEGIN:STANDARD
TZOFFSETFROM:-0700
TZOFFSETTO:-0800
TZNAME:PST
DTSTART:20061029T090000
END:STANDARD
END:VTIMEZONE
BEGIN:VEVENT
DTSTART;TZID=America/Los_Angeles:20051207T123000
DTEND;TZID=America/Los_Angeles:20051207T123000
DTSTAMP:20260421T123125
CREATED:20051207T163300Z
LAST-MODIFIED:20051207T163300Z
UID:10006648-1133958600-1133958600@vesglobal.org
SUMMARY:Screening - King Kong- Los Angeles
DESCRIPTION:Los Angeles
URL:https://vesglobal.org/event/screening-king-kong-los-angeles/
ATTACH;FMTTYPE=image/jpeg:https://vesglobal.org/wp-content/uploads/2014/07/king-kong-poster_0.jpg
END:VEVENT
BEGIN:VEVENT
DTSTART;TZID=America/Los_Angeles:20051216T123000
DTEND;TZID=America/Los_Angeles:20051216T123000
DTSTAMP:20260421T123125
CREATED:20051216T162600Z
LAST-MODIFIED:20051216T162600Z
UID:10006647-1134736200-1134736200@vesglobal.org
SUMMARY:Screening - King Kong- Bay Area
DESCRIPTION:Bay Area
URL:https://vesglobal.org/event/screening-king-kong-bay-area/
CATEGORIES:Event
ATTACH;FMTTYPE=image/jpeg:https://vesglobal.org/wp-content/uploads/2014/07/king-kong-poster.jpg
END:VEVENT
END:VCALENDAR