BEGIN:VCALENDAR
VERSION:2.0
PRODID:-//Visual Effects Society - ECPv6.15.20//NONSGML v1.0//EN
CALSCALE:GREGORIAN
METHOD:PUBLISH
X-ORIGINAL-URL:https://vesglobal.org
X-WR-CALDESC:Events for Visual Effects Society
REFRESH-INTERVAL;VALUE=DURATION:PT1H
X-Robots-Tag:noindex
X-PUBLISHED-TTL:PT1H
BEGIN:VTIMEZONE
TZID:America/Los_Angeles
BEGIN:DAYLIGHT
TZOFFSETFROM:-0800
TZOFFSETTO:-0700
TZNAME:PDT
DTSTART:20040404T100000
END:DAYLIGHT
BEGIN:STANDARD
TZOFFSETFROM:-0700
TZOFFSETTO:-0800
TZNAME:PST
DTSTART:20041031T090000
END:STANDARD
BEGIN:DAYLIGHT
TZOFFSETFROM:-0800
TZOFFSETTO:-0700
TZNAME:PDT
DTSTART:20050403T100000
END:DAYLIGHT
BEGIN:STANDARD
TZOFFSETFROM:-0700
TZOFFSETTO:-0800
TZNAME:PST
DTSTART:20051030T090000
END:STANDARD
BEGIN:DAYLIGHT
TZOFFSETFROM:-0800
TZOFFSETTO:-0700
TZNAME:PDT
DTSTART:20060402T100000
END:DAYLIGHT
BEGIN:STANDARD
TZOFFSETFROM:-0700
TZOFFSETTO:-0800
TZNAME:PST
DTSTART:20061029T090000
END:STANDARD
END:VTIMEZONE
BEGIN:VEVENT
DTSTART;TZID=America/Los_Angeles:20050504T121500
DTEND;TZID=America/Los_Angeles:20050504T121500
DTSTAMP:20260421T220329
CREATED:20050504T151500Z
LAST-MODIFIED:20050504T151500Z
UID:10006644-1115208900-1115208900@vesglobal.org
SUMMARY:Screening - Hitch Hiker's Guide to the Galaxy - Los Angeles
DESCRIPTION:Los Angeles
URL:https://vesglobal.org/event/screening-hitch-hikers-guide-to-the-galaxy-los-angeles/
LOCATION:Quebec
ATTACH;FMTTYPE=image/jpeg:https://vesglobal.org/wp-content/uploads/2014/07/the_hitch_hikers_guid_to_the_galaxy_0.jpg
END:VEVENT
BEGIN:VEVENT
DTSTART;TZID=America/Los_Angeles:20050506T121500
DTEND;TZID=America/Los_Angeles:20050506T121500
DTSTAMP:20260421T220329
CREATED:20050506T141300Z
LAST-MODIFIED:20050506T141300Z
UID:10006232-1115381700-1115381700@vesglobal.org
SUMMARY:Screening - Hitch Hiker's Guide to the Galaxy- London
DESCRIPTION:Presentation with Angus Bickerton
URL:https://vesglobal.org/event/screening-hitch-hikers-guide-to-the-galaxy-london/
LOCATION:Quebec
CATEGORIES:Event
ATTACH;FMTTYPE=image/jpeg:https://vesglobal.org/wp-content/uploads/2014/07/the_hitch_hikers_guid_to_the_galaxy.jpg
END:VEVENT
BEGIN:VEVENT
DTSTART;TZID=America/Los_Angeles:20050506T190000
DTEND;TZID=America/Los_Angeles:20050506T210000
DTSTAMP:20260421T220329
CREATED:20050507T045300Z
LAST-MODIFIED:20050507T045300Z
UID:10006780-1115406000-1115413200@vesglobal.org
SUMMARY:Screening - The Hitch Hiker's Guide to the Galaxy
DESCRIPTION:VES London members are invited to Spyglass Entertainment’s \nThe Hitchhiker’s Guide to the Galaxy \nFollowed by a Q&A with VFX Supervisor Angus Bickerton
URL:https://vesglobal.org/event/screening-the-hitch-hikers-guide-to-the-galaxy/
LOCATION:Quebec
ATTACH;FMTTYPE=image/jpeg:https://vesglobal.org/wp-content/uploads/2014/08/hitchhikers.jpg
END:VEVENT
END:VCALENDAR