BEGIN:VCALENDAR
VERSION:2.0
PRODID:-//Visual Effects Society - ECPv6.15.20//NONSGML v1.0//EN
CALSCALE:GREGORIAN
METHOD:PUBLISH
X-ORIGINAL-URL:https://vesglobal.org
X-WR-CALDESC:Events for Visual Effects Society
REFRESH-INTERVAL;VALUE=DURATION:PT1H
X-Robots-Tag:noindex
X-PUBLISHED-TTL:PT1H
BEGIN:VTIMEZONE
TZID:America/Los_Angeles
BEGIN:DAYLIGHT
TZOFFSETFROM:-0800
TZOFFSETTO:-0700
TZNAME:PDT
DTSTART:20040404T100000
END:DAYLIGHT
BEGIN:STANDARD
TZOFFSETFROM:-0700
TZOFFSETTO:-0800
TZNAME:PST
DTSTART:20041031T090000
END:STANDARD
BEGIN:DAYLIGHT
TZOFFSETFROM:-0800
TZOFFSETTO:-0700
TZNAME:PDT
DTSTART:20050403T100000
END:DAYLIGHT
BEGIN:STANDARD
TZOFFSETFROM:-0700
TZOFFSETTO:-0800
TZNAME:PST
DTSTART:20051030T090000
END:STANDARD
BEGIN:DAYLIGHT
TZOFFSETFROM:-0800
TZOFFSETTO:-0700
TZNAME:PDT
DTSTART:20060402T100000
END:DAYLIGHT
BEGIN:STANDARD
TZOFFSETFROM:-0700
TZOFFSETTO:-0800
TZNAME:PST
DTSTART:20061029T090000
END:STANDARD
END:VTIMEZONE
BEGIN:VEVENT
DTSTART;TZID=America/Los_Angeles:20050305T100000
DTEND;TZID=America/Los_Angeles:20050305T123000
DTSTAMP:20260422T005540
CREATED:20050306T041200Z
LAST-MODIFIED:20050306T041200Z
UID:10006781-1110016800-1110025800@vesglobal.org
SUMMARY:Nuts and Bolts of Animated Feature Films
DESCRIPTION:“Nuts and Bolts of Animated Feature Films” \nGeared towards animation producers and VFX producers\, this seminar focused issues like budgeting and labor issues of 3D animation. Panelists were John Walker\, Producer\, The Incredibles\, Pixar Animation Studios; Amy Jupiter\, Co- Producer\, Open Season\, Sony Pictures Imageworks; Ellen Coss\, Associate Producer\, Over the Hedge\, Disney Animation; and Carolyn Soper\, Vice President\, Production\, Disney Animation. Coordinated by Janet Muswell Hamilton & Susan Zwerman. \nAs part of the VES Education Committee’s Behind the Scenes: Problem-Solving in Visual Effects Series  \nThis four-part series focused on the “problem-solving” skills employed by some of the top visual effects supervisors in their most recent projects. Real examples of production problems were cited and the audience was invited to develop their own solutions. Afterwards the experts presented and illustrated how the problem was actually solved. Presentations included Glenn Campbell\, VFX Supervisor\, Area 51;Rocco Gioffre\, Digital Matte Artist\, Svengali VFX;Jim Rygiel\, VFX Supervisor\, Lord of the Rings (Trilogy); and Michael Fink\, VFX Supervisor\, Constantine\, X-Men. Coordinated by Glenn Campbell & Art Durinski.  \nLocation: Otis College of Art & Design\n	9045 Lincoln Blvd\n	Los Angeles\, CA
URL:https://vesglobal.org/event/nuts-and-bolts-of-animated-feature-films/
LOCATION:Quebec
ATTACH;FMTTYPE=image/jpeg:https://vesglobal.org/wp-content/uploads/2014/08/2005vesannualreport-smallfile.jpg
END:VEVENT
BEGIN:VEVENT
DTSTART;TZID=America/Los_Angeles:20050326T100000
DTEND;TZID=America/Los_Angeles:20050326T130000
DTSTAMP:20260422T005540
CREATED:20050327T015200Z
LAST-MODIFIED:20050327T015200Z
UID:10006782-1111831200-1111842000@vesglobal.org
SUMMARY:Artistic Pitching for Animated Films
DESCRIPTION:“Artistic Pitching for Animated Films” \nSo what’s the BIG idea? This program covered how to develop animation pitches\, presentation materials\, studio procedures\, development process and dealing with rejection. The panel featured Frank Gladstone\, VP\, Artistic Development\, IDT Entertainment; Karen Foster\, Creative Executive\, DreamWorks Animation; Mark Andrews\, Director\, Pixar; Roland Poindexter\, Senior VP\, Animation Development\, Warner Bros.; Heather Kenyon\, Senior Director\, Cartoon Network; and Peter Gal\, Director of Development\, Nickelodeon. It was moderated by Frances Glebas\, Head of Story\, Disney Animation. Coordinated by Janet Muswell Hamilton & Susan Zwerman. \nAs part of the VES Education Committee’s Behind the Scenes: Problem-Solving in Visual Effects Series \nThis four-part series focused on the “problem-solving” skills employed by some of the top visual effects supervisors in their most recent projects. Real examples of production problems were cited and the audience was invited to develop their own solutions. Afterwards the experts presented and illustrated how the problem was actually solved. Presentations included Glenn Campbell\, VFX Supervisor\, Area 51;Rocco Gioffre\, Digital Matte Artist\, Svengali VFX;Jim Rygiel\, VFX Supervisor\, Lord of the Rings (Trilogy); and Michael Fink\, VFX Supervisor\, Constantine\, X-Men. Coordinated by Glenn Campbell & Art Durinski. 
URL:https://vesglobal.org/event/artistic-pitching-for-animated-films/
LOCATION:Quebec
ATTACH;FMTTYPE=image/jpeg:https://vesglobal.org/wp-content/uploads/2014/08/2005vesannualreport-smallfile_0.jpg
END:VEVENT
END:VCALENDAR