BEGIN:VCALENDAR
VERSION:2.0
PRODID:-//Visual Effects Society - ECPv6.15.20//NONSGML v1.0//EN
CALSCALE:GREGORIAN
METHOD:PUBLISH
X-ORIGINAL-URL:https://vesglobal.org
X-WR-CALDESC:Events for Visual Effects Society
REFRESH-INTERVAL;VALUE=DURATION:PT1H
X-Robots-Tag:noindex
X-PUBLISHED-TTL:PT1H
BEGIN:VTIMEZONE
TZID:America/Los_Angeles
BEGIN:DAYLIGHT
TZOFFSETFROM:-0800
TZOFFSETTO:-0700
TZNAME:PDT
DTSTART:20030406T100000
END:DAYLIGHT
BEGIN:STANDARD
TZOFFSETFROM:-0700
TZOFFSETTO:-0800
TZNAME:PST
DTSTART:20031026T090000
END:STANDARD
BEGIN:DAYLIGHT
TZOFFSETFROM:-0800
TZOFFSETTO:-0700
TZNAME:PDT
DTSTART:20040404T100000
END:DAYLIGHT
BEGIN:STANDARD
TZOFFSETFROM:-0700
TZOFFSETTO:-0800
TZNAME:PST
DTSTART:20041031T090000
END:STANDARD
BEGIN:DAYLIGHT
TZOFFSETFROM:-0800
TZOFFSETTO:-0700
TZNAME:PDT
DTSTART:20050403T100000
END:DAYLIGHT
BEGIN:STANDARD
TZOFFSETFROM:-0700
TZOFFSETTO:-0800
TZNAME:PST
DTSTART:20051030T090000
END:STANDARD
END:VTIMEZONE
BEGIN:VEVENT
DTSTART;TZID=America/Los_Angeles:20040618T090000
DTEND;TZID=America/Los_Angeles:20040620T170000
DTSTAMP:20260422T143328
CREATED:20040618T230300Z
LAST-MODIFIED:20040618T230300Z
UID:10005982-1087549200-1087750800@vesglobal.org
SUMMARY:VES 2004 A Festival of Visual Effects
DESCRIPTION:To all who love storytelling and the magic of visual effects: \nThis year marks the 6th Annual VES Festival.  Over the next three days only you and a very select group of people will get to experience not only billions of dollars of technology devoted to visual effects\, but also\, the people and stories behind their creation. \nAs you know\, VES is comprised of over 1000 global members who are distinguished visual effects artists and other experts in the field who are professionally committed to this unique industry of ours. \n	The Society provides its members with a platform for communication\, education\, and recognition of the current and future state of the visual effects industry. \n\n	Visit the Full 2004 VES Festival of Visual Effects Page
URL:https://vesglobal.org/event/ves-2004-a-festival-of-visual-effects/
LOCATION:Quebec
ATTACH;FMTTYPE=image/jpeg:https://vesglobal.org/wp-content/uploads/2014/06/04fest-md.jpg
END:VEVENT
END:VCALENDAR