BEGIN:VCALENDAR
VERSION:2.0
PRODID:-//Visual Effects Society - ECPv6.15.20//NONSGML v1.0//EN
CALSCALE:GREGORIAN
METHOD:PUBLISH
X-WR-CALNAME:Visual Effects Society
X-ORIGINAL-URL:https://vesglobal.org
X-WR-CALDESC:Events for Visual Effects Society
REFRESH-INTERVAL;VALUE=DURATION:PT1H
X-Robots-Tag:noindex
X-PUBLISHED-TTL:PT1H
BEGIN:VTIMEZONE
TZID:America/Los_Angeles
BEGIN:DAYLIGHT
TZOFFSETFROM:-0800
TZOFFSETTO:-0700
TZNAME:PDT
DTSTART:20030406T100000
END:DAYLIGHT
BEGIN:STANDARD
TZOFFSETFROM:-0700
TZOFFSETTO:-0800
TZNAME:PST
DTSTART:20031026T090000
END:STANDARD
BEGIN:DAYLIGHT
TZOFFSETFROM:-0800
TZOFFSETTO:-0700
TZNAME:PDT
DTSTART:20040404T100000
END:DAYLIGHT
BEGIN:STANDARD
TZOFFSETFROM:-0700
TZOFFSETTO:-0800
TZNAME:PST
DTSTART:20041031T090000
END:STANDARD
BEGIN:DAYLIGHT
TZOFFSETFROM:-0800
TZOFFSETTO:-0700
TZNAME:PDT
DTSTART:20050403T100000
END:DAYLIGHT
BEGIN:STANDARD
TZOFFSETFROM:-0700
TZOFFSETTO:-0800
TZNAME:PST
DTSTART:20051030T090000
END:STANDARD
END:VTIMEZONE
BEGIN:VEVENT
DTSTART;TZID=America/Los_Angeles:20040218T101500
DTEND;TZID=America/Los_Angeles:20040218T101500
DTSTAMP:20260422T195441
CREATED:20040218T172200Z
LAST-MODIFIED:20040218T172200Z
UID:10006170-1077099300-1077099300@vesglobal.org
SUMMARY:2nd Annual VES Awards
DESCRIPTION:Welcome to the Second Annual Visual Effects Society Awards. We are pleased that you could join us to celebrate the visual effects work done in the last year. With each passing year\, the bar is being raised. The quality and seamlessness of the work is exponentially increasing each and every year. It is hard to imagine where visual effects will take us in the next twenty-five minutes\, much less the next twenty-five years! \nAlthough we may not know where we are going\, we certainly know where we have come from and the path that has taken us here. On that journey\, there have been many bumps and bruises and failures\, but fortunately there have also been many stunning successes – beacons of light leading us all. From George Melies\, Willis O’Brien\, L.B. Abbott and Albert Whitlock to Chuck Csuri\, John Whitney\, Doug Trumbull\, Dennis Muren and all the other visual effects artist who have been great visionaries to light the way. \nThere is no person on the planet who has had more influence and impact on the contemporary visual effects storytelling than George Lucas. George has his fingerprints on almost every aspect of filmmaking\, utilizing visual effects to enhance the storytelling process. George has written\, produced and/or directed some of the most important visual effects films of our era including five Star Wars films (the sixth is in post)\, and three Indiana Jones films.\n	What makes George so special is his commitment to evolving the process. Would visual effects be the same if George had not built ILM…we doubt it. Would the 24P camera have come into being without George…maybe\, but not now. Would Pixar exist if George had not created it…who knows. George has had a hand in the development or invention of the ideas and technologies ranging from random access editing to digital projection and everything in between. The point is that George Lucas has created with his heart\, mind\, vision and wallet the opportunity for storytellers around the world to dream freely and know that their visions can become realities. Without George Lucas\, the spectrum of choices for filmmaking and visual effects would be far more limited. \nGeorge\, your personal desire to expand storytelling capabilities “outside the box” has literally built an industry and ignited untold imaginations. We are all indebted to you. You have made that which was once only in one’s imagination…a reality that can be achieved. \nIt is with the greatest of pleasure that the Visual Effects Society presents to you its first ever Lifetime Achievement Award. \nLocation: Hollywood Palladium 6215 Sunset Blvd. Hollywood\, CA 90028
URL:https://vesglobal.org/event/2nd-annual-ves-awards/
LOCATION:Quebec
ATTACH;FMTTYPE=image/jpeg:https://vesglobal.org/wp-content/uploads/2014/07/2ndannuallogo.jpg
END:VEVENT
END:VCALENDAR