BEGIN:VCALENDAR
VERSION:2.0
PRODID:-//Visual Effects Society - ECPv6.15.20//NONSGML v1.0//EN
CALSCALE:GREGORIAN
METHOD:PUBLISH
X-ORIGINAL-URL:https://vesglobal.org
X-WR-CALDESC:Events for Visual Effects Society
REFRESH-INTERVAL;VALUE=DURATION:PT1H
X-Robots-Tag:noindex
X-PUBLISHED-TTL:PT1H
BEGIN:VTIMEZONE
TZID:America/Los_Angeles
BEGIN:DAYLIGHT
TZOFFSETFROM:-0800
TZOFFSETTO:-0700
TZNAME:PDT
DTSTART:20020407T100000
END:DAYLIGHT
BEGIN:STANDARD
TZOFFSETFROM:-0700
TZOFFSETTO:-0800
TZNAME:PST
DTSTART:20021027T090000
END:STANDARD
BEGIN:DAYLIGHT
TZOFFSETFROM:-0800
TZOFFSETTO:-0700
TZNAME:PDT
DTSTART:20030406T100000
END:DAYLIGHT
BEGIN:STANDARD
TZOFFSETFROM:-0700
TZOFFSETTO:-0800
TZNAME:PST
DTSTART:20031026T090000
END:STANDARD
BEGIN:DAYLIGHT
TZOFFSETFROM:-0800
TZOFFSETTO:-0700
TZNAME:PDT
DTSTART:20040404T100000
END:DAYLIGHT
BEGIN:STANDARD
TZOFFSETFROM:-0700
TZOFFSETTO:-0800
TZNAME:PST
DTSTART:20041031T090000
END:STANDARD
END:VTIMEZONE
BEGIN:VEVENT
DTSTART;TZID=America/Los_Angeles:20030712T110000
DTEND;TZID=America/Los_Angeles:20030712T110000
DTSTAMP:20260423T065403
CREATED:20030712T145700Z
LAST-MODIFIED:20030712T145700Z
UID:10006635-1058007600-1058007600@vesglobal.org
SUMMARY:Screening - League of Exraordinary Gentlemen
DESCRIPTION:San Rafael Film Center
URL:https://vesglobal.org/event/screening-league-of-exraordinary-gentlemen/
LOCATION:Quebec
ATTACH;FMTTYPE=image/jpeg:https://vesglobal.org/wp-content/uploads/2014/07/the_league_of_extraordinary_gentlemen.jpg
END:VEVENT
BEGIN:VEVENT
DTSTART;TZID=America/Los_Angeles:20030714T110000
DTEND;TZID=America/Los_Angeles:20030714T110000
DTSTAMP:20260423T065403
CREATED:20030714T140300Z
LAST-MODIFIED:20030714T140300Z
UID:10006637-1058180400-1058180400@vesglobal.org
SUMMARY:Screening - League of Exraordinary Gentlemen
DESCRIPTION:Los Angeles
URL:https://vesglobal.org/event/screening-league-of-exraordinary-gentlemen-2/
LOCATION:Quebec
ATTACH;FMTTYPE=image/jpeg:https://vesglobal.org/wp-content/uploads/2014/07/the_league_of_extraordinary_gentlemen_0.jpg
END:VEVENT
BEGIN:VEVENT
DTSTART;TZID=America/Los_Angeles:20030718T193000
DTEND;TZID=America/Los_Angeles:20030718T193000
DTSTAMP:20260423T065403
CREATED:20030718T143300Z
LAST-MODIFIED:20030718T143300Z
UID:10006215-1058556600-1058556600@vesglobal.org
SUMMARY:Screening - Pirates of the Caribbean
DESCRIPTION:The Visual Effects Society in association with Walt Disney Studios\n	invites you and one guest\n	to attend the screening of\n	Disney’s \nPIRATES OF THE CARIBBEAN\n	THE CURSE OF THE BLACK PEARL \nPresentation to follow \nLos Angeles\n	Date: Friday July 18\n	Time: 7:30 PM\n	Location: Harmony Gold Theatre\, 
URL:https://vesglobal.org/event/screening-pirates-of-the-caribbean-2/
LOCATION:Quebec
ATTACH;FMTTYPE=image/jpeg:https://vesglobal.org/wp-content/uploads/2014/07/pirates_6.jpg
END:VEVENT
BEGIN:VEVENT
DTSTART;TZID=America/Los_Angeles:20030718T193000
DTEND;TZID=America/Los_Angeles:20030718T193000
DTSTAMP:20260423T065403
CREATED:20030718T143300Z
LAST-MODIFIED:20030718T143300Z
UID:10006643-1058556600-1058556600@vesglobal.org
SUMMARY:Screening - Pirates of the Caribbean
DESCRIPTION:The Visual Effects Society in association with Walt Disney Studios\n	invites you and one guest\n	to attend the screening of\n	Disney’s \nPIRATES OF THE CARIBBEAN\n	THE CURSE OF THE BLACK PEARL \nPresentation to follow \nLos Angeles\n	Date: Friday July 18\n	Time: 7:30 PM\n	Location: Harmony Gold Theatre\, 
URL:https://vesglobal.org/event/screening-pirates-of-the-caribbean/
LOCATION:Quebec
ATTACH;FMTTYPE=image/jpeg:https://vesglobal.org/wp-content/uploads/2014/07/pirates_6.jpg
END:VEVENT
END:VCALENDAR