BEGIN:VCALENDAR
VERSION:2.0
PRODID:-//Visual Effects Society - ECPv6.15.20//NONSGML v1.0//EN
CALSCALE:GREGORIAN
METHOD:PUBLISH
X-ORIGINAL-URL:https://vesglobal.org
X-WR-CALDESC:Events for Visual Effects Society
REFRESH-INTERVAL;VALUE=DURATION:PT1H
X-Robots-Tag:noindex
X-PUBLISHED-TTL:PT1H
BEGIN:VTIMEZONE
TZID:America/Los_Angeles
BEGIN:DAYLIGHT
TZOFFSETFROM:-0800
TZOFFSETTO:-0700
TZNAME:PDT
DTSTART:20020407T100000
END:DAYLIGHT
BEGIN:STANDARD
TZOFFSETFROM:-0700
TZOFFSETTO:-0800
TZNAME:PST
DTSTART:20021027T090000
END:STANDARD
BEGIN:DAYLIGHT
TZOFFSETFROM:-0800
TZOFFSETTO:-0700
TZNAME:PDT
DTSTART:20030406T100000
END:DAYLIGHT
BEGIN:STANDARD
TZOFFSETFROM:-0700
TZOFFSETTO:-0800
TZNAME:PST
DTSTART:20031026T090000
END:STANDARD
BEGIN:DAYLIGHT
TZOFFSETFROM:-0800
TZOFFSETTO:-0700
TZNAME:PDT
DTSTART:20040404T100000
END:DAYLIGHT
BEGIN:STANDARD
TZOFFSETFROM:-0700
TZOFFSETTO:-0800
TZNAME:PST
DTSTART:20041031T090000
END:STANDARD
END:VTIMEZONE
BEGIN:VEVENT
DTSTART;TZID=America/Los_Angeles:20030505T114500
DTEND;TZID=America/Los_Angeles:20030505T114500
DTSTAMP:20260423T100152
CREATED:20030505T144700Z
LAST-MODIFIED:20030505T144700Z
UID:10006223-1052135100-1052135100@vesglobal.org
SUMMARY:Screening - X2 X-Men United - Bay Area
DESCRIPTION:The Visual Effects Society invites you and one guest\n	to attend the San Francisco screening of\n	20th Century Fox\n	X2\n	X-MEN UNITED\n	Date: Monday May 5\, 2003\n	San Francisco\n	Time: 6:45 PM (new time)\n	Location: San Rafael Film Center\, 1118 Fourth St.\, San Rafael (415/454-1222 directions)
URL:https://vesglobal.org/event/screening-x2-x-men-united-bay-area/
LOCATION:Quebec
CATEGORIES:Event
ATTACH;FMTTYPE=image/jpeg:https://vesglobal.org/wp-content/uploads/2014/07/x2_xmen_united.jpg
END:VEVENT
BEGIN:VEVENT
DTSTART;TZID=America/Los_Angeles:20030505T184500
DTEND;TZID=America/Los_Angeles:20030505T184500
DTSTAMP:20260423T100152
CREATED:20030506T084500Z
LAST-MODIFIED:20030506T084500Z
UID:10006224-1052160300-1052160300@vesglobal.org
SUMMARY:Screening - X2 X-Men United - Los Angeles
DESCRIPTION:The Visual Effects Society invites you and one guest\n	to attend the San Francisco or Los Angeles screening of\n	20th Century Fox\n	X2\n	X-MEN UNITED\n	Date: Monday May 5\, 2003\n	San Francisco\n	Time: 6:45 PM (new time)\n	Location: San Rafael Film Center\, 1118 Fourth St.\, San Rafael (415/454-1222 directions) \nLos Angeles\n	Time: 7:30 PM\n	Location: LA Film School\, 6363 Sunset Blvd. (Corner of Sunset and Ivar)\n	 
URL:https://vesglobal.org/event/screening-x2-x-men-united-los-angeles/
LOCATION:Quebec
ATTACH;FMTTYPE=image/jpeg:https://vesglobal.org/wp-content/uploads/2014/07/x2_xmen_united_0.jpg
END:VEVENT
BEGIN:VEVENT
DTSTART;TZID=America/Los_Angeles:20030505T184500
DTEND;TZID=America/Los_Angeles:20030505T184500
DTSTAMP:20260423T100152
CREATED:20030506T084500Z
LAST-MODIFIED:20030506T084500Z
UID:10006226-1052160300-1052160300@vesglobal.org
SUMMARY:Screening - X2 X-Men United - Los Angeles
DESCRIPTION:The Visual Effects Society invites you and one guest\n	to attend the San Francisco or Los Angeles screening of\n	20th Century Fox\n	X2\n	X-MEN UNITED\n	Date: Monday May 5\, 2003\n	San Francisco\n	Time: 6:45 PM (new time)\n	Location: San Rafael Film Center\, 1118 Fourth St.\, San Rafael (415/454-1222 directions) \nLos Angeles\n	Time: 7:30 PM\n	Location: LA Film School\, 6363 Sunset Blvd. (Corner of Sunset and Ivar)\n	 
URL:https://vesglobal.org/event/screening-x2-x-men-united-los-angeles-2/
LOCATION:Quebec
ATTACH;FMTTYPE=image/jpeg:https://vesglobal.org/wp-content/uploads/2014/07/x2_xmen_united_1.jpg
END:VEVENT
BEGIN:VEVENT
DTSTART;TZID=America/Los_Angeles:20030519T193000
DTEND;TZID=America/Los_Angeles:20030519T193000
DTSTAMP:20260423T100152
CREATED:20030520T093000Z
LAST-MODIFIED:20030520T093000Z
UID:10006642-1053372600-1053372600@vesglobal.org
SUMMARY:Screening - The Matrix Reloaded
DESCRIPTION:The Visual Effects Society invites you and one guest\n	to attend the Los Angeles screening of\n	Warner Bros.\n	MATRIX RELOADED\n	Date: Monday May 19\, 2003\n	Time: 7:30 PM\n	Location: LA Film School\, 6363 Sunset Blvd. (Corner of Sunset and Ivar) \n	PLEASE READ THESE INSTRUCTIONS CAREFULLY WHEN RSVPING ANYONE NOT FOLLOWING THESE INSTRUCTIONS WILL NOT BE CONFIRMED.
URL:https://vesglobal.org/event/screening-the-matrix-reloaded/
LOCATION:Quebec
ATTACH;FMTTYPE=image/jpeg:https://vesglobal.org/wp-content/uploads/2014/07/poster_-_the_matrix_reloaded.jpg
END:VEVENT
END:VCALENDAR