BEGIN:VCALENDAR
VERSION:2.0
PRODID:-//Visual Effects Society - ECPv6.15.20//NONSGML v1.0//EN
CALSCALE:GREGORIAN
METHOD:PUBLISH
X-ORIGINAL-URL:https://vesglobal.org
X-WR-CALDESC:Events for Visual Effects Society
REFRESH-INTERVAL;VALUE=DURATION:PT1H
X-Robots-Tag:noindex
X-PUBLISHED-TTL:PT1H
BEGIN:VTIMEZONE
TZID:America/Los_Angeles
BEGIN:DAYLIGHT
TZOFFSETFROM:-0800
TZOFFSETTO:-0700
TZNAME:PDT
DTSTART:20020407T100000
END:DAYLIGHT
BEGIN:STANDARD
TZOFFSETFROM:-0700
TZOFFSETTO:-0800
TZNAME:PST
DTSTART:20021027T090000
END:STANDARD
BEGIN:DAYLIGHT
TZOFFSETFROM:-0800
TZOFFSETTO:-0700
TZNAME:PDT
DTSTART:20030406T100000
END:DAYLIGHT
BEGIN:STANDARD
TZOFFSETFROM:-0700
TZOFFSETTO:-0800
TZNAME:PST
DTSTART:20031026T090000
END:STANDARD
BEGIN:DAYLIGHT
TZOFFSETFROM:-0800
TZOFFSETTO:-0700
TZNAME:PDT
DTSTART:20040404T100000
END:DAYLIGHT
BEGIN:STANDARD
TZOFFSETFROM:-0700
TZOFFSETTO:-0800
TZNAME:PST
DTSTART:20041031T090000
END:STANDARD
END:VTIMEZONE
BEGIN:VEVENT
DTSTART;TZID=America/Los_Angeles:20030219T190000
DTEND;TZID=America/Los_Angeles:20030219T230000
DTSTAMP:20260423T134025
CREATED:20030220T011800Z
LAST-MODIFIED:20030220T011800Z
UID:10006166-1045681200-1045695600@vesglobal.org
SUMMARY:1st Annual VES Awards
DESCRIPTION:Location:\n	Skirball Cultural Center\n	2701 N. Sepulveda Blvd.\n	Los Angeles\, CA 90049 \nTo view the list of nominees and winners please visit our past awards page HERE.  \nWatch the 1st Annual VES Awards in it’s entirety below\n	(Available to VES Members Only: Log In Required) \n\n\n\n\n				\n\n\n\n				Watch NOW\n\n\n\nView Photos \n\n\n\n\n				\n\n\n\n				View Photos\n\n\n\n 
URL:https://vesglobal.org/event/1st-annual-ves-awards/
LOCATION:Quebec
ATTACH;FMTTYPE=image/jpeg:https://vesglobal.org/wp-content/uploads/2014/07/1st-annual-logo.jpg
END:VEVENT
END:VCALENDAR