BEGIN:VCALENDAR
VERSION:2.0
PRODID:-//Visual Effects Society - ECPv6.15.20//NONSGML v1.0//EN
CALSCALE:GREGORIAN
METHOD:PUBLISH
X-ORIGINAL-URL:https://vesglobal.org
X-WR-CALDESC:Events for Visual Effects Society
REFRESH-INTERVAL;VALUE=DURATION:PT1H
X-Robots-Tag:noindex
X-PUBLISHED-TTL:PT1H
BEGIN:VTIMEZONE
TZID:America/Los_Angeles
BEGIN:DAYLIGHT
TZOFFSETFROM:-0800
TZOFFSETTO:-0700
TZNAME:PDT
DTSTART:20010401T100000
END:DAYLIGHT
BEGIN:STANDARD
TZOFFSETFROM:-0700
TZOFFSETTO:-0800
TZNAME:PST
DTSTART:20011028T090000
END:STANDARD
BEGIN:DAYLIGHT
TZOFFSETFROM:-0800
TZOFFSETTO:-0700
TZNAME:PDT
DTSTART:20020407T100000
END:DAYLIGHT
BEGIN:STANDARD
TZOFFSETFROM:-0700
TZOFFSETTO:-0800
TZNAME:PST
DTSTART:20021027T090000
END:STANDARD
BEGIN:DAYLIGHT
TZOFFSETFROM:-0800
TZOFFSETTO:-0700
TZNAME:PDT
DTSTART:20030406T100000
END:DAYLIGHT
BEGIN:STANDARD
TZOFFSETFROM:-0700
TZOFFSETTO:-0800
TZNAME:PST
DTSTART:20031026T090000
END:STANDARD
END:VTIMEZONE
BEGIN:VEVENT
DTSTART;TZID=America/Los_Angeles:20021118T190000
DTEND;TZID=America/Los_Angeles:20021118T213000
DTSTAMP:20260423T170333
CREATED:20021119T090000Z
LAST-MODIFIED:20021119T090000Z
UID:10006301-1037646000-1037655000@vesglobal.org
SUMMARY:Screening - Harry Potter and the Chamber of Secrets (Los Angeles)
DESCRIPTION:VES Members and a guest are invited to a screening of Harry Potter and the Chamber of Secrets \nA Q&A with Jim Mitchel will immediately follow the screening \nLocation:\n	Los Angeles Film School\n	6363 Sunset Blvd.\n	Hollywood\, CA 90028
URL:https://vesglobal.org/event/screening-harry-potter-and-the-chamber-of-secrets-los-angeles/
LOCATION:Quebec
ATTACH;FMTTYPE=image/jpeg:https://vesglobal.org/wp-content/uploads/2014/07/hp-secrets.jpg
END:VEVENT
END:VCALENDAR