BEGIN:VCALENDAR
VERSION:2.0
PRODID:-//Visual Effects Society - ECPv6.15.20//NONSGML v1.0//EN
CALSCALE:GREGORIAN
METHOD:PUBLISH
X-WR-CALNAME:Visual Effects Society
X-ORIGINAL-URL:https://vesglobal.org
X-WR-CALDESC:Events for Visual Effects Society
REFRESH-INTERVAL;VALUE=DURATION:PT1H
X-Robots-Tag:noindex
X-PUBLISHED-TTL:PT1H
BEGIN:VTIMEZONE
TZID:America/Los_Angeles
BEGIN:DAYLIGHT
TZOFFSETFROM:-0800
TZOFFSETTO:-0700
TZNAME:PDT
DTSTART:20010401T100000
END:DAYLIGHT
BEGIN:STANDARD
TZOFFSETFROM:-0700
TZOFFSETTO:-0800
TZNAME:PST
DTSTART:20011028T090000
END:STANDARD
BEGIN:DAYLIGHT
TZOFFSETFROM:-0800
TZOFFSETTO:-0700
TZNAME:PDT
DTSTART:20020407T100000
END:DAYLIGHT
BEGIN:STANDARD
TZOFFSETFROM:-0700
TZOFFSETTO:-0800
TZNAME:PST
DTSTART:20021027T090000
END:STANDARD
BEGIN:DAYLIGHT
TZOFFSETFROM:-0800
TZOFFSETTO:-0700
TZNAME:PDT
DTSTART:20030406T100000
END:DAYLIGHT
BEGIN:STANDARD
TZOFFSETFROM:-0700
TZOFFSETTO:-0800
TZNAME:PST
DTSTART:20031026T090000
END:STANDARD
END:VTIMEZONE
BEGIN:VEVENT
DTSTART;TZID=America/Los_Angeles:20020221T190000
DTEND;TZID=America/Los_Angeles:20020221T210000
DTSTAMP:20260424T044107
CREATED:20020222T091200Z
LAST-MODIFIED:20020222T091200Z
UID:10006773-1014318000-1014325200@vesglobal.org
SUMMARY:2002 VES General Membership Meeting
DESCRIPTION:Location: Sony Imageworks \n\n	Agenda\nWelcome and Comments: Jim Morris\, Chair \n\n\n		Thanks to Michelle Minyon\, Ken Ralston\, Tim Sarnoff\, & Sony Imageworks for the use of their facilities\n\nExecutive Director Report: Tom Atkin\, Executive Director \nCommittee Reports \n\n\n		Financials (Verbal Report w/ Ray Scalice)\n\n		Membership (Bi-annual Reviews Reminder)\n\n		 Archives\n\n		Education/Website\n\n		Technology\n\n		VES News/Benefits\n\nHonorary Membership \n\n\n		VES 2002 in San Rafael/VES Euro\n\n		Presenters for San Rafael (verbal only)\n\n		Ticket Sales\n\nExpansion into Northern California \nEvents \n\n\n		Screening of THE TIME MACHINE- March 14th at the LA Film School\n\n		Ray Harryhausen Collectibles\n\n		VES Awards\n\nOld Business \nNew Business \nAdjournment
URL:https://vesglobal.org/event/2002-ves-general-membership-meeting/
LOCATION:Quebec
ATTACH;FMTTYPE=image/jpeg:https://vesglobal.org/wp-content/uploads/2014/08/oldlogo2_6.jpg
END:VEVENT
END:VCALENDAR