BEGIN:VCALENDAR
VERSION:2.0
PRODID:-//Visual Effects Society - ECPv6.15.20//NONSGML v1.0//EN
CALSCALE:GREGORIAN
METHOD:PUBLISH
X-WR-CALNAME:Visual Effects Society
X-ORIGINAL-URL:https://vesglobal.org
X-WR-CALDESC:Events for Visual Effects Society
REFRESH-INTERVAL;VALUE=DURATION:PT1H
X-Robots-Tag:noindex
X-PUBLISHED-TTL:PT1H
BEGIN:VTIMEZONE
TZID:America/Los_Angeles
BEGIN:DAYLIGHT
TZOFFSETFROM:-0800
TZOFFSETTO:-0700
TZNAME:PDT
DTSTART:19990404T100000
END:DAYLIGHT
BEGIN:STANDARD
TZOFFSETFROM:-0700
TZOFFSETTO:-0800
TZNAME:PST
DTSTART:19991031T090000
END:STANDARD
BEGIN:DAYLIGHT
TZOFFSETFROM:-0800
TZOFFSETTO:-0700
TZNAME:PDT
DTSTART:20000402T100000
END:DAYLIGHT
BEGIN:STANDARD
TZOFFSETFROM:-0700
TZOFFSETTO:-0800
TZNAME:PST
DTSTART:20001029T090000
END:STANDARD
BEGIN:DAYLIGHT
TZOFFSETFROM:-0800
TZOFFSETTO:-0700
TZNAME:PDT
DTSTART:20010401T100000
END:DAYLIGHT
BEGIN:STANDARD
TZOFFSETFROM:-0700
TZOFFSETTO:-0800
TZNAME:PST
DTSTART:20011028T090000
END:STANDARD
END:VTIMEZONE
BEGIN:VEVENT
DTSTART;TZID=America/Los_Angeles:20000714T120000
DTEND;TZID=America/Los_Angeles:20000716T200000
DTSTAMP:20260425T050732
CREATED:20000715T020000Z
LAST-MODIFIED:20000715T020000Z
UID:10005975-963576000-963777600@vesglobal.org
SUMMARY:VES 2000 Festival of Visual Effects
DESCRIPTION:Hollywood – The industry trade organization\, Visual Effects Society (VES) has announced its slate for the upcoming VESÔ 2000: A Festival of Visual Effects. This year’s event\, to be held at the Academy of Television Arts and Sciences\, Leonard H. Goldenson Theatre in North Hollywood\, July 14 – 16\, will feature presentations and discussions about the visual effects produced by the award-winning VFX teams from some of the current outstanding visual effects film and television productions. \nIn making the announcement\, Tom Atkin\, VES\, Executive Director\, explained\, “VES 2000 is not only just about rocket ships and dinosaurs. We’ve become the world’s best platform to educate the industry and public about the art of story-telling and how effects artists assist in bringing the director’s vision to the screen. In many instances\, we create images that don’t exist\, but\, if we do our job properly\, audiences can’t recognize our work. And\, that’s the way it should be.” \nWith stellar participants from around the world\, VES 2000 brings together leading visual effects masters and their award-winning VFX teams to discuss their artistry. Visual effects disciplines including examples of Matte Painting; Model & Miniature techniques; Stop-motion\, Motion-control\, 2D\, 3D\, modeling\, rendering\, shading\, scene building\, animation and special effects including practical and mechanical with illustrations of the artist’s work and how these elements are integrated seamlessly into the productions. \nSpeakers include visual effects professionals from ILM\, Sony Pictures Imageworks\, The Secret Lab and Mill Film with discussions about such motion pictures as “Gladiator\,” “U-571\,” “Hollow Man\,” “The Perfect Storm\,” “Mission to Mars\,” “Dinosaur\,” and “Chicken Run” as well as the Emmy-winning television programs\, “Gulliver’s Travels\,” “The Odyssey\,” “Alice in Wonderland” and “Merlin.” Friday evening’s discussion of “The Perfect Storm” will be followed by a screening of the film. On Saturday evening\, “Chicken Run” will be screened after a presentation of the making of the stop-motion feature. \n\n	Visit the Full 2000 VES Festival of Visual Effects Page
URL:https://vesglobal.org/event/ves-2000-festival-of-visual-effects/
LOCATION:Quebec
ATTACH;FMTTYPE=image/jpeg:https://vesglobal.org/wp-content/uploads/2014/07/fest00-md.jpg
END:VEVENT
END:VCALENDAR