BEGIN:VCALENDAR
VERSION:2.0
PRODID:-//Visual Effects Society - ECPv6.15.20//NONSGML v1.0//EN
CALSCALE:GREGORIAN
METHOD:PUBLISH
X-WR-CALNAME:Visual Effects Society
X-ORIGINAL-URL:https://vesglobal.org
X-WR-CALDESC:Events for Visual Effects Society
REFRESH-INTERVAL;VALUE=DURATION:PT1H
X-Robots-Tag:noindex
X-PUBLISHED-TTL:PT1H
BEGIN:VTIMEZONE
TZID:Asia/Kolkata
BEGIN:STANDARD
TZOFFSETFROM:+0530
TZOFFSETTO:+0530
TZNAME:IST
DTSTART:20250101T000000
END:STANDARD
END:VTIMEZONE
BEGIN:VTIMEZONE
TZID:America/New_York
BEGIN:DAYLIGHT
TZOFFSETFROM:-0500
TZOFFSETTO:-0400
TZNAME:EDT
DTSTART:20250309T070000
END:DAYLIGHT
BEGIN:STANDARD
TZOFFSETFROM:-0400
TZOFFSETTO:-0500
TZNAME:EST
DTSTART:20251102T060000
END:STANDARD
BEGIN:DAYLIGHT
TZOFFSETFROM:-0500
TZOFFSETTO:-0400
TZNAME:EDT
DTSTART:20260308T070000
END:DAYLIGHT
BEGIN:STANDARD
TZOFFSETFROM:-0400
TZOFFSETTO:-0500
TZNAME:EST
DTSTART:20261101T060000
END:STANDARD
BEGIN:DAYLIGHT
TZOFFSETFROM:-0500
TZOFFSETTO:-0400
TZNAME:EDT
DTSTART:20270314T070000
END:DAYLIGHT
BEGIN:STANDARD
TZOFFSETFROM:-0400
TZOFFSETTO:-0500
TZNAME:EST
DTSTART:20271107T060000
END:STANDARD
END:VTIMEZONE
BEGIN:VTIMEZONE
TZID:America/Los_Angeles
BEGIN:DAYLIGHT
TZOFFSETFROM:-0800
TZOFFSETTO:-0700
TZNAME:PDT
DTSTART:20250309T100000
END:DAYLIGHT
BEGIN:STANDARD
TZOFFSETFROM:-0700
TZOFFSETTO:-0800
TZNAME:PST
DTSTART:20251102T090000
END:STANDARD
BEGIN:DAYLIGHT
TZOFFSETFROM:-0800
TZOFFSETTO:-0700
TZNAME:PDT
DTSTART:20260308T100000
END:DAYLIGHT
BEGIN:STANDARD
TZOFFSETFROM:-0700
TZOFFSETTO:-0800
TZNAME:PST
DTSTART:20261101T090000
END:STANDARD
BEGIN:DAYLIGHT
TZOFFSETFROM:-0800
TZOFFSETTO:-0700
TZNAME:PDT
DTSTART:20270314T100000
END:DAYLIGHT
BEGIN:STANDARD
TZOFFSETFROM:-0700
TZOFFSETTO:-0800
TZNAME:PST
DTSTART:20271107T090000
END:STANDARD
END:VTIMEZONE
BEGIN:VTIMEZONE
TZID:Europe/Berlin
BEGIN:DAYLIGHT
TZOFFSETFROM:+0100
TZOFFSETTO:+0200
TZNAME:CEST
DTSTART:20250330T010000
END:DAYLIGHT
BEGIN:STANDARD
TZOFFSETFROM:+0200
TZOFFSETTO:+0100
TZNAME:CET
DTSTART:20251026T010000
END:STANDARD
BEGIN:DAYLIGHT
TZOFFSETFROM:+0100
TZOFFSETTO:+0200
TZNAME:CEST
DTSTART:20260329T010000
END:DAYLIGHT
BEGIN:STANDARD
TZOFFSETFROM:+0200
TZOFFSETTO:+0100
TZNAME:CET
DTSTART:20261025T010000
END:STANDARD
BEGIN:DAYLIGHT
TZOFFSETFROM:+0100
TZOFFSETTO:+0200
TZNAME:CEST
DTSTART:20270328T010000
END:DAYLIGHT
BEGIN:STANDARD
TZOFFSETFROM:+0200
TZOFFSETTO:+0100
TZNAME:CET
DTSTART:20271031T010000
END:STANDARD
END:VTIMEZONE
BEGIN:VEVENT
DTSTART;TZID=Asia/Kolkata:20260502T180000
DTEND;TZID=Asia/Kolkata:20260502T201700
DTSTAMP:20260421T031520
CREATED:20260413T193546Z
LAST-MODIFIED:20260413T193837Z
UID:10011686-1777744800-1777753020@vesglobal.org
SUMMARY:Screening - LEE CRONIN'S THE MUMMY (Mumbai)
DESCRIPTION:VES Members and Their Guests are Invited to a Screening of Warner Bros. Pictures’ LEE CRONIN’S THE MUMMY \nPlease RSVP below (VES members must login to RSVP)\nSaturday\, May 2\, 2026 at 6:00PM\nIndian Institute of Creative Technologies (IICT)\n4th Floor\, Phase II Building\, NFDC Campus\, 24\, Pedder Rd\, IT Colony\, Cumballa Hill\, Mumbai\, Maharashtra 400026\nClick here for a map \n***VES members please register your name in the “Attendee 1″ fields and guests in the subsequent Attendee fields*** \nIn an effort to prevent the spread of COVID-19\, we ask that you or your guests do not attend VES events if you are experiencing any symptoms or if you have been exposed to the virus. \nScreenings are overbooked to compensate for no-shows. Seating is limited and will be available on a first come\, first served basis. An RSVP does not guarantee seating. \nBy signing up for this on-site\, in-person screening/event sponsored by VES (Visual Effects Society)\, you willingly accept any potential inherent risks associated with COVID-19. VES cannot be held liable from any consequences that may transpire from said risk. Therefore\, signing up for this screening/event infers implied consent of yourself and your party and hereby indemnifies and holds harmless VES\, its directors\, its employees and any other affiliated persons from any adverse medical or financial impact that may result from our participation.
URL:https://vesglobal.org/event/screening-lee-cronins-the-mummy-mumbai/
LOCATION:Indian Institute of Creative Technologies\, 4th Floor\, Phase II Building\, NFDC Campus\, 24\, Pedder Rd\, IT Colony\, Cumballa Hill\, Mumbai\, Maharashtra\, 400026\, India
CATEGORIES:Screening
ATTACH;FMTTYPE=image/jpeg:https://vesglobal.org/wp-content/uploads/2026/04/lg-lee-cronins-the-mummy.jpg
END:VEVENT
BEGIN:VEVENT
DTSTART;TZID=America/New_York:20260503T140000
DTEND;TZID=America/New_York:20260503T161700
DTSTAMP:20260421T031520
CREATED:20260413T200024Z
LAST-MODIFIED:20260418T013729Z
UID:10011688-1777816800-1777825020@vesglobal.org
SUMMARY:Screening - LEE CRONIN'S THE MUMMY (Atlanta)
DESCRIPTION:VES Members and Their Guests are Invited to a Screening of Warner Bros. Pictures’ LEE CRONIN’S THE MUMMY \nPlease RSVP below (VES members must login to RSVP)\nSunday\, May 3\, 2026 at 2:00PM\nAurora Cineplex\, Theater #10\n5100 Commerce Parkway\, Roswell\, GA 30076\nClick here for a map. \n***VES members please register your name in the “Attendee 1″ fields and guests in the subsequent Attendee fields*** \nIn an effort to prevent the spread of COVID-19\, we ask that you or your guests do not attend VES events if you are experiencing any symptoms or if you have been exposed to the virus. \nScreenings are overbooked to compensate for no-shows. Seating is limited and will be available on a first come\, first served basis. An RSVP does not guarantee seating. \nBy signing up for this on-site\, in-person screening/event sponsored by VES (Visual Effects Society)\, you willingly accept any potential inherent risks associated with COVID-19. VES cannot be held liable from any consequences that may transpire from said risk. Therefore\, signing up for this screening/event infers implied consent of yourself and your party and hereby indemnifies and holds harmless VES\, its directors\, its employees and any other affiliated persons from any adverse medical or financial impact that may result from our participation.
URL:https://vesglobal.org/event/screening-lee-cronins-the-mummy-atlanta/
LOCATION:Aurora Cineplex\, 5100 Commerce Parkway\, Roswell\, GA\, 30076\, United States
CATEGORIES:Screening
ATTACH;FMTTYPE=image/jpeg:https://vesglobal.org/wp-content/uploads/2026/04/lg-lee-cronins-the-mummy.jpg
END:VEVENT
BEGIN:VEVENT
DTSTART;TZID=America/Los_Angeles:20260504T193000
DTEND;TZID=America/Los_Angeles:20260504T230000
DTSTAMP:20260421T031520
CREATED:20260410T171051Z
LAST-MODIFIED:20260410T171051Z
UID:10011678-1777923000-1777935600@vesglobal.org
SUMMARY:VES vs. VPA Trivia Night
DESCRIPTION:Think you know your movies?  \nPut your knowledge to the test at Vancouver’s ultimate film trivia night! \nJoin fellow VES and VPA members for an evening of drinks\, canapés\, laughs\, and competition—and compete for $350 in prizes. \nCome with a team\, bring a friend\, or join solo—we’ll match individuals with teams who need extra players. \nBrewhall | May 4 \nDoors: 6:30 PM | Trivia: 7:00 PM \nIt’s all about quick wits\, teamwork\, and bragging rights. \nDon’t miss this chance to show off your film expertise!
URL:https://vesglobal.org/event/ves-vs-vpa-trivia-night/
LOCATION:BREWHALL\, 97 E 2nd Ave\, Vancouver\, BC\, V5T 1B3\, Canada
CATEGORIES:Pub Night
ATTACH;FMTTYPE=image/png:https://vesglobal.org/wp-content/uploads/2026/04/Updated-Trivia-Poster.png
END:VEVENT
BEGIN:VEVENT
DTSTART;VALUE=DATE:20260505
DTEND;VALUE=DATE:20260510
DTSTAMP:20260421T031520
CREATED:20260120T203640Z
LAST-MODIFIED:20260326T182418Z
UID:10011610-1777953600-1778299199@vesglobal.org
SUMMARY:20% Off FMX 2026 Tickets for VES Members (Stuttgart)
DESCRIPTION:A limited number of VES members receive a 20% discount for Professional passes to FMX 2026 in Stuttgart! (VES members must login to request discount code.) \nTuesday\, May 5 to Friday\, May 8\nHaus der Wirtschaft\nWilli-Bleicher-Strasse 19\, Stuttgart 70174\nGermany \nFMX – Film & Media Exchange is Europe’s most influential conference dedicated to media & entertainment creation. It explores the latest in Animation\, Visual Effects (VFX) and Digital Media Production. With its international\, yet intimate atmosphere\, FMX offers professionals and students from around the world a unique platform to learn\, share\, network\, gain insights and mingle. \nFrom May 5 to 7\, 2026\, FMX will offer presentations\, panel discussions\, workshops\, and exhibition rooms On Site at Haus der Wirtschaft in Stuttgart. On May 8\, there will be exclusive Online sessions and a program On Campus at Filmakademie Baden-Württemberg and its Animationsinstitut. Most of the conference content will be available On Demand from May 9 to June 9. \nFilm and digital media have blended storytelling and technology since their inception\, with engineers providing artists with the tools to bring their ideas to life in ever new ways. \nThe most recent tool in the box is Artificial Intelligence\, triggering the latest in a series of transformations since the advent of the talkies 100 years ago. As with changing global markets and shifting audience behavior\, the key is adaptation: the creative industries have a history of constantly reinventing themselves – to be continued. \nFMX 2026 will set the stage for people who are shaping the future with their confidence\, resilience and creativity in the midst of the ongoing transformation.
URL:https://vesglobal.org/event/20-off-fmx-2026-tickets-for-ves-members-stuttgart/
LOCATION:Haus der Wirtschaft\, Willi-Bleicher-Strasse 19\, Stuttgart\, 70174\, Germany
CATEGORIES:Conference
ATTACH;FMTTYPE=image/png:https://vesglobal.org/wp-content/uploads/2026/01/FMX-2026_Date-Subtitel-Black.png
ORGANIZER;CN="VES HQ":MAILTO:info@vesglobal.org
END:VEVENT
BEGIN:VEVENT
DTSTART;TZID=America/New_York:20260506T190000
DTEND;TZID=America/New_York:20260506T230000
DTSTAMP:20260421T031520
CREATED:20260409T212431Z
LAST-MODIFIED:20260410T164126Z
UID:10011677-1778094000-1778108400@vesglobal.org
SUMMARY:VES Georgia (Atlanta) Meet Up Event - May 2026
DESCRIPTION:Raise a glass with VES Georgia!\nJoin the Atlanta VES community for a casual meet-up at My Parents’ Basement in Avondale Estates on Wednesday\, May 6th\, from 7:00 PM to close. \nWe’ll be on the patio\, so order from the bar or counter\, head outside\, and enjoy good company with fellow VES members and newcomers alike. Inside you’ll find pinball machines and the comic book shop\, so feel free to wander in and play between rounds. Whether you’re a longtime VES member or just arcade-curious\, all are welcome to come hang\, swap stories\, and maybe lose a few quarters to a pinball machine. \n📅 Wednesday\, May 6th 📅\n⏰ 7pm – 11pm ⏰\n📍 My Parents’ Basement 📍\n22 N Avondale Rd\nAvondale Estates\, GA 30002 \nPlease direct any questions and RSVP to georgia@vesglobal.org
URL:https://vesglobal.org/event/ves-georgia-atlanta-meet-up-event-may-2026/
LOCATION:My Parents’ Basement\, 22 N Avondale Rd\, Avondale Estates\, 30002\, United States
CATEGORIES:Pub Night
ATTACH;FMTTYPE=image/jpeg:https://vesglobal.org/wp-content/uploads/2025/08/VES_GA_Event082625_v01-2.jpg
END:VEVENT
END:VCALENDAR