BEGIN:VCALENDAR
VERSION:2.0
PRODID:-//Visual Effects Society - ECPv6.15.20//NONSGML v1.0//EN
CALSCALE:GREGORIAN
METHOD:PUBLISH
X-WR-CALNAME:Visual Effects Society
X-ORIGINAL-URL:https://vesglobal.org
X-WR-CALDESC:Events for Visual Effects Society
REFRESH-INTERVAL;VALUE=DURATION:PT1H
X-Robots-Tag:noindex
X-PUBLISHED-TTL:PT1H
BEGIN:VTIMEZONE
TZID:America/Los_Angeles
BEGIN:DAYLIGHT
TZOFFSETFROM:-0800
TZOFFSETTO:-0700
TZNAME:PDT
DTSTART:20050403T100000
END:DAYLIGHT
BEGIN:STANDARD
TZOFFSETFROM:-0700
TZOFFSETTO:-0800
TZNAME:PST
DTSTART:20051030T090000
END:STANDARD
BEGIN:DAYLIGHT
TZOFFSETFROM:-0800
TZOFFSETTO:-0700
TZNAME:PDT
DTSTART:20060402T100000
END:DAYLIGHT
BEGIN:STANDARD
TZOFFSETFROM:-0700
TZOFFSETTO:-0800
TZNAME:PST
DTSTART:20061029T090000
END:STANDARD
BEGIN:DAYLIGHT
TZOFFSETFROM:-0800
TZOFFSETTO:-0700
TZNAME:PDT
DTSTART:20070311T100000
END:DAYLIGHT
BEGIN:STANDARD
TZOFFSETFROM:-0700
TZOFFSETTO:-0800
TZNAME:PST
DTSTART:20071104T090000
END:STANDARD
BEGIN:DAYLIGHT
TZOFFSETFROM:-0800
TZOFFSETTO:-0700
TZNAME:PDT
DTSTART:20080309T100000
END:DAYLIGHT
BEGIN:STANDARD
TZOFFSETFROM:-0700
TZOFFSETTO:-0800
TZNAME:PST
DTSTART:20081102T090000
END:STANDARD
END:VTIMEZONE
BEGIN:VEVENT
DTSTART;TZID=America/Los_Angeles:20060215T103000
DTEND;TZID=America/Los_Angeles:20060215T103000
DTSTAMP:20260421T123527
CREATED:20060215T193000Z
LAST-MODIFIED:20060215T193000Z
UID:10006553-1139999400-1139999400@vesglobal.org
SUMMARY:4th Annual VES Awards
DESCRIPTION:Although this is the time of year when awards shows proliferate\, tonight you’ll witness something that none of the other shows have – billions of dollars’ worth of the most amazing visual effects you can possibly imagine. In fact\, I think you can say that the field of visual effects has truly come into its own and is now a major component in all facets of the entertainment industry. This is because virtually all delivered entertainment\, whether it is movies\, TV\, animation\, video games\, commercials\, or special venues use visual effects in one way or another. Whether you want to see King Kong swatting away bi-planes or to enjoy traveling back in time with the wizards of Guinness Beer\, you’ll need visual effects to tell you story. \nAs we admire the best work in visual effects for this past year\, and honor John Lasseter with the George Melies Award for Pioneering & Artistic Excellence and Jim Morris with the VES Board of Directors Award\, just remember\, if you want to know who the best visual artists in the world are\, just look around you – because they are right here in the room next to you! \nLocation: Hollywood Palladium 6215 Sunset Blvd. Hollywood\, CA 90028
URL:https://vesglobal.org/event/4th-annual-ves-awards/
ATTACH;FMTTYPE=image/jpeg:https://vesglobal.org/wp-content/uploads/2014/07/4th_annual_ves_awards_logo.jpg
END:VEVENT
BEGIN:VEVENT
DTSTART;TZID=America/Los_Angeles:20060505T130000
DTEND;TZID=America/Los_Angeles:20060505T130000
DTSTAMP:20260421T123527
CREATED:20060505T140200Z
LAST-MODIFIED:20060505T140200Z
UID:10006651-1146834000-1146834000@vesglobal.org
SUMMARY:Screening - Over The Hedge - Bay Area
DESCRIPTION:Bay Area – AMC Metreon
URL:https://vesglobal.org/event/screening-over-the-hedge-bay-area/
CATEGORIES:Event
ATTACH;FMTTYPE=image/jpeg:https://vesglobal.org/wp-content/uploads/2014/07/over_the_hedge.jpg
END:VEVENT
BEGIN:VEVENT
DTSTART;TZID=America/Los_Angeles:20060508T130000
DTEND;TZID=America/Los_Angeles:20060508T130000
DTSTAMP:20260421T123527
CREATED:20060508T140600Z
LAST-MODIFIED:20060508T140600Z
UID:10006653-1147093200-1147093200@vesglobal.org
SUMMARY:Screening - Over The Hedge - Vancouver
DESCRIPTION:Vancouver – The Paramount
URL:https://vesglobal.org/event/screening-over-the-hedge-vancouver/
CATEGORIES:Event
ATTACH;FMTTYPE=image/jpeg:https://vesglobal.org/wp-content/uploads/2014/07/over_the_hedge_1.jpg
END:VEVENT
BEGIN:VEVENT
DTSTART;TZID=America/Los_Angeles:20060510T131500
DTEND;TZID=America/Los_Angeles:20060510T131500
DTSTAMP:20260421T123527
CREATED:20060510T141100Z
LAST-MODIFIED:20060510T141100Z
UID:10006654-1147266900-1147266900@vesglobal.org
SUMMARY:Screening - Over The Hedge - Toronto
DESCRIPTION:Toronto
URL:https://vesglobal.org/event/screening-over-the-hedge-toronto/
CATEGORIES:Event
ATTACH;FMTTYPE=image/jpeg:https://vesglobal.org/wp-content/uploads/2014/07/over_the_hedge_2.jpg
END:VEVENT
BEGIN:VEVENT
DTSTART;TZID=America/Los_Angeles:20060516T130000
DTEND;TZID=America/Los_Angeles:20060516T130000
DTSTAMP:20260421T123527
CREATED:20060516T140500Z
LAST-MODIFIED:20060516T140500Z
UID:10006652-1147784400-1147784400@vesglobal.org
SUMMARY:Screening - Over The Hedge - Los Angeles
DESCRIPTION:Los Angeles – Pacific Grove
URL:https://vesglobal.org/event/screening-over-the-hedge-los-angeles/
ATTACH;FMTTYPE=image/jpeg:https://vesglobal.org/wp-content/uploads/2014/07/over_the_hedge_0.jpg
END:VEVENT
BEGIN:VEVENT
DTSTART;TZID=America/Los_Angeles:20060517T190000
DTEND;TZID=America/Los_Angeles:20060517T190000
DTSTAMP:20260421T123527
CREATED:20060517T140800Z
LAST-MODIFIED:20060517T140800Z
UID:10006669-1147892400-1147892400@vesglobal.org
SUMMARY:Screening - Poseidon- Bay Area
DESCRIPTION:PIXAR STUDIOS
URL:https://vesglobal.org/event/screening-poseidon-bay-area/
CATEGORIES:Event
ATTACH;FMTTYPE=image/jpeg:https://vesglobal.org/wp-content/uploads/2014/07/poseidon_2006_film_poster.jpg
END:VEVENT
BEGIN:VEVENT
DTSTART;TZID=America/Los_Angeles:20060610T133000
DTEND;TZID=America/Los_Angeles:20060610T133000
DTSTAMP:20260421T123527
CREATED:20060610T143000Z
LAST-MODIFIED:20060610T143000Z
UID:10006657-1149946200-1149946200@vesglobal.org
SUMMARY:Screening - Cars - Bay Area
DESCRIPTION:Cars
URL:https://vesglobal.org/event/screening-cars-bay-area/
ATTACH;FMTTYPE=image/jpeg:https://vesglobal.org/wp-content/uploads/2014/07/cars_0.jpg
END:VEVENT
BEGIN:VEVENT
DTSTART;TZID=America/Los_Angeles:20060619T193000
DTEND;TZID=America/Los_Angeles:20060619T193000
DTSTAMP:20260421T123527
CREATED:20060619T142600Z
LAST-MODIFIED:20060619T142600Z
UID:10006656-1150745400-1150745400@vesglobal.org
SUMMARY:Screening - Cars
DESCRIPTION:Los Angeles Film School
URL:https://vesglobal.org/event/screening-cars/
ATTACH;FMTTYPE=image/jpeg:https://vesglobal.org/wp-content/uploads/2014/07/cars.jpg
END:VEVENT
BEGIN:VEVENT
DTSTART;TZID=America/Los_Angeles:20060706T120000
DTEND;TZID=America/Los_Angeles:20060708T200000
DTSTAMP:20260421T123527
CREATED:20060707T020000Z
LAST-MODIFIED:20060707T020000Z
UID:10005986-1152187200-1152388800@vesglobal.org
SUMMARY:VES 2006 A Festival of Visual Effects
DESCRIPTION:This year marks the 8th annual VES Festival where you can see the visual effects magic behind SUPERMAN RETURNS\, CARS\, X-MEN\, THE LAST STAND and others.  You’ll also be treated to insider secrets from some of the top creators of animation and production design\, and get a chance to figuratively travel around the world as we showcase some of the best foreign visual effects work in our International VFX Panel. \nAlso\, this year we are excited to share with all of you some really incredible short films\, from the earliest experiments in computer graphics to the latest award-winning VFX and animation work. \nOver the course of three days we’ll go on an extraordinary visual journey that will delight your senses to their fullest.  Represented in 16 countries worldwide\, the VES has over 1400 members from the fields of film\, TV\, animation\, and computer gaming who continue to stretch the bounds of creative image making…More \n\n	Visit the Full 2006 VES Festival of Visual Effects Page
URL:https://vesglobal.org/event/ves-2006-a-festival-of-visual-effects/
ATTACH;FMTTYPE=image/jpeg:https://vesglobal.org/wp-content/uploads/2014/06/06fest-md.jpg
END:VEVENT
BEGIN:VEVENT
DTSTART;TZID=America/Los_Angeles:20060917T190000
DTEND;TZID=America/Los_Angeles:20060917T190000
DTSTAMP:20260421T123527
CREATED:20060917T145300Z
LAST-MODIFIED:20060917T145300Z
UID:10006665-1158519600-1158519600@vesglobal.org
SUMMARY:Screening - Pirates of the Caribbean: Dead Man's Chest - Bay Area
DESCRIPTION:Pirates of the Caribbean Dead Man’s Chest  \n7:00pm \n 
URL:https://vesglobal.org/event/screening-pirates-of-the-caribbean-dead-mans-chest-bay-area/
CATEGORIES:Event
ATTACH;FMTTYPE=image/jpeg:https://vesglobal.org/wp-content/uploads/2014/07/pirates_of_the_caribbean_2_poster_b.jpg
END:VEVENT
BEGIN:VEVENT
DTSTART;TZID=America/Los_Angeles:20060917T190000
DTEND;TZID=America/Los_Angeles:20060917T190000
DTSTAMP:20260421T123527
CREATED:20060917T145400Z
LAST-MODIFIED:20060917T145400Z
UID:10006667-1158519600-1158519600@vesglobal.org
SUMMARY:Screening - Pirates of the Caribbean: Dead Man's Chest - Los Angeles
DESCRIPTION:Pirates of the Caribbean:Dead Mans Chest \nLos Angeles Film School  \n7:00pm
URL:https://vesglobal.org/event/screening-pirates-of-the-caribbean-dead-mans-chest-los-angeles/
ATTACH;FMTTYPE=image/jpeg:https://vesglobal.org/wp-content/uploads/2014/07/pirates_of_the_caribbean_2_poster_b_0.jpg
END:VEVENT
BEGIN:VEVENT
DTSTART;TZID=America/Los_Angeles:20060925T131500
DTEND;TZID=America/Los_Angeles:20060925T131500
DTSTAMP:20260421T123527
CREATED:20060925T141900Z
LAST-MODIFIED:20060925T141900Z
UID:10006655-1159190100-1159190100@vesglobal.org
SUMMARY:Screening - Everyone's Hero
DESCRIPTION:Everyone’s Hero
URL:https://vesglobal.org/event/screening-everyones-hero/
ATTACH;FMTTYPE=image/jpeg:https://vesglobal.org/wp-content/uploads/2014/07/everyones_hero.jpg
END:VEVENT
BEGIN:VEVENT
DTSTART;TZID=America/Los_Angeles:20060926T124500
DTEND;TZID=America/Los_Angeles:20060926T124500
DTSTAMP:20260421T123527
CREATED:20060926T145500Z
LAST-MODIFIED:20060926T145500Z
UID:10006650-1159274700-1159274700@vesglobal.org
SUMMARY:Screening - Open Season
DESCRIPTION:Los Angeles – Pacific Grove
URL:https://vesglobal.org/event/screening-open-season/
ATTACH;FMTTYPE=image/jpeg:https://vesglobal.org/wp-content/uploads/2014/07/open_season.jpg
END:VEVENT
BEGIN:VEVENT
DTSTART;TZID=America/Los_Angeles:20061005T183000
DTEND;TZID=America/Los_Angeles:20061005T220000
DTSTAMP:20260421T123527
CREATED:20061005T235800Z
LAST-MODIFIED:20061005T235800Z
UID:10006786-1160073000-1160085600@vesglobal.org
SUMMARY:2006 General Membership Meeting
DESCRIPTION:Founders Award Recipient: Jonathan Erland \nCraig Barron Homage to Albert Whitlock with rare behind the scenes clips & interviews\n	Ray Harryhausen in person: Restoration and conversion to color of Merian C. Cooper’s (of King Kong’s Fame) 1935 feature SHE\n	Presentation of VES Founders’ Award to Jonathan Erland\n	Presentation by Richard Taylor (EA Games): Incredible World of Games \nLocation\n	Reception starts at 6:30 PM\n	The Academy of Motion Arts and Sciences’\n	Pickford Cent for Motion Pictures Studios\n	1313 North Vine Street (at Fountain)\, Hollywood\, CA
URL:https://vesglobal.org/event/2006-general-membership-meeting/
ATTACH;FMTTYPE=image/jpeg:https://vesglobal.org/wp-content/uploads/2014/08/2006-amm-banner.jpg
END:VEVENT
BEGIN:VEVENT
DTSTART;TZID=America/Los_Angeles:20061025T133000
DTEND;TZID=America/Los_Angeles:20061025T133000
DTSTAMP:20260421T123527
CREATED:20061025T143200Z
LAST-MODIFIED:20061025T143200Z
UID:10006659-1161783000-1161783000@vesglobal.org
SUMMARY:Screening - Flushed Away - London
DESCRIPTION:London
URL:https://vesglobal.org/event/screening-flushed-away-london/
CATEGORIES:Event
ATTACH;FMTTYPE=image/jpeg:https://vesglobal.org/wp-content/uploads/2014/07/flushed_away.jpg
END:VEVENT
BEGIN:VEVENT
DTSTART;TZID=America/Los_Angeles:20061119T124500
DTEND;TZID=America/Los_Angeles:20061119T124500
DTSTAMP:20260421T123527
CREATED:20061119T164600Z
LAST-MODIFIED:20061119T164600Z
UID:10006649-1163940300-1163940300@vesglobal.org
SUMMARY:Screening- Happy Feet
DESCRIPTION:Happy Feet
URL:https://vesglobal.org/event/screening-happy-feet/
ATTACH;FMTTYPE=image/jpeg:https://vesglobal.org/wp-content/uploads/2014/07/happy_feet_poster.jpg
END:VEVENT
BEGIN:VEVENT
DTSTART;TZID=America/Los_Angeles:20061119T133000
DTEND;TZID=America/Los_Angeles:20061119T133000
DTSTAMP:20260421T123527
CREATED:20061119T163500Z
LAST-MODIFIED:20061119T163500Z
UID:10006661-1163943000-1163943000@vesglobal.org
SUMMARY:Screening - Happy Feet - Bay Area
DESCRIPTION:Bay Area
URL:https://vesglobal.org/event/screening-happy-feet-bay-area/
CATEGORIES:Event
ATTACH;FMTTYPE=image/jpeg:https://vesglobal.org/wp-content/uploads/2014/07/happy_feet_poster_0.jpg
END:VEVENT
BEGIN:VEVENT
DTSTART;TZID=America/Los_Angeles:20061218T141500
DTEND;TZID=America/Los_Angeles:20061218T141500
DTSTAMP:20260421T123527
CREATED:20061218T161000Z
LAST-MODIFIED:20061218T161000Z
UID:10006671-1166451300-1166451300@vesglobal.org
SUMMARY:SCREENING - ROVING MARS
DESCRIPTION:LOS ANGELES
URL:https://vesglobal.org/event/screening-roving-mars/
ATTACH;FMTTYPE=image/jpeg:https://vesglobal.org/wp-content/uploads/2014/07/roving_mars.jpg
END:VEVENT
BEGIN:VEVENT
DTSTART;TZID=America/Los_Angeles:20061221T134500
DTEND;TZID=America/Los_Angeles:20061221T134500
DTSTAMP:20260421T123527
CREATED:20061221T164300Z
LAST-MODIFIED:20061221T164300Z
UID:10006663-1166708700-1166708700@vesglobal.org
SUMMARY:Screening - Pans Labyrinth - Bay Area
DESCRIPTION:Pan’s Labyrinth
URL:https://vesglobal.org/event/screening-pans-labyrinth-bay-area/
ATTACH;FMTTYPE=image/jpeg:https://vesglobal.org/wp-content/uploads/2014/07/pans_labyrinth.jpg
END:VEVENT
BEGIN:VEVENT
DTSTART;TZID=America/Los_Angeles:20070211T103000
DTEND;TZID=America/Los_Angeles:20070211T103000
DTSTAMP:20260421T123527
CREATED:20070212T001800Z
LAST-MODIFIED:20070212T001800Z
UID:10006554-1171189800-1171189800@vesglobal.org
SUMMARY:5th Annual VES Awards
DESCRIPTION:Since it was established a decade ago in 1997\, the Visual Effects Society (VES) has joined the ranks of the entertainment industry’s most respected guilds and societies.  With 1500 members in 16 countries\, the VES comprises a diverse group of artists\, producers\, model makers\, educators\, studio executives\, supervisors and public relations/ marketing specialists who produce visual effects for film\, television\, video games\, commercials\, animation and special venues.  Supported in the day-to-day affairs by an Executive Director and an elected Board of Directors\, the VES strives to enrich and educate its members through a multitude of events\, screenings and programs\, all organized by a small staff and numerous dedicated industry volunteers. \nThe VES Awards Show is the most prestigious event on the busy VES calendar\, as it pays special tribute to the legends and leaders of our field.  Now in its fifth incarnation\, the Annual Awards event offers a platform for peers to recognize and acknowledge the outstanding visual effects work of the previous year.  Dedicated volunteers from the VES Awards Committee oversee every facet of the event’s planning\, from vetting hundreds of award submissions\, and conducting all-day Nomination and Show and Tell events\, to producing the Awards show itself. \nIn addition to tonight’s festivities\, the VES produces an annual Festival of Visual Effects\, and its partner in the Filmmaker’s Festival in Frankfurt\, Germany and AnimfxNZ in Wellington\, New Zealand.  These festivals are evolving into must-attend events for visual effects professionals and fans alike.  Veterans\, students and the film-going public enjoy an array of panels and presentations illuminating the industry’s cutting-edge techniques\, historical accomplishments\, and current projects.  Past festivals have featured such far-ranging topics as the artistry of models and miniatures\, puppetry in the digital age\, as well as detailed “before and after” presentations for such shows as Lost\, Star Wars\, and Batman Returns (which included the actual Batmobile) and Cars\, for which we displayed the film’s Hudson. \nAs we celebrate our 10th anniversary\, the VES continues to grow and support the artists who inspire us daily. \nLocation: Kodak Grand Ballroom. Hollywood\, CA
URL:https://vesglobal.org/event/5th-annual-ves-awards/
ATTACH;FMTTYPE=image/jpeg:https://vesglobal.org/wp-content/uploads/2014/07/5th-annual-awards-logo.jpg
END:VEVENT
BEGIN:VEVENT
DTSTART;TZID=America/Los_Angeles:20070312T141500
DTEND;TZID=America/Los_Angeles:20070312T141500
DTSTAMP:20260421T123527
CREATED:20070312T142000Z
LAST-MODIFIED:20070312T142000Z
UID:10006675-1173708900-1173708900@vesglobal.org
SUMMARY:SCREENING - 300 - LOS ANGELES
DESCRIPTION:Los Angeles – Warner Bros. Room 12
URL:https://vesglobal.org/event/screening-300-los-angeles/
ATTACH;FMTTYPE=image/jpeg:https://vesglobal.org/wp-content/uploads/2014/07/300-movie-poster_0.jpg
END:VEVENT
BEGIN:VEVENT
DTSTART;TZID=America/Los_Angeles:20070315T141500
DTEND;TZID=America/Los_Angeles:20070315T141500
DTSTAMP:20260421T123527
CREATED:20070315T141600Z
LAST-MODIFIED:20070315T141600Z
UID:10006673-1173968100-1173968100@vesglobal.org
SUMMARY:SCREENING - 300 - BAY AREA
DESCRIPTION:PIXAR STUDIOS
URL:https://vesglobal.org/event/screening-300-bay-area/
CATEGORIES:Event
ATTACH;FMTTYPE=image/jpeg:https://vesglobal.org/wp-content/uploads/2014/07/300-movie-poster.jpg
END:VEVENT
BEGIN:VEVENT
DTSTART;TZID=America/Los_Angeles:20070607T193000
DTEND;TZID=America/Los_Angeles:20070610T203000
DTSTAMP:20260421T123527
CREATED:20070608T092100Z
LAST-MODIFIED:20070608T092100Z
UID:10005989-1181244600-1181507400@vesglobal.org
SUMMARY:VES 2007 A Festival of Visual Effects
DESCRIPTION:This year marks the 9th Annual VES Festival where you can see the creation of the visual effects magic in some of the year’s biggest releases\, as well as get a bird’s eye view of the VES 50 – the Most Infl uential Visual Effects Films of All Time. In addition to our many talented speakers this year\, we will be treated to the collective wit and wisdom of Academy Award Winners Richard Edlund\, Doug Trumbull\, John Dykstra\, Dennis Muren\, Ken Ralston and John Knoll for the VES 50 panel. I’d say that the term “cream of the crop” was invented for this group! \nVES now has over 1600 members in 17 countries\, so if you ever hear someone ask\, “Can that be done?” rest assured\, we’ve got someone\, somewhere who most certainly can get it done\, because we’re the VES and we can do anything\, anytime\, anywhere!…More \n\n	Visit the Full 2007 VES Festival of Visual Effects Page
URL:https://vesglobal.org/event/ves-2007-a-festival-of-visual-effects/
ATTACH;FMTTYPE=image/jpeg:https://vesglobal.org/wp-content/uploads/2014/06/07fest-md.jpg
END:VEVENT
BEGIN:VEVENT
DTSTART;TZID=America/Los_Angeles:20070702T154500
DTEND;TZID=America/Los_Angeles:20070702T154500
DTSTAMP:20260421T123527
CREATED:20070702T143900Z
LAST-MODIFIED:20070702T143900Z
UID:10006254-1183391100-1183391100@vesglobal.org
SUMMARY:SCREENING - RATATOUILLE - BAY AREA
DESCRIPTION:RATATOUILLE \nPIXAR STUDIOS
URL:https://vesglobal.org/event/screening-ratatouille-bay-area/
CATEGORIES:Event
ATTACH;FMTTYPE=image/jpeg:https://vesglobal.org/wp-content/uploads/2014/07/ratatouille_1.jpg
END:VEVENT
BEGIN:VEVENT
DTSTART;TZID=America/Los_Angeles:20070705T183000
DTEND;TZID=America/Los_Angeles:20070705T183000
DTSTAMP:20260421T123527
CREATED:20070705T141600Z
LAST-MODIFIED:20070705T141600Z
UID:10006259-1183660200-1183660200@vesglobal.org
SUMMARY:SCREENING - SHREK - LONDON
DESCRIPTION:PARAMOUNT PICTURES
URL:https://vesglobal.org/event/screening-shrek-london/
CATEGORIES:Event
ATTACH;FMTTYPE=image/jpeg:https://vesglobal.org/wp-content/uploads/2014/07/shrek_2001.jpg
END:VEVENT
BEGIN:VEVENT
DTSTART;TZID=America/Los_Angeles:20070707T154500
DTEND;TZID=America/Los_Angeles:20070707T154500
DTSTAMP:20260421T123527
CREATED:20070707T144300Z
LAST-MODIFIED:20070707T144300Z
UID:10006256-1183823100-1183823100@vesglobal.org
SUMMARY:SCREENING - RA
DESCRIPTION:PIXAR STUDIOS
URL:https://vesglobal.org/event/screening-ra/
CATEGORIES:Event
ATTACH;FMTTYPE=image/jpeg:https://vesglobal.org/wp-content/uploads/2014/07/ratatouille_2.jpg
END:VEVENT
BEGIN:VEVENT
DTSTART;TZID=America/Los_Angeles:20070707T163000
DTEND;TZID=America/Los_Angeles:20070707T163000
DTSTAMP:20260421T123527
CREATED:20070707T142600Z
LAST-MODIFIED:20070707T142600Z
UID:10006263-1183825800-1183825800@vesglobal.org
SUMMARY:SCREENING - TRANSFORMERS- LOS ANGELES
DESCRIPTION:LOS ANGELES FILM SCHOOL 
URL:https://vesglobal.org/event/screening-transformers-los-angeles/
ATTACH;FMTTYPE=image/jpeg:https://vesglobal.org/wp-content/uploads/2014/07/transformers_0-scaled.jpg
END:VEVENT
BEGIN:VEVENT
DTSTART;TZID=America/Los_Angeles:20070710T161500
DTEND;TZID=America/Los_Angeles:20070710T161500
DTSTAMP:20260421T123527
CREATED:20070710T142000Z
LAST-MODIFIED:20070710T142000Z
UID:10006261-1184084100-1184084100@vesglobal.org
SUMMARY:SCREENING - TRANSFORMERS- BAY AREA
DESCRIPTION:BAY AREA
URL:https://vesglobal.org/event/screening-transformers-bay-area/
CATEGORIES:Event
ATTACH;FMTTYPE=image/jpeg:https://vesglobal.org/wp-content/uploads/2014/07/transformers-scaled.jpg
END:VEVENT
BEGIN:VEVENT
DTSTART;TZID=America/Los_Angeles:20070712T190000
DTEND;TZID=America/Los_Angeles:20070712T190000
DTSTAMP:20260421T123527
CREATED:20070712T144900Z
LAST-MODIFIED:20070712T144900Z
UID:10006258-1184266800-1184266800@vesglobal.org
SUMMARY:SCREENING - RATATOUILLE - VANCOUVER
DESCRIPTION:Rainmaker Studios
URL:https://vesglobal.org/event/screening-ratatouille-vancouver/
CATEGORIES:Event
ATTACH;FMTTYPE=image/jpeg:https://vesglobal.org/wp-content/uploads/2014/07/ratatouille_3.jpg
END:VEVENT
BEGIN:VEVENT
DTSTART;TZID=America/Los_Angeles:20070716T193000
DTEND;TZID=America/Los_Angeles:20070716T193000
DTSTAMP:20260421T123527
CREATED:20070716T141500Z
LAST-MODIFIED:20070716T141500Z
UID:10006686-1184614200-1184614200@vesglobal.org
SUMMARY:SCREENING - HARRY POTTER AND THE ORDER OF THE PHOENIX - LOS ANGELES
DESCRIPTION:LOS ANGELES FILM SCHOOL
URL:https://vesglobal.org/event/screening-harry-potter-and-the-order-of-the-phoenix-los-angeles/
CATEGORIES:Event
ATTACH;FMTTYPE=image/jpeg:https://vesglobal.org/wp-content/uploads/2014/07/order_of_the_phoenix_0.jpg
END:VEVENT
END:VCALENDAR