BEGIN:VCALENDAR
VERSION:2.0
PRODID:-//Visual Effects Society - ECPv6.15.20//NONSGML v1.0//EN
CALSCALE:GREGORIAN
METHOD:PUBLISH
X-WR-CALNAME:Visual Effects Society
X-ORIGINAL-URL:https://vesglobal.org
X-WR-CALDESC:Events for Visual Effects Society
REFRESH-INTERVAL;VALUE=DURATION:PT1H
X-Robots-Tag:noindex
X-PUBLISHED-TTL:PT1H
BEGIN:VTIMEZONE
TZID:Australia/Adelaide
BEGIN:STANDARD
TZOFFSETFROM:+1030
TZOFFSETTO:+0930
TZNAME:ACST
DTSTART:20240406T163000
END:STANDARD
BEGIN:DAYLIGHT
TZOFFSETFROM:+0930
TZOFFSETTO:+1030
TZNAME:ACDT
DTSTART:20241005T163000
END:DAYLIGHT
BEGIN:STANDARD
TZOFFSETFROM:+1030
TZOFFSETTO:+0930
TZNAME:ACST
DTSTART:20250405T163000
END:STANDARD
BEGIN:DAYLIGHT
TZOFFSETFROM:+0930
TZOFFSETTO:+1030
TZNAME:ACDT
DTSTART:20251004T163000
END:DAYLIGHT
BEGIN:STANDARD
TZOFFSETFROM:+1030
TZOFFSETTO:+0930
TZNAME:ACST
DTSTART:20260404T163000
END:STANDARD
BEGIN:DAYLIGHT
TZOFFSETFROM:+0930
TZOFFSETTO:+1030
TZNAME:ACDT
DTSTART:20261003T163000
END:DAYLIGHT
END:VTIMEZONE
BEGIN:VEVENT
DTSTART;TZID=Australia/Adelaide:20250613T180000
DTEND;TZID=Australia/Adelaide:20250613T220000
DTSTAMP:20260421T032424
CREATED:20250523T050159Z
LAST-MODIFIED:20250612T110647Z
UID:10011206-1749837600-1749852000@vesglobal.org
SUMMARY:ADL- VES Adelaide Mixer @ The Jade
DESCRIPTION:       \nIt’s time to kick off a new year of connection\, creativity and community with our VES Adelaide members. \nVES members and a guest are invited to join us for drinks and sushi at The Jade. We’d love to build connections and strengthen our community. \nWhere: The Jade\,142-160 Flinders St\, Adelaide \nWhen: Friday\, 13th June 2025 \nTime: 6:00pm – 10pm \nAs mentioned plus one’s welcome\, but numbers are limited so don’t hesitate\, RSVP now! \nPlease let us know if you or your guest have any food intolerance. We will do our best to cater for them. \n[Please log-in to view the RSVP details] \nUPDATED – RSVP will close on Thursday 12th of June 2025
URL:https://vesglobal.org/event/adl-ves-adelaide-mixer-the-jade/
LOCATION:The Jade\, 142-160 Flinders Street\, Adelaide\, SA\, 5000\, Australia
CATEGORIES:Pub Night
END:VEVENT
END:VCALENDAR