BEGIN:VCALENDAR
VERSION:2.0
PRODID:-//Visual Effects Society - ECPv6.15.20//NONSGML v1.0//EN
CALSCALE:GREGORIAN
METHOD:PUBLISH
X-WR-CALNAME:Visual Effects Society
X-ORIGINAL-URL:https://vesglobal.org
X-WR-CALDESC:Events for Visual Effects Society
REFRESH-INTERVAL;VALUE=DURATION:PT1H
X-Robots-Tag:noindex
X-PUBLISHED-TTL:PT1H
BEGIN:VTIMEZONE
TZID:America/Los_Angeles
BEGIN:DAYLIGHT
TZOFFSETFROM:-0800
TZOFFSETTO:-0700
TZNAME:PDT
DTSTART:20240310T100000
END:DAYLIGHT
BEGIN:STANDARD
TZOFFSETFROM:-0700
TZOFFSETTO:-0800
TZNAME:PST
DTSTART:20241103T090000
END:STANDARD
BEGIN:DAYLIGHT
TZOFFSETFROM:-0800
TZOFFSETTO:-0700
TZNAME:PDT
DTSTART:20250309T100000
END:DAYLIGHT
BEGIN:STANDARD
TZOFFSETFROM:-0700
TZOFFSETTO:-0800
TZNAME:PST
DTSTART:20251102T090000
END:STANDARD
BEGIN:DAYLIGHT
TZOFFSETFROM:-0800
TZOFFSETTO:-0700
TZNAME:PDT
DTSTART:20260308T100000
END:DAYLIGHT
BEGIN:STANDARD
TZOFFSETFROM:-0700
TZOFFSETTO:-0800
TZNAME:PST
DTSTART:20261101T090000
END:STANDARD
END:VTIMEZONE
BEGIN:VTIMEZONE
TZID:America/New_York
BEGIN:DAYLIGHT
TZOFFSETFROM:-0500
TZOFFSETTO:-0400
TZNAME:EDT
DTSTART:20240310T070000
END:DAYLIGHT
BEGIN:STANDARD
TZOFFSETFROM:-0400
TZOFFSETTO:-0500
TZNAME:EST
DTSTART:20241103T060000
END:STANDARD
BEGIN:DAYLIGHT
TZOFFSETFROM:-0500
TZOFFSETTO:-0400
TZNAME:EDT
DTSTART:20250309T070000
END:DAYLIGHT
BEGIN:STANDARD
TZOFFSETFROM:-0400
TZOFFSETTO:-0500
TZNAME:EST
DTSTART:20251102T060000
END:STANDARD
BEGIN:DAYLIGHT
TZOFFSETFROM:-0500
TZOFFSETTO:-0400
TZNAME:EDT
DTSTART:20260308T070000
END:DAYLIGHT
BEGIN:STANDARD
TZOFFSETFROM:-0400
TZOFFSETTO:-0500
TZNAME:EST
DTSTART:20261101T060000
END:STANDARD
END:VTIMEZONE
BEGIN:VEVENT
DTSTART;TZID=America/Los_Angeles:20250504T105000
DTEND;TZID=America/Los_Angeles:20250504T140000
DTSTAMP:20260421T051457
CREATED:20250427T171752Z
LAST-MODIFIED:20250428T133716Z
UID:10011181-1746355800-1746367200@vesglobal.org
SUMMARY:Screening and Pub Event – Thunderbolts* (WASHINGTON)
DESCRIPTION:VES members are invited to a Movie & Pub Event\, hosted by the VES Washington Section Sunday\, May 4th\, 10:50am at Regal Issaquah Highlands for a screening of the Marvel Studio film THUNDERBOLTS*. \nVES Washington has purchased a limited number of reserved seating tickets to see a screening of THUNDERBOLTS*.  After the show\, we’ll convene at a nearby pub to discuss the movie and the enjoy the fellowship of our VES colleagues. \nPlease note that this is not one of our studio-sponsored screenings. The Washington Section has purchased these individually reserved seats\, so they will be available on a strict first-come\, first-served basis to VES members only. We have space for maximum 20 people to RSVP (log in and use the RSVP button below). Please get your RSVP in as soon as possible to ensure your spot.  \nIf you RSVP and then expect you won’t be able to attend (or have a problem with your RSVP)\, please let us know ASAP at washington@vesglobal.org so we can make space for someone else.  If you would like to bring a guest to the screening please contact us and we can coordinate seats with you.  Then you can purchase their tickets separately.  If you’re having trouble with RSVP\, send us an email and we’ll get you on the list.
URL:https://vesglobal.org/event/screening-and-pub-event-thunderbolts-washington/
LOCATION:Regal Issaquah Highlands\, 940 NE Park Drive\, Issaquah\, WA\, 98029\, United States
CATEGORIES:Pub Night,Screening
ATTACH;FMTTYPE=image/jpeg:https://vesglobal.org/wp-content/uploads/2025/04/thunderbolts-wheaties-box-poster-1.jpg
END:VEVENT
BEGIN:VEVENT
DTSTART;TZID=America/New_York:20250521T190000
DTEND;TZID=America/New_York:20250521T220000
DTSTAMP:20260421T051457
CREATED:20250509T163207Z
LAST-MODIFIED:20250509T163207Z
UID:10011192-1747854000-1747864800@vesglobal.org
SUMMARY:VES GA Meetup - Fireside Chat
DESCRIPTION:LET’S MEETUP!\nPlease join us for another great VES GA (ATLANTA) in-person event. We are kicking off our summer “Fireside Chat” series of events. These meetups will take our members and friends across metro Atlanta to local restaurants\, bars\, and parks. We hope to see you there! \nPlease direct any questions to  georgia@vesglobal.org
URL:https://vesglobal.org/event/ves-ga-meetup-fireside-chat/
LOCATION:Lazy Dog\, 4532 Ashford Dunwoody Road\, Dunwoody\, GA\, 30346\, United States
CATEGORIES:Pub Night
ATTACH;FMTTYPE=image/jpeg:https://vesglobal.org/wp-content/uploads/2025/05/VES_GA_FIreside_May2025.jpg
END:VEVENT
BEGIN:VEVENT
DTSTART;TZID=America/Los_Angeles:20250523T190000
DTEND;TZID=America/Los_Angeles:20250523T210000
DTSTAMP:20260421T051457
CREATED:20250519T035559Z
LAST-MODIFIED:20250519T040032Z
UID:10011212-1748026800-1748034000@vesglobal.org
SUMMARY:VES Oregon - 2025 Spring Pub Night!
DESCRIPTION:Welcome all VES Oregon Section Members! Please join us at the White Owl Social Club in Portland on Friday May 23rd at 7pm to visit with peers\, celebrate Spring\, and welcome new VES Members. Your first drink is on us! \nWhite Owl Social Club\n1305 SE 8th Ave\nPortland\, OR 97214
URL:https://vesglobal.org/event/ves-oregon-2025-spring-pub-night/
LOCATION:White Owl Social Club\, 1305 SE 8th Ave & Main\, Portland\, OR\, 97214\, United States
CATEGORIES:Pub Night
ATTACH;FMTTYPE=image/jpeg:https://vesglobal.org/wp-content/uploads/2025/05/Yellow-and-White-Simple-Minimalist-Happy-Hour-Instagram-Post-2.jpg
END:VEVENT
BEGIN:VEVENT
DTSTART;TZID=America/Los_Angeles:20250527T183000
DTEND;TZID=America/Los_Angeles:20250527T223000
DTSTAMP:20260421T051457
CREATED:20250425T194803Z
LAST-MODIFIED:20250425T195242Z
UID:10011180-1748370600-1748385000@vesglobal.org
SUMMARY:VES May Pub Night
DESCRIPTION:YOU ARE INVITED! ????VES MAY PUB NIGHT????\nJoin us for a great evening of conversation and drinks! \n???? Brewhall\, 97 East 2nd Avenue Vancouver\, BC V5T 1B3\n???? Tuesday\, May 27th\n⏰ 6:30 PM – Late????\n???? This time sponsored by: WildFX and UFX \nRSVP on Eventbrite – VES Members get their first drink free!\nSee you there! ????✨
URL:https://vesglobal.org/event/ves-vancouver-pub-night-may/
LOCATION:BREWHALL\, 97 E 2nd Ave\, Vancouver\, BC\, V5T 1B3\, Canada
CATEGORIES:Pub Night
ATTACH;FMTTYPE=image/png:https://vesglobal.org/wp-content/uploads/2025/04/VES-Pub-Night-1.png
END:VEVENT
BEGIN:VEVENT
DTSTART;TZID=America/Los_Angeles:20250527T190000
DTEND;TZID=America/Los_Angeles:20250527T230000
DTSTAMP:20260421T051457
CREATED:20250519T143857Z
LAST-MODIFIED:20250520T013210Z
UID:10011210-1748372400-1748386800@vesglobal.org
SUMMARY:VES Toronto - May 2025 Pub Night - Welcome New Members
DESCRIPTION:VES Toronto members and guests\, members of the VFX community\, please join us to share a drink\, and welcome our new VES members for the spring. \nFollowed by a special performance by Jason Spanu (aka FAME DIET) \nVES Members please LOG IN to access the PROMO CODE below for RSVP and a free drink ticket (feel free to bring a guest).  \nThere will be a limited number of tickets available to the public here – use promo code: PUBLIC \nPub Night: Welcoming New Members\nAT \nGround Control\, 1279 Queen St. West\nON \nTuesday May 27th at 7:00pm\nBrought to you by our Annual Sponsors & Special Event sponsors DELL & IMT\n**Guests must have their information in the guest ticket\, with no duplicate names.*** \nPlease have your QR Evite ticket on your phone or printed for quick check-in. \nVES members can bring a guest from the community\, and a limited number of tickets will be made available to the public. \nWe reserve the right to remove your ticket and accept entry only if you meet the above guest rules.
URL:https://vesglobal.org/event/ves-toronto-may-2025-pub-night-welcome-new-members/
LOCATION:Ground Control\, 1279 Queen St West\, Toronto\, Ontario
CATEGORIES:Pub Night
ATTACH;FMTTYPE=image/png:https://vesglobal.org/wp-content/uploads/2025/05/ves_may25_pubnight_poster_v04.png
END:VEVENT
END:VCALENDAR