BEGIN:VCALENDAR
VERSION:2.0
PRODID:-//Visual Effects Society - ECPv6.15.20//NONSGML v1.0//EN
CALSCALE:GREGORIAN
METHOD:PUBLISH
X-ORIGINAL-URL:https://vesglobal.org
X-WR-CALDESC:Events for Visual Effects Society
REFRESH-INTERVAL;VALUE=DURATION:PT1H
X-Robots-Tag:noindex
X-PUBLISHED-TTL:PT1H
BEGIN:VTIMEZONE
TZID:America/Los_Angeles
BEGIN:DAYLIGHT
TZOFFSETFROM:-0800
TZOFFSETTO:-0700
TZNAME:PDT
DTSTART:20240310T100000
END:DAYLIGHT
BEGIN:STANDARD
TZOFFSETFROM:-0700
TZOFFSETTO:-0800
TZNAME:PST
DTSTART:20241103T090000
END:STANDARD
BEGIN:DAYLIGHT
TZOFFSETFROM:-0800
TZOFFSETTO:-0700
TZNAME:PDT
DTSTART:20250309T100000
END:DAYLIGHT
BEGIN:STANDARD
TZOFFSETFROM:-0700
TZOFFSETTO:-0800
TZNAME:PST
DTSTART:20251102T090000
END:STANDARD
BEGIN:DAYLIGHT
TZOFFSETFROM:-0800
TZOFFSETTO:-0700
TZNAME:PDT
DTSTART:20260308T100000
END:DAYLIGHT
BEGIN:STANDARD
TZOFFSETFROM:-0700
TZOFFSETTO:-0800
TZNAME:PST
DTSTART:20261101T090000
END:STANDARD
END:VTIMEZONE
BEGIN:VTIMEZONE
TZID:Europe/London
BEGIN:DAYLIGHT
TZOFFSETFROM:+0000
TZOFFSETTO:+0100
TZNAME:BST
DTSTART:20240331T010000
END:DAYLIGHT
BEGIN:STANDARD
TZOFFSETFROM:+0100
TZOFFSETTO:+0000
TZNAME:GMT
DTSTART:20241027T010000
END:STANDARD
BEGIN:DAYLIGHT
TZOFFSETFROM:+0000
TZOFFSETTO:+0100
TZNAME:BST
DTSTART:20250330T010000
END:DAYLIGHT
BEGIN:STANDARD
TZOFFSETFROM:+0100
TZOFFSETTO:+0000
TZNAME:GMT
DTSTART:20251026T010000
END:STANDARD
BEGIN:DAYLIGHT
TZOFFSETFROM:+0000
TZOFFSETTO:+0100
TZNAME:BST
DTSTART:20260329T010000
END:DAYLIGHT
BEGIN:STANDARD
TZOFFSETFROM:+0100
TZOFFSETTO:+0000
TZNAME:GMT
DTSTART:20261025T010000
END:STANDARD
END:VTIMEZONE
BEGIN:VEVENT
DTSTART;TZID=America/Los_Angeles:20250317T190000
DTEND;TZID=America/Los_Angeles:20250317T220000
DTSTAMP:20260421T092316
CREATED:20250314T234453Z
LAST-MODIFIED:20250314T234709Z
UID:10011123-1742238000-1742248800@vesglobal.org
SUMMARY:VFX Mixer at the Game Developers Conference (GDC) in San Francisco
DESCRIPTION:On Monday 3/17/25 the VES Bay Area is co-sponsoring a VFX mixer in SF for GDC attendees. \nAll VES members are invited. Bring a friend! \nNo RSVP is necessary but the venue is 21+ so please bring your ID. \nSF pub night & GDC mixer\nMonarch SF\nMonday\, 3/17/25\, 7pm-10pm\n101 6th St.\, San Francisco (click here for directions) \nWe’ll provide drinks and light snacks. \nThis year the venue is larger so hopefully there will be no wait\, but come early to be sure.
URL:https://vesglobal.org/event/vfx-mixer-at-the-game-developers-conference-gdc-in-san-francisco/
LOCATION:Monarch SF\, 101 6th St.\, San Francisco\, CA\, 94127\, United States
CATEGORIES:Pub Night
ATTACH;FMTTYPE=image/jpeg:https://vesglobal.org/wp-content/uploads/2025/03/GDC-mixer-2025.jpg
END:VEVENT
BEGIN:VEVENT
DTSTART;TZID=Europe/London:20250318T060000
DTEND;TZID=Europe/London:20250318T230000
DTSTAMP:20260421T092316
CREATED:20250303T093211Z
LAST-MODIFIED:20250303T093211Z
UID:10011115-1742277600-1742338800@vesglobal.org
SUMMARY:VFX Industry outreach
DESCRIPTION:PLEASE COME AND JOIN US TO THIS NETWORKING INITIATIVE FOR EVERYBODY DIRECTLY OR INDIRECTLY MOVED BY THE RECENT CHANGES IN THE VFX INDUSTRY \nby 6 pm !
URL:https://vesglobal.org/event/vfx-industry-outreach/
LOCATION:Blue Post (81\, Newman St\, London W1T 3ET)\, 81\, Newman St.\, London\, London\, W1T 3ET\, United Kingdom
CATEGORIES:Meeting,Pub Night
ATTACH;FMTTYPE=image/jpeg:https://vesglobal.org/wp-content/uploads/2025/03/vfx_outreach_icon.jpg
ORGANIZER;CN="London":MAILTO:info@ves.london
END:VEVENT
END:VCALENDAR