BEGIN:VCALENDAR
VERSION:2.0
PRODID:-//Visual Effects Society - ECPv6.15.20//NONSGML v1.0//EN
CALSCALE:GREGORIAN
METHOD:PUBLISH
X-ORIGINAL-URL:https://vesglobal.org
X-WR-CALDESC:Events for Visual Effects Society
REFRESH-INTERVAL;VALUE=DURATION:PT1H
X-Robots-Tag:noindex
X-PUBLISHED-TTL:PT1H
BEGIN:VTIMEZONE
TZID:America/Los_Angeles
BEGIN:DAYLIGHT
TZOFFSETFROM:-0800
TZOFFSETTO:-0700
TZNAME:PDT
DTSTART:20230312T100000
END:DAYLIGHT
BEGIN:STANDARD
TZOFFSETFROM:-0700
TZOFFSETTO:-0800
TZNAME:PST
DTSTART:20231105T090000
END:STANDARD
BEGIN:DAYLIGHT
TZOFFSETFROM:-0800
TZOFFSETTO:-0700
TZNAME:PDT
DTSTART:20240310T100000
END:DAYLIGHT
BEGIN:STANDARD
TZOFFSETFROM:-0700
TZOFFSETTO:-0800
TZNAME:PST
DTSTART:20241103T090000
END:STANDARD
BEGIN:DAYLIGHT
TZOFFSETFROM:-0800
TZOFFSETTO:-0700
TZNAME:PDT
DTSTART:20250309T100000
END:DAYLIGHT
BEGIN:STANDARD
TZOFFSETFROM:-0700
TZOFFSETTO:-0800
TZNAME:PST
DTSTART:20251102T090000
END:STANDARD
END:VTIMEZONE
BEGIN:VTIMEZONE
TZID:America/New_York
BEGIN:DAYLIGHT
TZOFFSETFROM:-0500
TZOFFSETTO:-0400
TZNAME:EDT
DTSTART:20230312T070000
END:DAYLIGHT
BEGIN:STANDARD
TZOFFSETFROM:-0400
TZOFFSETTO:-0500
TZNAME:EST
DTSTART:20231105T060000
END:STANDARD
BEGIN:DAYLIGHT
TZOFFSETFROM:-0500
TZOFFSETTO:-0400
TZNAME:EDT
DTSTART:20240310T070000
END:DAYLIGHT
BEGIN:STANDARD
TZOFFSETFROM:-0400
TZOFFSETTO:-0500
TZNAME:EST
DTSTART:20241103T060000
END:STANDARD
BEGIN:DAYLIGHT
TZOFFSETFROM:-0500
TZOFFSETTO:-0400
TZNAME:EDT
DTSTART:20250309T070000
END:DAYLIGHT
BEGIN:STANDARD
TZOFFSETFROM:-0400
TZOFFSETTO:-0500
TZNAME:EST
DTSTART:20251102T060000
END:STANDARD
END:VTIMEZONE
BEGIN:VEVENT
DTSTART;TZID=America/Los_Angeles:20240718T190000
DTEND;TZID=America/Los_Angeles:20240718T220000
DTSTAMP:20260421T212631
CREATED:20240709T003450Z
LAST-MODIFIED:20240709T003450Z
UID:10009418-1721329200-1721340000@vesglobal.org
SUMMARY:VES Toronto - Pub Night - New Member Welcome - July 18th 2024 @ Paupers Pub
DESCRIPTION:VES Toronto members\, please grab a guest and join us for a special Pub Night on July 18th at Paupers Pub to give a warm welcome to our new VES Toronto members. \nFood and drink will be provided courtesy of our friends at Qumulo and our Annual Sponsors. Doors at 7pm. 539 Bloor St W near Bathurst TTC station. \nWe hope to see you there!Check your email for RSVP link.  \n*Note due to limited space\, this event is exclusively for active VES members and their guest. All attendees must be registered on the Eventbrite link to attend. Thanks!
URL:https://vesglobal.org/event/ves-toronto-pub-night-new-member-welcome-july-18th-2024-paupers-pub/
CATEGORIES:Pub Night
ATTACH;FMTTYPE=image/jpeg:https://vesglobal.org/wp-content/uploads/2015/05/ves_v03_800.jpg
END:VEVENT
BEGIN:VEVENT
DTSTART;TZID=America/New_York:20240731T183000
DTEND;TZID=America/New_York:20240731T213000
DTSTAMP:20260421T212631
CREATED:20240726T191615Z
LAST-MODIFIED:20240726T192045Z
UID:10010895-1722450600-1722461400@vesglobal.org
SUMMARY:VES GEORGIA MEETUP (ATLANTA)
DESCRIPTION:Please join us for another VES Georgia (ATLANTA) Meetup. We will be meeting Wednesday July 31st at Six Feet Under Pub and Fish House ( Cheshire Bridge location) from 6:30p-9:30p. Please swing by and catch up with old friends and meet some new ones. This is a open invite to all in the VFX community\, so spread the word. We look forward to seeing you there. \n  \nPlease note this will be a pay your own way event.
URL:https://vesglobal.org/event/ves-georgia-meetup-atlanta/
LOCATION:Six Feet Under\, 1824 Cheshire Bridge Rd NE\, Atlanta\, GA\, 30324\, United States
CATEGORIES:Pub Night
ATTACH;FMTTYPE=image/png:https://vesglobal.org/wp-content/uploads/2024/07/VES_GA_PUB_NIGHT_JULY2024.png
END:VEVENT
END:VCALENDAR