BEGIN:VCALENDAR
VERSION:2.0
PRODID:-//Visual Effects Society - ECPv6.15.20//NONSGML v1.0//EN
CALSCALE:GREGORIAN
METHOD:PUBLISH
X-ORIGINAL-URL:https://vesglobal.org
X-WR-CALDESC:Events for Visual Effects Society
REFRESH-INTERVAL;VALUE=DURATION:PT1H
X-Robots-Tag:noindex
X-PUBLISHED-TTL:PT1H
BEGIN:VTIMEZONE
TZID:America/Los_Angeles
BEGIN:DAYLIGHT
TZOFFSETFROM:-0800
TZOFFSETTO:-0700
TZNAME:PDT
DTSTART:20230312T100000
END:DAYLIGHT
BEGIN:STANDARD
TZOFFSETFROM:-0700
TZOFFSETTO:-0800
TZNAME:PST
DTSTART:20231105T090000
END:STANDARD
BEGIN:DAYLIGHT
TZOFFSETFROM:-0800
TZOFFSETTO:-0700
TZNAME:PDT
DTSTART:20240310T100000
END:DAYLIGHT
BEGIN:STANDARD
TZOFFSETFROM:-0700
TZOFFSETTO:-0800
TZNAME:PST
DTSTART:20241103T090000
END:STANDARD
BEGIN:DAYLIGHT
TZOFFSETFROM:-0800
TZOFFSETTO:-0700
TZNAME:PDT
DTSTART:20250309T100000
END:DAYLIGHT
BEGIN:STANDARD
TZOFFSETFROM:-0700
TZOFFSETTO:-0800
TZNAME:PST
DTSTART:20251102T090000
END:STANDARD
END:VTIMEZONE
BEGIN:VEVENT
DTSTART;TZID=America/Los_Angeles:20240607T190000
DTEND;TZID=America/Los_Angeles:20240607T220000
DTSTAMP:20260421T225046
CREATED:20240514T205324Z
LAST-MODIFIED:20240514T205324Z
UID:10010828-1717786800-1717797600@vesglobal.org
SUMMARY:VES Oregon Pub Night at Crux
DESCRIPTION:Please join us for a drink as we celebrate good weather returning the Pacific Northwest and meet other local VES members.  We will be at the Crux Fermentation Project in Portland from 7-10pm in the upstairs area. You will receive a drink ticket when you arrive. Parking is free\, plentiful\, and next to the building. \n  \n \nCrux Fermentation Project:  2715 SE 8th Ave\, Ste 175\, Portland\, Oregon
URL:https://vesglobal.org/event/ves-oregon-pub-night-at-crux/
LOCATION:Crux\, 2715 SE 8th Ave #175\, Portland\, OR\, 97202\, United States
CATEGORIES:Pub Night
END:VEVENT
BEGIN:VEVENT
DTSTART;TZID=America/Los_Angeles:20240615T101500
DTEND;TZID=America/Los_Angeles:20240615T133000
DTSTAMP:20260421T225046
CREATED:20240607T034005Z
LAST-MODIFIED:20240612T194507Z
UID:10009384-1718446500-1718458200@vesglobal.org
SUMMARY:Screening and Pub Event – Furiosa: A Mad Max Saga (WASHINGTON)
DESCRIPTION:VES members are invited to a Movie & Pub Event\, hosted by the VES Washington Section Saturday\, June 15\, 10:15am at AMC Loews Factoria 8 for a screening of FURIOSA: A MAD MAX SAGA. \nVES Washington has purchased a limited number of reserved seating tickets to see a screening of FURIOSA: A MAD MAX SAGA.  After the show\, we’ll convene at a nearby pub to discuss the movie and the enjoy the fellowship of our VES colleagues. \nPlease note that this is not one of our studio-sponsored screenings. The Washington Section has purchased these individually reserved seats\, so they will be available on a strict first-come\, first-served basis to VES members only. We have space for maximum 20 people to RSVP (log in and use the RSVP button below). Please get your RSVP in as soon as possible to ensure your spot.  \nIf you RSVP and then expect you won’t be able to attend (or have a problem with your RSVP)\, please let us know ASAP at washington@vesglobal.org so we can make space for someone else.  If you would like to bring a guest to the screening please contact us and we can coordinate seats with you.  Then you can purchase their tickets separately.  If you’re having trouble with RSVP\, send us an email and we’ll get you on the list.
URL:https://vesglobal.org/event/furiosa-2024-washington/
LOCATION:AMC Loews Factoria 8\, 3505 Factoria Blvd. SE\, Bellevue\, WA\, 98006\, United States
CATEGORIES:Pub Night,Screening
ATTACH;FMTTYPE=image/jpeg:https://vesglobal.org/wp-content/uploads/2024/05/lg-furiosa-a-mad-max-saga.jpg
END:VEVENT
BEGIN:VEVENT
DTSTART;TZID=America/Los_Angeles:20240626T183000
DTEND;TZID=America/Los_Angeles:20240626T230000
DTSTAMP:20260421T225046
CREATED:20240607T161953Z
LAST-MODIFIED:20240607T173537Z
UID:10009387-1719426600-1719442800@vesglobal.org
SUMMARY:***NEW DATE*** June Pub Night
DESCRIPTION:
URL:https://vesglobal.org/event/new-date-june-pub-night/
LOCATION:BREWHALL\, 97 E 2nd Ave\, Vancouver\, BC\, V5T 1B3\, Canada
CATEGORIES:Pub Night
ATTACH;FMTTYPE=image/png:https://vesglobal.org/wp-content/uploads/2024/06/VES-Pub-Night-June-26th-1.png
END:VEVENT
BEGIN:VEVENT
DTSTART;TZID=America/Los_Angeles:20240626T190000
DTEND;TZID=America/Los_Angeles:20240626T230000
DTSTAMP:20260421T225046
CREATED:20240608T143336Z
LAST-MODIFIED:20240614T135233Z
UID:10009381-1719428400-1719442800@vesglobal.org
SUMMARY:VES Toronto - BEHIND THE VFX - Round 1 - June 26th
DESCRIPTION:Join us to celebrate the talent we have right here in Toronto and the people behind the VFX we produce. Enjoy a drink as local VFX studios showcase their work and share their knowledge. \n\nBen King\, Partner/Head of CG at Herne Hill Media and Justin Bates will present their work from The First Omen\nSam Javanrouh\, VFX Supervisor and team at WeFX will present their photoreal chimp work from Fall Of The House Of Usher.\nTom Plaskett \, VFX Supervisor at Rocket Science VFX will present their work on the Usher house environment and collapse from Fall Of The House Of Usher\nModerated by Chris Hebert\, Senior Director\, Marketing\, SideFX\n\nBrought to you by our Annual VES Toronto Sponsors\, with thanks to presenters Herne Hill Media\, WeFX and Rocket Science VFX. \nRSVP HERE\n$15+fees for Non-VES members (includes drink ticket) / Free for VES members (Login and see below for promo code or check email)\nGuests must have their information in the guest ticket\, we do not accept duplicate names to hold spots \nPlease have your QR Evite ticket on your phone or printed for quick check-in. \nThis event is intended for VES members\, sponsors\, their guest and members of the VFX community. \nWe reserve the right to remove your ticket and refuse entry if you don’t meet the above rules. \nPlease cancel your booking if you don’t feel you can make it to the event to open a spot for someone else. Thanks! \n  \n \n  \n  \n 
URL:https://vesglobal.org/event/ves-toronto-behind-the-vfx-round-1-june-26th/
LOCATION:Ground Control\, 1279 Queen St West\, Toronto\, Ontario
CATEGORIES:Educational,Event,Pub Night
ATTACH;FMTTYPE=image/png:https://vesglobal.org/wp-content/uploads/2024/06/poster_v04_2048.png
END:VEVENT
END:VCALENDAR