BEGIN:VCALENDAR
VERSION:2.0
PRODID:-//Visual Effects Society - ECPv6.15.20//NONSGML v1.0//EN
CALSCALE:GREGORIAN
METHOD:PUBLISH
X-ORIGINAL-URL:https://vesglobal.org
X-WR-CALDESC:Events for Visual Effects Society
REFRESH-INTERVAL;VALUE=DURATION:PT1H
X-Robots-Tag:noindex
X-PUBLISHED-TTL:PT1H
BEGIN:VTIMEZONE
TZID:America/Chicago
BEGIN:DAYLIGHT
TZOFFSETFROM:-0600
TZOFFSETTO:-0500
TZNAME:CDT
DTSTART:20230312T080000
END:DAYLIGHT
BEGIN:STANDARD
TZOFFSETFROM:-0500
TZOFFSETTO:-0600
TZNAME:CST
DTSTART:20231105T070000
END:STANDARD
BEGIN:DAYLIGHT
TZOFFSETFROM:-0600
TZOFFSETTO:-0500
TZNAME:CDT
DTSTART:20240310T080000
END:DAYLIGHT
BEGIN:STANDARD
TZOFFSETFROM:-0500
TZOFFSETTO:-0600
TZNAME:CST
DTSTART:20241103T070000
END:STANDARD
BEGIN:DAYLIGHT
TZOFFSETFROM:-0600
TZOFFSETTO:-0500
TZNAME:CDT
DTSTART:20250309T080000
END:DAYLIGHT
BEGIN:STANDARD
TZOFFSETFROM:-0500
TZOFFSETTO:-0600
TZNAME:CST
DTSTART:20251102T070000
END:STANDARD
END:VTIMEZONE
BEGIN:VTIMEZONE
TZID:America/Los_Angeles
BEGIN:DAYLIGHT
TZOFFSETFROM:-0800
TZOFFSETTO:-0700
TZNAME:PDT
DTSTART:20230312T100000
END:DAYLIGHT
BEGIN:STANDARD
TZOFFSETFROM:-0700
TZOFFSETTO:-0800
TZNAME:PST
DTSTART:20231105T090000
END:STANDARD
BEGIN:DAYLIGHT
TZOFFSETFROM:-0800
TZOFFSETTO:-0700
TZNAME:PDT
DTSTART:20240310T100000
END:DAYLIGHT
BEGIN:STANDARD
TZOFFSETFROM:-0700
TZOFFSETTO:-0800
TZNAME:PST
DTSTART:20241103T090000
END:STANDARD
BEGIN:DAYLIGHT
TZOFFSETFROM:-0800
TZOFFSETTO:-0700
TZNAME:PDT
DTSTART:20250309T100000
END:DAYLIGHT
BEGIN:STANDARD
TZOFFSETFROM:-0700
TZOFFSETTO:-0800
TZNAME:PST
DTSTART:20251102T090000
END:STANDARD
END:VTIMEZONE
BEGIN:VEVENT
DTSTART;TZID=America/Chicago:20240511T170000
DTEND;TZID=America/Chicago:20240511T220000
DTSTAMP:20260422T000831
CREATED:20240417T141439Z
LAST-MODIFIED:20240417T150446Z
UID:10009340-1715446800-1715464800@vesglobal.org
SUMMARY:DFW Area Spring Meet Up!
DESCRIPTION:  \nHey Everyone! We’re having a meet up for the DFW area and north Texas members on May 11th! This event will be held at a private residence\, so an RSVP will be required if you plan to attend to receive the location. The Meet Up will be from 5:00 p.m. to 10:00 p.m.\, though you can leave earlier. Burgers and hot dogs will be provided\, but we ask you to bring either chips\, drinks\, pot luck side dish (store bought potato salad\, cole slaw\, etc. is fine! Donation/Tip jar for the host will be available). If you’re visiting the DFW area\, feel free to drop in and join us! (This event is members only.)
URL:https://vesglobal.org/event/dfw-area-spring-meet-up/
LOCATION:Private Residence\, TX\, United States
CATEGORIES:Pub Night
END:VEVENT
BEGIN:VEVENT
DTSTART;TZID=America/Los_Angeles:20240518T103000
DTEND;TZID=America/Los_Angeles:20240518T140000
DTSTAMP:20260422T000831
CREATED:20240508T033819Z
LAST-MODIFIED:20240517T051338Z
UID:10010823-1716028200-1716040800@vesglobal.org
SUMMARY:Screening and Pub Event – Kingdom of the Planet of the Apes (WASHINGTON)
DESCRIPTION:VES members are cordially invited to a Movie & Pub Event\, hosted by the VES Washington Section Saturday\, May 18\, at the Regal Issaquah Highlands (940 NE Park Drive\, Issaquah\, WA) for a screening of KINGDOM OF THE PLANET OF THE APES. \nVES-Washington has purchased a limited number of reserved seating tickets to see a screening of KINGDOM OF THE PLANET OF THE APES.  After the show\, we’ll convene at the nearby Ram Restaurant and Brewery to discuss the movie\, and the enjoy the fellowship of our VES colleagues. Showtime is  **10:30am.  Please arrive BEFORE 10:15 so we can be sure you’re admitted to the screening. \nPlease note that this is not one of our usual studio-sponsored screenings. The Washington Section has purchased these individually reserved seats\, so they will be available on a strict first-come\, first-served basis\, and to WA-VES members only (no guests). We have space for maximum 20 people to RSVP (use the RSVP button below). Please get your RSVP in as soon as possible to ensure your spot.  \nIf you RSVP and then expect you won’t be able to attend (or have a problem with your RSVP)\, please let us know ASAP at washington@vesglobal.org so we can make space for someone else.  If you would like to bring a guest to the same screening\, please purchase their tickets separately and contact us and we can coordinate seats.  If you’re having trouble logging in\, send us an email and we’ll get you on the list. \n**PLEASE NOTE TIME CHANGE: 10:30AM
URL:https://vesglobal.org/event/apes-2024-washington/
LOCATION:Regal Issaquah Highlands\, 940 NE Park Drive\, Issaquah\, WA\, 98029\, United States
CATEGORIES:Pub Night,Screening
ATTACH;FMTTYPE=image/jpeg:https://vesglobal.org/wp-content/uploads/2024/05/kindomoftheplanetoftheapes_sm.jpg
END:VEVENT
BEGIN:VEVENT
DTSTART;TZID=America/Chicago:20240518T150000
DTEND;TZID=America/Chicago:20240518T170000
DTSTAMP:20260422T000831
CREATED:20240416T170853Z
LAST-MODIFIED:20240513T200751Z
UID:10010799-1716044400-1716051600@vesglobal.org
SUMMARY:Austin Area Spring Meet Up! UPDATED!
DESCRIPTION:Hey Everyone! We’re having a meet up for the Austin area and south Texas members on May 18th\, at Easy Tiger! If you’re visiting the Austin area\, feel free to drop in and join us!
URL:https://vesglobal.org/event/austin-area-spring-meet-up-3/
LOCATION:Easy Tiger\, 6406 N. IH35 Frontage Rd\, Austin\, TX\, 78752\, United States
CATEGORIES:Pub Night
ATTACH;FMTTYPE=image/jpeg:https://vesglobal.org/wp-content/uploads/2024/04/AustinUpdate-1.jpg
END:VEVENT
END:VCALENDAR