BEGIN:VCALENDAR
VERSION:2.0
PRODID:-//Visual Effects Society - ECPv6.15.20//NONSGML v1.0//EN
CALSCALE:GREGORIAN
METHOD:PUBLISH
X-ORIGINAL-URL:https://vesglobal.org
X-WR-CALDESC:Events for Visual Effects Society
REFRESH-INTERVAL;VALUE=DURATION:PT1H
X-Robots-Tag:noindex
X-PUBLISHED-TTL:PT1H
BEGIN:VTIMEZONE
TZID:America/Los_Angeles
BEGIN:DAYLIGHT
TZOFFSETFROM:-0800
TZOFFSETTO:-0700
TZNAME:PDT
DTSTART:20230312T100000
END:DAYLIGHT
BEGIN:STANDARD
TZOFFSETFROM:-0700
TZOFFSETTO:-0800
TZNAME:PST
DTSTART:20231105T090000
END:STANDARD
BEGIN:DAYLIGHT
TZOFFSETFROM:-0800
TZOFFSETTO:-0700
TZNAME:PDT
DTSTART:20240310T100000
END:DAYLIGHT
BEGIN:STANDARD
TZOFFSETFROM:-0700
TZOFFSETTO:-0800
TZNAME:PST
DTSTART:20241103T090000
END:STANDARD
BEGIN:DAYLIGHT
TZOFFSETFROM:-0800
TZOFFSETTO:-0700
TZNAME:PDT
DTSTART:20250309T100000
END:DAYLIGHT
BEGIN:STANDARD
TZOFFSETFROM:-0700
TZOFFSETTO:-0800
TZNAME:PST
DTSTART:20251102T090000
END:STANDARD
END:VTIMEZONE
BEGIN:VTIMEZONE
TZID:Europe/Paris
BEGIN:DAYLIGHT
TZOFFSETFROM:+0100
TZOFFSETTO:+0200
TZNAME:CEST
DTSTART:20230326T010000
END:DAYLIGHT
BEGIN:STANDARD
TZOFFSETFROM:+0200
TZOFFSETTO:+0100
TZNAME:CET
DTSTART:20231029T010000
END:STANDARD
BEGIN:DAYLIGHT
TZOFFSETFROM:+0100
TZOFFSETTO:+0200
TZNAME:CEST
DTSTART:20240331T010000
END:DAYLIGHT
BEGIN:STANDARD
TZOFFSETFROM:+0200
TZOFFSETTO:+0100
TZNAME:CET
DTSTART:20241027T010000
END:STANDARD
BEGIN:DAYLIGHT
TZOFFSETFROM:+0100
TZOFFSETTO:+0200
TZNAME:CEST
DTSTART:20250330T010000
END:DAYLIGHT
BEGIN:STANDARD
TZOFFSETFROM:+0200
TZOFFSETTO:+0100
TZNAME:CET
DTSTART:20251026T010000
END:STANDARD
END:VTIMEZONE
BEGIN:VTIMEZONE
TZID:Australia/Sydney
BEGIN:STANDARD
TZOFFSETFROM:+1100
TZOFFSETTO:+1000
TZNAME:AEST
DTSTART:20230401T160000
END:STANDARD
BEGIN:DAYLIGHT
TZOFFSETFROM:+1000
TZOFFSETTO:+1100
TZNAME:AEDT
DTSTART:20230930T160000
END:DAYLIGHT
BEGIN:STANDARD
TZOFFSETFROM:+1100
TZOFFSETTO:+1000
TZNAME:AEST
DTSTART:20240406T160000
END:STANDARD
BEGIN:DAYLIGHT
TZOFFSETFROM:+1000
TZOFFSETTO:+1100
TZNAME:AEDT
DTSTART:20241005T160000
END:DAYLIGHT
BEGIN:STANDARD
TZOFFSETFROM:+1100
TZOFFSETTO:+1000
TZNAME:AEST
DTSTART:20250405T160000
END:STANDARD
BEGIN:DAYLIGHT
TZOFFSETFROM:+1000
TZOFFSETTO:+1100
TZNAME:AEDT
DTSTART:20251004T160000
END:DAYLIGHT
END:VTIMEZONE
BEGIN:VEVENT
DTSTART;TZID=America/Los_Angeles:20240301T190000
DTEND;TZID=America/Los_Angeles:20240301T220000
DTSTAMP:20260422T042409
CREATED:20240228T041850Z
LAST-MODIFIED:20240228T041850Z
UID:10010753-1709319600-1709330400@vesglobal.org
SUMMARY:Member recruitment meet and greet
DESCRIPTION:Friday\, March 1 · 7 – 10pm PST \nMembers\, please bring along friends that maybe interested in joining the VES. \nOne drink ticket per person \nand some snacks to nosh on. \nLocation\nAll Season Brewing Company \n800 South La Brea Avenue Los Angeles\, CA 90036 \n \n 
URL:https://vesglobal.org/event/member-recruitment-meet-and-greet/
CATEGORIES:Pub Night
ATTACH;FMTTYPE=image/png:https://vesglobal.org/wp-content/uploads/2024/02/unnamed.png
END:VEVENT
BEGIN:VEVENT
DTSTART;TZID=Europe/Paris:20240304T193000
DTEND;TZID=Europe/Paris:20240304T230000
DTSTAMP:20260422T042409
CREATED:20240229T084034Z
LAST-MODIFIED:20240229T084034Z
UID:10010754-1709580600-1709593200@vesglobal.org
SUMMARY:VES FRANCE RECRUITMENT PARTY
DESCRIPTION:Hello Fellow Members\, \nAfter the excitement of the Awards period\, it’s time for recruitment! \nWe are delighted to invite you to our traditional VES RECRUITMENT PARTY\, \non Wednesday\, March 6th\, at BREWDOG\, 1 Place de Thorigny\, 75003 PARIS from 7.30pm \nOn the agenda: various beers\, pizzas\, but most importantly\, the opportunity to meet potential candidates. \nFeel free to introduce us to eligible individuals to join our ranks and expand our organization. \nLooking forward to seeing you there! \nA Mercredi ! \n  \nThe VES France Board of Managers
URL:https://vesglobal.org/event/ves-france-recruitment-party-2/
LOCATION:BREWDOG\, 1\, place de Thorigny\, Paris\, Select a State:\, 75003\, France
CATEGORIES:Pub Night
END:VEVENT
BEGIN:VEVENT
DTSTART;TZID=Australia/Sydney:20240308T183000
DTEND;TZID=Australia/Sydney:20240308T213000
DTSTAMP:20260422T042409
CREATED:20240225T223418Z
LAST-MODIFIED:20240225T224918Z
UID:10010752-1709922600-1709933400@vesglobal.org
SUMMARY:SYD - Autumn Membership Mixer 2024
DESCRIPTION:Please join us for our Autumn Membership Mixer of 2024! \nYou are invited to The Trinity Bar to have a drink\, unwind and catch up with the Sydney VES community!  \nPlus ones are welcome! This is a great opportunity to bring along potential new members to come see what all the fuss is about.  \nWhere: The Trinity\, Level 2\, 505 Crown St\, Surry Hills NSW 2010 \nWhen: Friday 8th of March \nTime: 6:30pm onwards \nAs mentioned above plus one’s welcome\, but numbers are limited so don’t hesitate\, RSVP now! \n[Please log-in to view the RSVP details]
URL:https://vesglobal.org/event/syd-autumn-membership-mixer-2024/
LOCATION:The Trinity Pub\, 505 Crown St\, Surry Hills\, NSW\, 2010\, Australia
CATEGORIES:Pub Night
ATTACH;FMTTYPE=image/jpeg:https://vesglobal.org/wp-content/uploads/2024/02/trinity_poster-e1708900363892.jpeg
END:VEVENT
BEGIN:VEVENT
DTSTART;TZID=America/Los_Angeles:20240318T190000
DTEND;TZID=America/Los_Angeles:20240318T220000
DTSTAMP:20260422T042409
CREATED:20240308T231710Z
LAST-MODIFIED:20240311T190902Z
UID:10010763-1710788400-1710799200@vesglobal.org
SUMMARY:VES Mixer at GDC 2024
DESCRIPTION:The VES Bay Area welcomes GDC attendees to San Francisco \n  \n      \n  \nThe Visual Effects Society is proud to co-sponsor the Real-Time VFX mixer at GDC this year! \nWe’ll be hanging out Monday evening of the conference week at the resplendent Yerba Buena Bar in San Francisco – ready to greet VES members\, and to welcome new faces from the visual effects\, game development\, and digital media industries. \nThe VES Bay Area will have an informational booth on-site. Come talk to us\, share a drink and bites\, and help spread the word about our organization and the work we do. \n \n  \nWHERE:\nYERBA BUENA BAR\n141 2ND STREET (at Minna Street)\nSAN FRANCISCO \nWHEN:\nMONDAY\, MARCH 18th\n7pm-10pm \nCLICK HERE TO RSVP
URL:https://vesglobal.org/event/ves-mixer-at-gdc-2024/
CATEGORIES:Pub Night
ATTACH;FMTTYPE=image/png:https://vesglobal.org/wp-content/uploads/2024/03/RTVFX-mixer-flyer.png
END:VEVENT
BEGIN:VEVENT
DTSTART;TZID=America/Los_Angeles:20240321T180000
DTEND;TZID=America/Los_Angeles:20240321T230000
DTSTAMP:20260422T042409
CREATED:20240311T193213Z
LAST-MODIFIED:20240311T193503Z
UID:10009303-1711044000-1711062000@vesglobal.org
SUMMARY:VES Pub night + Fun quiz with prizes
DESCRIPTION:  \n \nHello ! \nCome and join us to our incredible VES Pub Night + Fun Quiz with prizes !! March 21st at Blue Post (81\, Newman St\, London W1T 3ET) – 6-11 PM ! \nDon’t miss it ! It will be lots of fun !
URL:https://vesglobal.org/event/159207/
LOCATION:Blue Post (81\, Newman St\, London W1T 3ET)\, 81\, Newman St.\, London\, London\, W1T 3ET\, United Kingdom
CATEGORIES:Pub Night
ATTACH;FMTTYPE=image/jpeg:https://vesglobal.org/wp-content/uploads/2024/03/VES_PUB_NIGHT_invitation.jpg
END:VEVENT
END:VCALENDAR