BEGIN:VCALENDAR
VERSION:2.0
PRODID:-//Visual Effects Society - ECPv6.15.20//NONSGML v1.0//EN
CALSCALE:GREGORIAN
METHOD:PUBLISH
X-WR-CALNAME:Visual Effects Society
X-ORIGINAL-URL:https://vesglobal.org
X-WR-CALDESC:Events for Visual Effects Society
REFRESH-INTERVAL;VALUE=DURATION:PT1H
X-Robots-Tag:noindex
X-PUBLISHED-TTL:PT1H
BEGIN:VTIMEZONE
TZID:Australia/Brisbane
BEGIN:STANDARD
TZOFFSETFROM:+1000
TZOFFSETTO:+1000
TZNAME:AEST
DTSTART:20230101T000000
END:STANDARD
END:VTIMEZONE
BEGIN:VTIMEZONE
TZID:America/Los_Angeles
BEGIN:DAYLIGHT
TZOFFSETFROM:-0800
TZOFFSETTO:-0700
TZNAME:PDT
DTSTART:20230312T100000
END:DAYLIGHT
BEGIN:STANDARD
TZOFFSETFROM:-0700
TZOFFSETTO:-0800
TZNAME:PST
DTSTART:20231105T090000
END:STANDARD
BEGIN:DAYLIGHT
TZOFFSETFROM:-0800
TZOFFSETTO:-0700
TZNAME:PDT
DTSTART:20240310T100000
END:DAYLIGHT
BEGIN:STANDARD
TZOFFSETFROM:-0700
TZOFFSETTO:-0800
TZNAME:PST
DTSTART:20241103T090000
END:STANDARD
BEGIN:DAYLIGHT
TZOFFSETFROM:-0800
TZOFFSETTO:-0700
TZNAME:PDT
DTSTART:20250309T100000
END:DAYLIGHT
BEGIN:STANDARD
TZOFFSETFROM:-0700
TZOFFSETTO:-0800
TZNAME:PST
DTSTART:20251102T090000
END:STANDARD
END:VTIMEZONE
BEGIN:VTIMEZONE
TZID:America/New_York
BEGIN:DAYLIGHT
TZOFFSETFROM:-0500
TZOFFSETTO:-0400
TZNAME:EDT
DTSTART:20230312T070000
END:DAYLIGHT
BEGIN:STANDARD
TZOFFSETFROM:-0400
TZOFFSETTO:-0500
TZNAME:EST
DTSTART:20231105T060000
END:STANDARD
BEGIN:DAYLIGHT
TZOFFSETFROM:-0500
TZOFFSETTO:-0400
TZNAME:EDT
DTSTART:20240310T070000
END:DAYLIGHT
BEGIN:STANDARD
TZOFFSETFROM:-0400
TZOFFSETTO:-0500
TZNAME:EST
DTSTART:20241103T060000
END:STANDARD
BEGIN:DAYLIGHT
TZOFFSETFROM:-0500
TZOFFSETTO:-0400
TZNAME:EDT
DTSTART:20250309T070000
END:DAYLIGHT
BEGIN:STANDARD
TZOFFSETFROM:-0400
TZOFFSETTO:-0500
TZNAME:EST
DTSTART:20251102T060000
END:STANDARD
END:VTIMEZONE
BEGIN:VTIMEZONE
TZID:Europe/Berlin
BEGIN:DAYLIGHT
TZOFFSETFROM:+0100
TZOFFSETTO:+0200
TZNAME:CEST
DTSTART:20230326T010000
END:DAYLIGHT
BEGIN:STANDARD
TZOFFSETFROM:+0200
TZOFFSETTO:+0100
TZNAME:CET
DTSTART:20231029T010000
END:STANDARD
BEGIN:DAYLIGHT
TZOFFSETFROM:+0100
TZOFFSETTO:+0200
TZNAME:CEST
DTSTART:20240331T010000
END:DAYLIGHT
BEGIN:STANDARD
TZOFFSETFROM:+0200
TZOFFSETTO:+0100
TZNAME:CET
DTSTART:20241027T010000
END:STANDARD
BEGIN:DAYLIGHT
TZOFFSETFROM:+0100
TZOFFSETTO:+0200
TZNAME:CEST
DTSTART:20250330T010000
END:DAYLIGHT
BEGIN:STANDARD
TZOFFSETFROM:+0200
TZOFFSETTO:+0100
TZNAME:CET
DTSTART:20251026T010000
END:STANDARD
END:VTIMEZONE
BEGIN:VEVENT
DTSTART;TZID=Australia/Brisbane:20240223T183000
DTEND;TZID=Australia/Brisbane:20240223T220000
DTSTAMP:20260422T060458
CREATED:20240205T102806Z
LAST-MODIFIED:20240205T103318Z
UID:10010739-1708713000-1708725600@vesglobal.org
SUMMARY:VES - Brisbane Mixer!
DESCRIPTION:VES members and a guest are invited to come and have a few drinks\, catch up for the new year\, and chat about membership in the VES. \nWhere: TIPPLER’S TAP\, 3/184 Grey Street\, South Bank \nWhen: Friday\, 23rd February 2023 \nTime: 6:30pm onwards \nRSVP here. Please log-in to view the RSVP details \nRSVP will close on Tuesday the 20th of February.
URL:https://vesglobal.org/event/ves-brisbane-mixer/
CATEGORIES:Pub Night
ATTACH;FMTTYPE=image/jpeg:https://vesglobal.org/wp-content/uploads/2018/01/two-pints-beer-main_1.jpg
END:VEVENT
BEGIN:VEVENT
DTSTART;TZID=America/Los_Angeles:20240223T190000
DTEND;TZID=America/Los_Angeles:20240223T210000
DTSTAMP:20260422T060458
CREATED:20240220T052331Z
LAST-MODIFIED:20240220T052331Z
UID:10010747-1708714800-1708722000@vesglobal.org
SUMMARY:VES OREGON Pub Night and Outreach Event
DESCRIPTION:Hi All\, \nWe’re having a pub night and outreach event at Crux pub in Portland this Friday 2/23 at 7. Bring a potential new VES Oregon Member! \nHope to see you there! \nhttps://www.cruxfermentation.com
URL:https://vesglobal.org/event/ves-oregon-pub-night-and-outreach-event-16/
LOCATION:Crux\, 2715 SE 8th Ave #175\, Portland\, OR\, 97202\, United States
CATEGORIES:Pub Night
END:VEVENT
BEGIN:VEVENT
DTSTART;TZID=America/Los_Angeles:20240227T183000
DTEND;TZID=America/Los_Angeles:20240227T230000
DTSTAMP:20260422T060458
CREATED:20240131T001100Z
LAST-MODIFIED:20240131T001145Z
UID:10010736-1709058600-1709074800@vesglobal.org
SUMMARY:VES VANCOUVER PUB NIGHT AND MEMBERSHIP INTRODUCTIONS
DESCRIPTION:They’re baaaaaack… \nWe’re thrilled to invite members and industry professionals to our first Pub Night of 2024 on Tuesday February 27th from 6.30pm at Brewhall at 97 E 2nd Ave\n \nAside from being a chance to catch up with your industry friends\, it’s also a great opportunity for anyone wanting to apply for the March 15th membership intake to be buddied up with an existing member to get an endorsement letter.   \nDon’t forget though\, if you’ve been a member previously you can re-activate that membership as part of the March intake by just applying\, you don’t need any letters!  https://vesglobal.org/membership-application/ \nWe’ll be serving some light snacks\, and all members get a free drink on us. \nIf you’d like to come along\, you can RSVP here. \nHope to see you all there – and don’t forget to spread the word…
URL:https://vesglobal.org/event/ves-vancouver-pub-night-and-membership-introductions/
LOCATION:BREWHALL\, 97 E 2nd Ave\, Vancouver\, BC\, V5T 1B3\, Canada
CATEGORIES:Pub Night
ATTACH;FMTTYPE=image/jpeg:https://vesglobal.org/wp-content/uploads/2024/01/feb-pub-night.jpg
END:VEVENT
BEGIN:VEVENT
DTSTART;TZID=America/New_York:20240227T190000
DTEND;TZID=America/New_York:20240227T210000
DTSTAMP:20260422T060458
CREATED:20240209T224553Z
LAST-MODIFIED:20240211T120415Z
UID:10010742-1709060400-1709067600@vesglobal.org
SUMMARY:Campagne d’adhésion VES Montréal | VES Montreal Membership Drive
DESCRIPTION:Les membres de la section VES Montréal organisent un événement Pubnight. \nDéveloppons notre communauté et reconnaissons les personnes talentueuses.\nLes membres de VES sont invités et encouragés à amener jusqu’à deux non-membres à notre événement Pubnight. \nRencontrons tous ces talents et discutons de ce que VES peut offrir en termes de réseautage\, de formation continue et de communauté\, y compris des projections et d’autres événements sociaux. \nLe 27 février de 19h00 à 21h00.\nOù : 1738 St Denis – Petit Bangkok\n_________________________________________________________________________________________________________________________________________ \nVES Montreal Section membership drive Pubnight event. \nLet’s grow our community and recognize talented people.\nVES members are invited and incouraged to bring up to two non members to our Pubnight event. \nLet’s meet all that talent and have a talk about what VES can offer in terms of networking\, continued education and community\, including screenings and other social events. \n\n\nWhen the 27th Feb from 7:00 to 9:00 PM.\nWhere: 1738  St Denis – Little Bangkok
URL:https://vesglobal.org/event/campagne-dadhesion-ves-montreal-ves-montreal-membership-drive-2/
CATEGORIES:Event,Pub Night
ATTACH;FMTTYPE=image/jpeg:https://vesglobal.org/wp-content/uploads/2024/02/MembershipDrive_Feb_littleBankok_edit.jpg
END:VEVENT
BEGIN:VEVENT
DTSTART;TZID=Europe/Berlin:20240229T190000
DTEND;TZID=Europe/Berlin:20240229T230000
DTSTAMP:20260422T060458
CREATED:20240223T172226Z
LAST-MODIFIED:20240223T184404Z
UID:10010749-1709233200-1709247600@vesglobal.org
SUMMARY:VES Hangout Berlin
DESCRIPTION:After the award season is over\, we want to give you the opportunity to meet up and catch up! We are looking forward to see you at the Roter Rabe at 7 pm :) \nAs the next member drive is just around the corner\, you can bring one person with you\, who is interested in joining the VES. \nPlease RSVP below (this just works if you are already logged in!)
URL:https://vesglobal.org/event/ves-hangout-berlin-2/
LOCATION:Roter Rabe\, Kotbusser Str. 13\, Berlin\, 10999
CATEGORIES:Pub Night
ORGANIZER;CN="Germany":MAILTO:germanyboard@vesglobal.org
END:VEVENT
BEGIN:VEVENT
DTSTART;TZID=Europe/Berlin:20240229T190000
DTEND;TZID=Europe/Berlin:20240229T230000
DTSTAMP:20260422T060458
CREATED:20240223T174501Z
LAST-MODIFIED:20240223T185543Z
UID:10010750-1709233200-1709247600@vesglobal.org
SUMMARY:VES Hangout Stuttgart
DESCRIPTION:After the award season is over\, we want to give you the opportunity to meet up and catch up! We are looking forward to see you at the Brauhaus Schönbuch at 7 pm :) \nAs the next member drive is just around the corner\, you can bring one person with you\, who is interested in joining the VES. \nPlease RSVP below (this only works\, if you are already logged in!)
URL:https://vesglobal.org/event/ves-hangout-stuttgart-2/
LOCATION:Brauhaus Schönbuch\, Bolzstraße 10\, Stuttgart\, 70173\, Germany
CATEGORIES:Pub Night
ORGANIZER;CN="Germany":MAILTO:germanyboard@vesglobal.org
END:VEVENT
BEGIN:VEVENT
DTSTART;TZID=Europe/Berlin:20240229T193000
DTEND;TZID=Europe/Berlin:20240229T233000
DTSTAMP:20260422T060458
CREATED:20240223T181735Z
LAST-MODIFIED:20240223T184433Z
UID:10010751-1709235000-1709249400@vesglobal.org
SUMMARY:VES Hangout Munich
DESCRIPTION:After the award season is over\, we want to give you the opportunity to meet up and catch up! We are looking forward to see you at the Georgenhof at 7:30 pm :) \nAs the next member drive is just around the corner\, you can bring one person with you\, who is interested in joining the VES. \nPlease RSVP below (this only works\, if you are already logged in!)
URL:https://vesglobal.org/event/ves-hangout-munich-2/
LOCATION:Georgenhof\, Friedrichstraße 1\, Munich\, 80801\, Germany
CATEGORIES:Pub Night
ORGANIZER;CN="Germany":MAILTO:germanyboard@vesglobal.org
END:VEVENT
END:VCALENDAR