BEGIN:VCALENDAR
VERSION:2.0
PRODID:-//Visual Effects Society - ECPv6.15.20//NONSGML v1.0//EN
CALSCALE:GREGORIAN
METHOD:PUBLISH
X-WR-CALNAME:Visual Effects Society
X-ORIGINAL-URL:https://vesglobal.org
X-WR-CALDESC:Events for Visual Effects Society
REFRESH-INTERVAL;VALUE=DURATION:PT1H
X-Robots-Tag:noindex
X-PUBLISHED-TTL:PT1H
BEGIN:VTIMEZONE
TZID:Europe/Paris
BEGIN:DAYLIGHT
TZOFFSETFROM:+0100
TZOFFSETTO:+0200
TZNAME:CEST
DTSTART:20220327T010000
END:DAYLIGHT
BEGIN:STANDARD
TZOFFSETFROM:+0200
TZOFFSETTO:+0100
TZNAME:CET
DTSTART:20221030T010000
END:STANDARD
BEGIN:DAYLIGHT
TZOFFSETFROM:+0100
TZOFFSETTO:+0200
TZNAME:CEST
DTSTART:20230326T010000
END:DAYLIGHT
BEGIN:STANDARD
TZOFFSETFROM:+0200
TZOFFSETTO:+0100
TZNAME:CET
DTSTART:20231029T010000
END:STANDARD
BEGIN:DAYLIGHT
TZOFFSETFROM:+0100
TZOFFSETTO:+0200
TZNAME:CEST
DTSTART:20240331T010000
END:DAYLIGHT
BEGIN:STANDARD
TZOFFSETFROM:+0200
TZOFFSETTO:+0100
TZNAME:CET
DTSTART:20241027T010000
END:STANDARD
END:VTIMEZONE
BEGIN:VTIMEZONE
TZID:America/New_York
BEGIN:DAYLIGHT
TZOFFSETFROM:-0500
TZOFFSETTO:-0400
TZNAME:EDT
DTSTART:20220313T070000
END:DAYLIGHT
BEGIN:STANDARD
TZOFFSETFROM:-0400
TZOFFSETTO:-0500
TZNAME:EST
DTSTART:20221106T060000
END:STANDARD
BEGIN:DAYLIGHT
TZOFFSETFROM:-0500
TZOFFSETTO:-0400
TZNAME:EDT
DTSTART:20230312T070000
END:DAYLIGHT
BEGIN:STANDARD
TZOFFSETFROM:-0400
TZOFFSETTO:-0500
TZNAME:EST
DTSTART:20231105T060000
END:STANDARD
BEGIN:DAYLIGHT
TZOFFSETFROM:-0500
TZOFFSETTO:-0400
TZNAME:EDT
DTSTART:20240310T070000
END:DAYLIGHT
BEGIN:STANDARD
TZOFFSETFROM:-0400
TZOFFSETTO:-0500
TZNAME:EST
DTSTART:20241103T060000
END:STANDARD
END:VTIMEZONE
BEGIN:VEVENT
DTSTART;TZID=Europe/Paris:20231208T193000
DTEND;TZID=Europe/Paris:20231209T020000
DTSTAMP:20260422T084832
CREATED:20231206T100340Z
LAST-MODIFIED:20231206T105745Z
UID:10009262-1702063800-1702087200@vesglobal.org
SUMMARY:VES FRANCE: VFX DAY - Dec 8th
DESCRIPTION:The VES France are happy to celebrate the VFX DAY this Friday\,  \nDecember 8th from 7.30pm. \nat THE BREWDOG\, 1 Place de Thorigny\, 75003 Paris. \nPerfect opportunity to reconnect and meet newcomers. \nSee you all on Friday ! \nPlease register below : \n 
URL:https://vesglobal.org/event/ves-france-vfx-day-dec-8th/
LOCATION:BREWDOG\, 1\, place de Thorigny\, Paris\, Select a State:\, 75003\, France
CATEGORIES:Pub Night
END:VEVENT
BEGIN:VEVENT
DTSTART;TZID=America/New_York:20231214T200000
DTEND;TZID=America/New_York:20231214T230000
DTSTAMP:20260422T084832
CREATED:20231204T173650Z
LAST-MODIFIED:20231217T221827Z
UID:10009254-1702584000-1702594800@vesglobal.org
SUMMARY:VES NY Winter Party 2023
DESCRIPTION:The Writer’s Strike is over and there is a lot to talk about.\nGrab a drink\, network and join us in ushering 2023 out the door!! \nHost: The Folly \n\n\nWhen: Thursday\, December 14th\, 8 PM EST\nWhere: 92 West Houston Street\, New York\, NY\, 10012 \nBe sure to register at the door to win ONE of these great prizes:\n** 1-year Subscription Full Effects Suite (BorisFX)\n** 1-year Full Production Suite (Foundry) \nThank you so much BorisFX & Foundry for supporting us this year!! \nThank you for hosting\, the Folly! \n\n\n		\n		\n			\n				\n			\n				\n				VES Bingo\n				\n			\n				\n			\n				\n				Raffle Winner\n				\n			\n				\n			\n				\n				Crowd at the Folly\n				\n			\n				\n			\n				\n				Raffle Winner\n				\n			\n				\n			\n				\n				Raffle Winner\n				\n			\n				\n			\n				\n				All Raffle winners\n				\n			\n				\n			\n				\n				Raffle Winner
URL:https://vesglobal.org/event/vesny-winterparty-2023/
LOCATION:The Folly\, 92 West Houston Street\, New York\, NY\, 10012\, United States
CATEGORIES:Event,Party,Pub Night
ATTACH;FMTTYPE=image/png:https://vesglobal.org/wp-content/uploads/2023/12/2023WinterPartyMain_Tall.png
END:VEVENT
END:VCALENDAR