BEGIN:VCALENDAR
VERSION:2.0
PRODID:-//Visual Effects Society - ECPv6.15.20//NONSGML v1.0//EN
CALSCALE:GREGORIAN
METHOD:PUBLISH
X-WR-CALNAME:Visual Effects Society
X-ORIGINAL-URL:https://vesglobal.org
X-WR-CALDESC:Events for Visual Effects Society
REFRESH-INTERVAL;VALUE=DURATION:PT1H
X-Robots-Tag:noindex
X-PUBLISHED-TTL:PT1H
BEGIN:VTIMEZONE
TZID:America/Los_Angeles
BEGIN:DAYLIGHT
TZOFFSETFROM:-0800
TZOFFSETTO:-0700
TZNAME:PDT
DTSTART:20220313T100000
END:DAYLIGHT
BEGIN:STANDARD
TZOFFSETFROM:-0700
TZOFFSETTO:-0800
TZNAME:PST
DTSTART:20221106T090000
END:STANDARD
BEGIN:DAYLIGHT
TZOFFSETFROM:-0800
TZOFFSETTO:-0700
TZNAME:PDT
DTSTART:20230312T100000
END:DAYLIGHT
BEGIN:STANDARD
TZOFFSETFROM:-0700
TZOFFSETTO:-0800
TZNAME:PST
DTSTART:20231105T090000
END:STANDARD
BEGIN:DAYLIGHT
TZOFFSETFROM:-0800
TZOFFSETTO:-0700
TZNAME:PDT
DTSTART:20240310T100000
END:DAYLIGHT
BEGIN:STANDARD
TZOFFSETFROM:-0700
TZOFFSETTO:-0800
TZNAME:PST
DTSTART:20241103T090000
END:STANDARD
END:VTIMEZONE
BEGIN:VTIMEZONE
TZID:America/New_York
BEGIN:DAYLIGHT
TZOFFSETFROM:-0500
TZOFFSETTO:-0400
TZNAME:EDT
DTSTART:20220313T070000
END:DAYLIGHT
BEGIN:STANDARD
TZOFFSETFROM:-0400
TZOFFSETTO:-0500
TZNAME:EST
DTSTART:20221106T060000
END:STANDARD
BEGIN:DAYLIGHT
TZOFFSETFROM:-0500
TZOFFSETTO:-0400
TZNAME:EDT
DTSTART:20230312T070000
END:DAYLIGHT
BEGIN:STANDARD
TZOFFSETFROM:-0400
TZOFFSETTO:-0500
TZNAME:EST
DTSTART:20231105T060000
END:STANDARD
BEGIN:DAYLIGHT
TZOFFSETFROM:-0500
TZOFFSETTO:-0400
TZNAME:EDT
DTSTART:20240310T070000
END:DAYLIGHT
BEGIN:STANDARD
TZOFFSETFROM:-0400
TZOFFSETTO:-0500
TZNAME:EST
DTSTART:20241103T060000
END:STANDARD
END:VTIMEZONE
BEGIN:VEVENT
DTSTART;TZID=America/Los_Angeles:20231017T192000
DTEND;TZID=America/Los_Angeles:20231017T220000
DTSTAMP:20260422T112515
CREATED:20231011T063023Z
LAST-MODIFIED:20231011T070648Z
UID:10010651-1697570400-1697580000@vesglobal.org
SUMMARY:VES-Washington Section: Movie & Pub Night (The Creator)
DESCRIPTION:VES members are cordially invited to a Movie & Pub Night\, hosted by the VES Washington Section Tuesday October 17\, at the Regal Issaquah Highlands (940 NE Park Drive\, Issaquah\, WA) for a screening of THE CREATOR.  We enjoyed the recent VES screening in Seattle so much that we wanted to give others a chance to enjoy it with us again. \nVES-Washington has purchased a limited number of reserved seating tickets to see a screening of THE CREATOR directed by Gareth Edwards.  After the show\, we’ll convene at the nearby Ram Restaurant and Brewery —  first drink’s on us — to discuss the movie\, and the enjoy the fellowship of our VES colleagues. Showtime is 7:20p.  Please arrive early so we can be sure you’re admitted. \nPlease note that this is not one of our usual studio-sponsored screenings. The Washington Section has purchased these individually reserved seats\, so they will be available on a strict first-come\, first-served basis\, and to WA-VES members only. We have space for maximum 20 people to RSVP (use the RSVP button below). Please get your RSVP in no later than Sunday\, October 15th by 11pm to ensure your spot.  \nIf you RSVP and then expect you won’t be able to attend (or have a problem with your RSVP)\, please let us know ASAP at washington@vesglobal.org so we can make space for someone else.  If you would like to bring a guest to the same screening\, please purchase their tickets separately and contact us as we may be able to coordinate seats.
URL:https://vesglobal.org/event/ves-washington-section-movie-pub-night-the-creator/
LOCATION:Regal Issaquah Highlands\, 940 NE Park Drive\, Issaquah\, WA\, 98029\, United States
CATEGORIES:Pub Night,Screening
ATTACH;FMTTYPE=image/jpeg:https://vesglobal.org/wp-content/uploads/2023/10/TheCreator_PubNight2.jpg
END:VEVENT
BEGIN:VEVENT
DTSTART;TZID=America/New_York:20231026T183000
DTEND;TZID=America/New_York:20231026T213000
DTSTAMP:20260422T112515
CREATED:20231015T183329Z
LAST-MODIFIED:20231024T153309Z
UID:10010663-1698345000-1698355800@vesglobal.org
SUMMARY:Pub Night / Tech Demo
DESCRIPTION:Pub Night / Tech Demo \nIt’s the last day of NAB; swing by for a drink!! \nCrompton Ale House\nThursday\, October 26th\n6:30 pm – 9:30 pm EDT \nVES Members: Free (PLEASE LOG IN TO RSVP)\nNon-Members: 20$ \nREGISTRATION IS REQUIRED – No Walk-ins\n \n\n\nThursday\, October 26th\n159 West 26th St\, New York\, NY 10001\nWe’re holding another combo of good food and cool tech\, courtesy of our friends at Imagine Products and Iodyne Pro Data. Thanks for sponsoring!!\nIncludes food\, 2 drink tickets\nNot a member? No problem – CLICK HERE to register.
URL:https://vesglobal.org/event/pub-night-tech-demo/
LOCATION:Crompton Ale House\, Crompton Ale House\, 159 W 26th Street\, New York\, NY\, 10001\, United States
CATEGORIES:Educational,Meeting,Pub Night
ATTACH;FMTTYPE=image/png:https://vesglobal.org/wp-content/uploads/2023/10/Pub-Night-Tech-Demo_4.png
END:VEVENT
END:VCALENDAR