BEGIN:VCALENDAR
VERSION:2.0
PRODID:-//Visual Effects Society - ECPv6.15.20//NONSGML v1.0//EN
CALSCALE:GREGORIAN
METHOD:PUBLISH
X-ORIGINAL-URL:https://vesglobal.org
X-WR-CALDESC:Events for Visual Effects Society
REFRESH-INTERVAL;VALUE=DURATION:PT1H
X-Robots-Tag:noindex
X-PUBLISHED-TTL:PT1H
BEGIN:VTIMEZONE
TZID:America/Los_Angeles
BEGIN:DAYLIGHT
TZOFFSETFROM:-0800
TZOFFSETTO:-0700
TZNAME:PDT
DTSTART:20220313T100000
END:DAYLIGHT
BEGIN:STANDARD
TZOFFSETFROM:-0700
TZOFFSETTO:-0800
TZNAME:PST
DTSTART:20221106T090000
END:STANDARD
BEGIN:DAYLIGHT
TZOFFSETFROM:-0800
TZOFFSETTO:-0700
TZNAME:PDT
DTSTART:20230312T100000
END:DAYLIGHT
BEGIN:STANDARD
TZOFFSETFROM:-0700
TZOFFSETTO:-0800
TZNAME:PST
DTSTART:20231105T090000
END:STANDARD
BEGIN:DAYLIGHT
TZOFFSETFROM:-0800
TZOFFSETTO:-0700
TZNAME:PDT
DTSTART:20240310T100000
END:DAYLIGHT
BEGIN:STANDARD
TZOFFSETFROM:-0700
TZOFFSETTO:-0800
TZNAME:PST
DTSTART:20241103T090000
END:STANDARD
END:VTIMEZONE
BEGIN:VTIMEZONE
TZID:America/Toronto
BEGIN:DAYLIGHT
TZOFFSETFROM:-0500
TZOFFSETTO:-0400
TZNAME:EDT
DTSTART:20220313T070000
END:DAYLIGHT
BEGIN:STANDARD
TZOFFSETFROM:-0400
TZOFFSETTO:-0500
TZNAME:EST
DTSTART:20221106T060000
END:STANDARD
BEGIN:DAYLIGHT
TZOFFSETFROM:-0500
TZOFFSETTO:-0400
TZNAME:EDT
DTSTART:20230312T070000
END:DAYLIGHT
BEGIN:STANDARD
TZOFFSETFROM:-0400
TZOFFSETTO:-0500
TZNAME:EST
DTSTART:20231105T060000
END:STANDARD
BEGIN:DAYLIGHT
TZOFFSETFROM:-0500
TZOFFSETTO:-0400
TZNAME:EDT
DTSTART:20240310T070000
END:DAYLIGHT
BEGIN:STANDARD
TZOFFSETFROM:-0400
TZOFFSETTO:-0500
TZNAME:EST
DTSTART:20241103T060000
END:STANDARD
END:VTIMEZONE
BEGIN:VTIMEZONE
TZID:America/New_York
BEGIN:DAYLIGHT
TZOFFSETFROM:-0500
TZOFFSETTO:-0400
TZNAME:EDT
DTSTART:20220313T070000
END:DAYLIGHT
BEGIN:STANDARD
TZOFFSETFROM:-0400
TZOFFSETTO:-0500
TZNAME:EST
DTSTART:20221106T060000
END:STANDARD
BEGIN:DAYLIGHT
TZOFFSETFROM:-0500
TZOFFSETTO:-0400
TZNAME:EDT
DTSTART:20230312T070000
END:DAYLIGHT
BEGIN:STANDARD
TZOFFSETFROM:-0400
TZOFFSETTO:-0500
TZNAME:EST
DTSTART:20231105T060000
END:STANDARD
BEGIN:DAYLIGHT
TZOFFSETFROM:-0500
TZOFFSETTO:-0400
TZNAME:EDT
DTSTART:20240310T070000
END:DAYLIGHT
BEGIN:STANDARD
TZOFFSETFROM:-0400
TZOFFSETTO:-0500
TZNAME:EST
DTSTART:20241103T060000
END:STANDARD
END:VTIMEZONE
BEGIN:VEVENT
DTSTART;TZID=America/Los_Angeles:20230822T183000
DTEND;TZID=America/Los_Angeles:20230822T230000
DTSTAMP:20260422T140437
CREATED:20230804T031335Z
LAST-MODIFIED:20230804T031609Z
UID:10010606-1692729000-1692745200@vesglobal.org
SUMMARY:VES PUB NIGHT - Vancouver
DESCRIPTION:Our August pub night is happening! \nEnjoy the summer vibes at our next VES Pub Night on August 22nd at Brewhall\, sponsored by Annex Pro\, Wacom Canada\, and Autodesk  \nWacom will display their latest CINTIQ Tablet at the event\, and it will be an evening filled with fabulous drinks\, appetizers and mingling with industry professionals. \nVES Members get their first drink ticket free! RSVP now for a night of innovation and networking that you won’t want to miss! \nHope to see you there!
URL:https://vesglobal.org/event/ves-pub-night-vancouver/
LOCATION:BREWHALL\, 97 E 2nd Ave\, Vancouver\, BC\, V5T 1B3\, Canada
CATEGORIES:Pub Night
ATTACH;FMTTYPE=image/png:https://vesglobal.org/wp-content/uploads/2023/08/aug-pub-nght.png
END:VEVENT
BEGIN:VEVENT
DTSTART;TZID=America/Toronto:20230831T190000
DTEND;TZID=America/Toronto:20230831T233000
DTSTAMP:20260422T140437
CREATED:20230806T003015Z
LAST-MODIFIED:20230814T195510Z
UID:10010608-1693508400-1693524600@vesglobal.org
SUMMARY:2023 VES Toronto Summer Party
DESCRIPTION:
URL:https://vesglobal.org/event/2023-ves-toronto-summer-party/
CATEGORIES:Party,Pub Night
END:VEVENT
BEGIN:VEVENT
DTSTART;TZID=America/New_York:20230831T193000
DTEND;TZID=America/New_York:20230831T220000
DTSTAMP:20260422T140437
CREATED:20230825T142746Z
LAST-MODIFIED:20230831T173852Z
UID:10009159-1693510200-1693519200@vesglobal.org
SUMMARY:VES HANGOUT (SAVANNAH)
DESCRIPTION:UPDATE: This event will be rescheduled to Thursday September 7th (7:30p- 10p).\n  \n  \n\nPlease join us for our next VES Georgia ( SAVANNAH) Hangout on August 31st (7:30p-10p).\nVisual Effects Society Georgia (Savannah\, GA) would like to invite current and interested members to celebrate another great year in VFX at The Bar Bar on Wilmington. Please join us August 31st to hang out and have a few laughs with your fellow VFX industry pros.
URL:https://vesglobal.org/event/ves-hangout-savannah/
LOCATION:The Bar Bar on Wilmington\, 138 Johnny Mercer Blvd.\, Savannah\, GA\, 31410\, United States
CATEGORIES:Pub Night
ATTACH;FMTTYPE=image/jpeg:https://vesglobal.org/wp-content/uploads/2023/08/Savannah_VES_meetup_2023_08_31.jpg
END:VEVENT
END:VCALENDAR