BEGIN:VCALENDAR
VERSION:2.0
PRODID:-//Visual Effects Society - ECPv6.15.20//NONSGML v1.0//EN
CALSCALE:GREGORIAN
METHOD:PUBLISH
X-ORIGINAL-URL:https://vesglobal.org
X-WR-CALDESC:Events for Visual Effects Society
REFRESH-INTERVAL;VALUE=DURATION:PT1H
X-Robots-Tag:noindex
X-PUBLISHED-TTL:PT1H
BEGIN:VTIMEZONE
TZID:America/Los_Angeles
BEGIN:DAYLIGHT
TZOFFSETFROM:-0800
TZOFFSETTO:-0700
TZNAME:PDT
DTSTART:20220313T100000
END:DAYLIGHT
BEGIN:STANDARD
TZOFFSETFROM:-0700
TZOFFSETTO:-0800
TZNAME:PST
DTSTART:20221106T090000
END:STANDARD
BEGIN:DAYLIGHT
TZOFFSETFROM:-0800
TZOFFSETTO:-0700
TZNAME:PDT
DTSTART:20230312T100000
END:DAYLIGHT
BEGIN:STANDARD
TZOFFSETFROM:-0700
TZOFFSETTO:-0800
TZNAME:PST
DTSTART:20231105T090000
END:STANDARD
BEGIN:DAYLIGHT
TZOFFSETFROM:-0800
TZOFFSETTO:-0700
TZNAME:PDT
DTSTART:20240310T100000
END:DAYLIGHT
BEGIN:STANDARD
TZOFFSETFROM:-0700
TZOFFSETTO:-0800
TZNAME:PST
DTSTART:20241103T090000
END:STANDARD
END:VTIMEZONE
BEGIN:VTIMEZONE
TZID:America/New_York
BEGIN:DAYLIGHT
TZOFFSETFROM:-0500
TZOFFSETTO:-0400
TZNAME:EDT
DTSTART:20220313T070000
END:DAYLIGHT
BEGIN:STANDARD
TZOFFSETFROM:-0400
TZOFFSETTO:-0500
TZNAME:EST
DTSTART:20221106T060000
END:STANDARD
BEGIN:DAYLIGHT
TZOFFSETFROM:-0500
TZOFFSETTO:-0400
TZNAME:EDT
DTSTART:20230312T070000
END:DAYLIGHT
BEGIN:STANDARD
TZOFFSETFROM:-0400
TZOFFSETTO:-0500
TZNAME:EST
DTSTART:20231105T060000
END:STANDARD
BEGIN:DAYLIGHT
TZOFFSETFROM:-0500
TZOFFSETTO:-0400
TZNAME:EDT
DTSTART:20240310T070000
END:DAYLIGHT
BEGIN:STANDARD
TZOFFSETFROM:-0400
TZOFFSETTO:-0500
TZNAME:EST
DTSTART:20241103T060000
END:STANDARD
END:VTIMEZONE
BEGIN:VTIMEZONE
TZID:Europe/Berlin
BEGIN:DAYLIGHT
TZOFFSETFROM:+0100
TZOFFSETTO:+0200
TZNAME:CEST
DTSTART:20220327T010000
END:DAYLIGHT
BEGIN:STANDARD
TZOFFSETFROM:+0200
TZOFFSETTO:+0100
TZNAME:CET
DTSTART:20221030T010000
END:STANDARD
BEGIN:DAYLIGHT
TZOFFSETFROM:+0100
TZOFFSETTO:+0200
TZNAME:CEST
DTSTART:20230326T010000
END:DAYLIGHT
BEGIN:STANDARD
TZOFFSETFROM:+0200
TZOFFSETTO:+0100
TZNAME:CET
DTSTART:20231029T010000
END:STANDARD
BEGIN:DAYLIGHT
TZOFFSETFROM:+0100
TZOFFSETTO:+0200
TZNAME:CEST
DTSTART:20240331T010000
END:DAYLIGHT
BEGIN:STANDARD
TZOFFSETFROM:+0200
TZOFFSETTO:+0100
TZNAME:CET
DTSTART:20241027T010000
END:STANDARD
END:VTIMEZONE
BEGIN:VEVENT
DTSTART;TZID=America/Los_Angeles:20230509T183000
DTEND;TZID=America/Los_Angeles:20230509T230000
DTSTAMP:20260422T180651
CREATED:20230422T121242Z
LAST-MODIFIED:20230422T122546Z
UID:10009045-1683657000-1683673200@vesglobal.org
SUMMARY:MAY PUB NIGHT - Vancouver
DESCRIPTION:Here it is\, the moment you’ve been waiting for…\nThanks to Barnstorm VFX our next pub night will be on Tuesday\, May 9th.\nA chance to catch up with colleagues old and new\, and while everyone is welcome\, our VES members get their first drink on us!\nPlease RSVP here.\nWe look forward to seeing you all.
URL:https://vesglobal.org/event/may-pub-night-vancouver/
LOCATION:BREWHALL\, 97 E 2nd Ave\, Vancouver\, BC\, V5T 1B3\, Canada
CATEGORIES:Pub Night
ATTACH;FMTTYPE=image/jpeg:https://vesglobal.org/wp-content/uploads/2023/04/VES-Pub-Night.jpg
END:VEVENT
BEGIN:VEVENT
DTSTART;TZID=America/New_York:20230523T190000
DTEND;TZID=America/New_York:20230523T220000
DTSTAMP:20260422T180651
CREATED:20230516T020915Z
LAST-MODIFIED:20230517T233736Z
UID:10010520-1684868400-1684879200@vesglobal.org
SUMMARY:VESNY || PUB-NIGHT-TECH-DEMO
DESCRIPTION:PUB NIGHT & TECH DEMO\nSponsored by Iodyne Pro Data\nCome by Westside Tavern (across from SVA Theatre)\nWelcome the new and returning members\, grab a drink and check out some new tech from our friends at Iodyne Pro Data. \nPlease RSVP below (VES members must login to RSVP)\nTuesday\, May 23rd @ 7:00PM\nWESTSIDE TAVERN\n360 W. 23rd Street (closer to 9th Avenue) New York\, NY 10011 \nIn an effort to prevent the spread of COVID-19\, we ask that you or your guests do not attend VES events if you are experiencing any symptoms or if you have been exposed to the virus. \nBy signing up for this on-site\, in-person screening/event sponsored by VES (Visual Effects Society)\, you willingly accept any potential inherent risks associated with COVID-19. VES cannot be held liable from any consequences that may transpire from said risk. Therefore\, signing up for this screening/event infers implied consent of yourself and your party and hereby indemnifies and holds harmless VES\, its directors\, its employees and any other affiliated persons from any adverse medical or financial impact that may result from our participation.
URL:https://vesglobal.org/event/vesny-pub-night-tech-demo/
LOCATION:Westside Tavern\, 360 W 23rd St\, \, NY\, New York\, NY\, 10011\, United States
CATEGORIES:Educational,Pub Night
ATTACH;FMTTYPE=image/jpeg:https://vesglobal.org/wp-content/uploads/2023/05/PubNightTechDemo_May2023_PUBNIGHT.jpg
END:VEVENT
BEGIN:VEVENT
DTSTART;TZID=Europe/Berlin:20230531T190000
DTEND;TZID=Europe/Berlin:20230531T220000
DTSTAMP:20260422T180651
CREATED:20230516T113528Z
LAST-MODIFIED:20230516T171547Z
UID:10010521-1685559600-1685570400@vesglobal.org
SUMMARY:VES Hangout Berlin
DESCRIPTION:Let’s hangout in Berlin!\nIt’s time for our Berlin members and visual effects people who are interested in joining the VES to have some drinks and enjoy their time together! \nGet out your calendars and make sure to save the date! \n31. May 2023 at 19:00 \nEvery VES member can bring one other person working in the VFX industry. \nLocation:   Roter Rabe Bar – Kottbusser Str. 13 – 10999 Berlin \nPlease RSVP here below. \nIf you don’t see the RSVP field on the event site\, you have to log into your VES account first!
URL:https://vesglobal.org/event/ves-hangout-berlin-may23/
LOCATION:Roter Rabe\, Kotbusser Str. 13\, Berlin\, 10999
CATEGORIES:Pub Night
ATTACH;FMTTYPE=image/jpeg:https://vesglobal.org/wp-content/uploads/2023/05/IMG_7081-e1684257336551.jpeg
ORGANIZER;CN="Germany":MAILTO:germanyboard@vesglobal.org
END:VEVENT
END:VCALENDAR