BEGIN:VCALENDAR
VERSION:2.0
PRODID:-//Visual Effects Society - ECPv6.15.20//NONSGML v1.0//EN
CALSCALE:GREGORIAN
METHOD:PUBLISH
X-WR-CALNAME:Visual Effects Society
X-ORIGINAL-URL:https://vesglobal.org
X-WR-CALDESC:Events for Visual Effects Society
REFRESH-INTERVAL;VALUE=DURATION:PT1H
X-Robots-Tag:noindex
X-PUBLISHED-TTL:PT1H
BEGIN:VTIMEZONE
TZID:America/Los_Angeles
BEGIN:DAYLIGHT
TZOFFSETFROM:-0800
TZOFFSETTO:-0700
TZNAME:PDT
DTSTART:20220313T100000
END:DAYLIGHT
BEGIN:STANDARD
TZOFFSETFROM:-0700
TZOFFSETTO:-0800
TZNAME:PST
DTSTART:20221106T090000
END:STANDARD
BEGIN:DAYLIGHT
TZOFFSETFROM:-0800
TZOFFSETTO:-0700
TZNAME:PDT
DTSTART:20230312T100000
END:DAYLIGHT
BEGIN:STANDARD
TZOFFSETFROM:-0700
TZOFFSETTO:-0800
TZNAME:PST
DTSTART:20231105T090000
END:STANDARD
BEGIN:DAYLIGHT
TZOFFSETFROM:-0800
TZOFFSETTO:-0700
TZNAME:PDT
DTSTART:20240310T100000
END:DAYLIGHT
BEGIN:STANDARD
TZOFFSETFROM:-0700
TZOFFSETTO:-0800
TZNAME:PST
DTSTART:20241103T090000
END:STANDARD
END:VTIMEZONE
BEGIN:VTIMEZONE
TZID:America/New_York
BEGIN:DAYLIGHT
TZOFFSETFROM:-0500
TZOFFSETTO:-0400
TZNAME:EDT
DTSTART:20220313T070000
END:DAYLIGHT
BEGIN:STANDARD
TZOFFSETFROM:-0400
TZOFFSETTO:-0500
TZNAME:EST
DTSTART:20221106T060000
END:STANDARD
BEGIN:DAYLIGHT
TZOFFSETFROM:-0500
TZOFFSETTO:-0400
TZNAME:EDT
DTSTART:20230312T070000
END:DAYLIGHT
BEGIN:STANDARD
TZOFFSETFROM:-0400
TZOFFSETTO:-0500
TZNAME:EST
DTSTART:20231105T060000
END:STANDARD
BEGIN:DAYLIGHT
TZOFFSETFROM:-0500
TZOFFSETTO:-0400
TZNAME:EDT
DTSTART:20240310T070000
END:DAYLIGHT
BEGIN:STANDARD
TZOFFSETFROM:-0400
TZOFFSETTO:-0500
TZNAME:EST
DTSTART:20241103T060000
END:STANDARD
END:VTIMEZONE
BEGIN:VEVENT
DTSTART;TZID=America/Los_Angeles:20230216T190000
DTEND;TZID=America/Los_Angeles:20230216T220000
DTSTAMP:20260422T220658
CREATED:20230208T183717Z
LAST-MODIFIED:20230208T183830Z
UID:10009011-1676574000-1676584800@vesglobal.org
SUMMARY:VES Hangout Stuttgart
DESCRIPTION:Let’s hangout in Stuttgart!\nIt’s time for our Stuttgart members and visual effects people who are interested in joining the VES to have some drinks and enjoy their time together! \nGet out your calendars and make sure to save the date! \n16. February 2023 at 19:00 \nEvery member can bring people along\, who is interested in joining the VES. \nLocation:   Brauhaus Schönbuch – Bolzstraße 10 – 70173 Stuttgart \nPlease RSVP here below. \nIf you don’t see the RSVP field on the event site\, you have to log into your VES account first! \nHere is the link to submit the Application to become a VES member: \nMembership Application
URL:https://vesglobal.org/event/ves-hangout-stuttgart/
LOCATION:Brauhaus Schönbuch\, Bolzstraße 10\, Stuttgart\, 70173\, Germany
CATEGORIES:Pub Night
ORGANIZER;CN="Germany":MAILTO:germanyboard@vesglobal.org
END:VEVENT
BEGIN:VEVENT
DTSTART;TZID=America/Los_Angeles:20230216T190000
DTEND;TZID=America/Los_Angeles:20230216T220000
DTSTAMP:20260422T220658
CREATED:20230208T183724Z
LAST-MODIFIED:20230208T183724Z
UID:10009008-1676574000-1676584800@vesglobal.org
SUMMARY:VES Hangout Berlin
DESCRIPTION:Let’s hangout in Berlin!\nIt’s time for our Berlin members and visual effects people who are interested in joining the VES to have some drinks and enjoy their time together! \nGet out your calendars and make sure to save the date! \n16. February 2023 at 19:00 \nEvery member can bring people along\, who is interested in joining the VES. \nLocation:   Roter Rabe Bar – Kottbusser Str. 13 – 10999 Berlin \nPlease RSVP here below. \nIf you don’t see the RSVP field on the event site\, you have to log into your VES account first! \nHere is the link to submit the Application to become a VES member: \nMembership Application
URL:https://vesglobal.org/event/ves-hangout-berlin/
LOCATION:Roter Rabe\, Kotbusser Str. 13\, Berlin\, 10999
CATEGORIES:Pub Night
ORGANIZER;CN="Germany":MAILTO:germanyboard@vesglobal.org
END:VEVENT
BEGIN:VEVENT
DTSTART;TZID=America/Los_Angeles:20230222T183000
DTEND;TZID=America/Los_Angeles:20230222T200000
DTSTAMP:20260422T220658
CREATED:20230215T020317Z
LAST-MODIFIED:20230215T020317Z
UID:10009002-1677090600-1677096000@vesglobal.org
SUMMARY:NZ Section Summer Pub Night and Membership Drive (Wellington)
DESCRIPTION:Miramar \n\n\nMembers and non members are invited to join us for a pub night and a chance to find out more about the VES. \nCome and catch up with your fellow creatives! \n  \nThis event is for members\, VFX Artists\, Animators\, SFX Artists\, Producers\, Coordinators\, Engineers and Educators with a minimum of 5 years’ experience in Games\, AR\, VR\, Film\, TV\, VFX\, Education and related creative industries. \n  \nDate:Wednesday 22nd February \nTime: 6.30pm-8.00pm \nLocation: Double Vision Brew Pub\, 128 Park Road\,  Miramar \nDouble Vision will provide some snacks. And of course beer! \n  \nMembers and Non Members Please RSVP Below
URL:https://vesglobal.org/event/nz-section-summer-pub-night-and-membership-drive-wellington/
LOCATION:Double Vision Brewing\, 128A Unit E Park Road\, Miramar\, Wellington\, 6022\, New Zealand
CATEGORIES:Pub Night
END:VEVENT
BEGIN:VEVENT
DTSTART;TZID=America/Los_Angeles:20230223T200000
DTEND;TZID=America/Los_Angeles:20230223T220000
DTSTAMP:20260422T220658
CREATED:20230216T215422Z
LAST-MODIFIED:20230216T235115Z
UID:10009013-1677182400-1677189600@vesglobal.org
SUMMARY:VES Hangout Munich
DESCRIPTION:Let’s hangout in Munich!\nIt’s time for our Berlin members and visual effects people who are interested in joining the VES to have some drinks and enjoy their time together! \nGet out your calendars and make sure to save the date! \n23. February 2023 at 20:00 \nEvery member can bring people along\, who is interested in joining the VES. \nLocation:   Alter Simpl – Türkenstraße 57 – 80799 Munich \nPlease RSVP here below. \nIf you don’t see the RSVP field on the event site\, you have to log into your VES account first! \nHere is the link to submit the Application to become a VES member: \nMembership Application
URL:https://vesglobal.org/event/ves-hangout-munich/
LOCATION:Alter Simpl\, Türkenstraße 57\, Munich\, Bavaria\, 80799\, Germany
CATEGORIES:Pub Night
ORGANIZER;CN="Germany":MAILTO:germanyboard@vesglobal.org
END:VEVENT
BEGIN:VEVENT
DTSTART;TZID=America/New_York:20230224T210000
DTEND;TZID=America/New_York:20230224T230000
DTSTAMP:20260422T220658
CREATED:20230222T022802Z
LAST-MODIFIED:20230222T022802Z
UID:10010459-1677272400-1677279600@vesglobal.org
SUMMARY:Post-Screening Cocaine-Bear || Pub Night
DESCRIPTION:Post Screening – PUB NIGHT\nCome by Westside Tavern (across from SVA Theatre) and bring a friend\, grab a drink on us. First come\, first serve. \nThere are a LOT of things happening in the industry and the world-what do YOU want from your section this year? \nPlease RSVP below (VES members must login to RSVP)\nFriday\, February 24\, 2023 at 9:15PM\nWESTSIDE TAVERN\n360 W. 23rd Street (closer to 9th Avenue) New York\, NY 10011 \nIn an effort to prevent the spread of COVID-19\, we ask that you or your guests do not attend VES events if you are experiencing any symptoms or if you have been exposed to the virus. \nBy signing up for this on-site\, in-person screening/event sponsored by VES (Visual Effects Society)\, you willingly accept any potential inherent risks associated with COVID-19. VES cannot be held liable from any consequences that may transpire from said risk. Therefore\, signing up for this screening/event infers implied consent of yourself and your party and hereby indemnifies and holds harmless VES\, its directors\, its employees and any other affiliated persons from any adverse medical or financial impact that may result from our participation.
URL:https://vesglobal.org/event/post-screening-cocaine-bear-pub-night/
LOCATION:Westside Tavern\, 360 W 23rd St\, \, NY\, New York\, NY\, 10011\, United States
CATEGORIES:Pub Night
ATTACH;FMTTYPE=image/jpeg:https://vesglobal.org/wp-content/uploads/2023/02/CocaineBear2_PUBNIGHT.jpg
END:VEVENT
END:VCALENDAR