BEGIN:VCALENDAR
VERSION:2.0
PRODID:-//Visual Effects Society - ECPv6.15.20//NONSGML v1.0//EN
CALSCALE:GREGORIAN
METHOD:PUBLISH
X-WR-CALNAME:Visual Effects Society
X-ORIGINAL-URL:https://vesglobal.org
X-WR-CALDESC:Events for Visual Effects Society
REFRESH-INTERVAL;VALUE=DURATION:PT1H
X-Robots-Tag:noindex
X-PUBLISHED-TTL:PT1H
BEGIN:VTIMEZONE
TZID:America/Los_Angeles
BEGIN:DAYLIGHT
TZOFFSETFROM:-0800
TZOFFSETTO:-0700
TZNAME:PDT
DTSTART:20210314T100000
END:DAYLIGHT
BEGIN:STANDARD
TZOFFSETFROM:-0700
TZOFFSETTO:-0800
TZNAME:PST
DTSTART:20211107T090000
END:STANDARD
BEGIN:DAYLIGHT
TZOFFSETFROM:-0800
TZOFFSETTO:-0700
TZNAME:PDT
DTSTART:20220313T100000
END:DAYLIGHT
BEGIN:STANDARD
TZOFFSETFROM:-0700
TZOFFSETTO:-0800
TZNAME:PST
DTSTART:20221106T090000
END:STANDARD
BEGIN:DAYLIGHT
TZOFFSETFROM:-0800
TZOFFSETTO:-0700
TZNAME:PDT
DTSTART:20230312T100000
END:DAYLIGHT
BEGIN:STANDARD
TZOFFSETFROM:-0700
TZOFFSETTO:-0800
TZNAME:PST
DTSTART:20231105T090000
END:STANDARD
END:VTIMEZONE
BEGIN:VEVENT
DTSTART;TZID=America/Los_Angeles:20221025T183000
DTEND;TZID=America/Los_Angeles:20221025T223000
DTSTAMP:20260423T040732
CREATED:20221006T175210Z
LAST-MODIFIED:20221006T175307Z
UID:10010384-1666722600-1666737000@vesglobal.org
SUMMARY:Vancouver - October Pub Night
DESCRIPTION:VES Vancouver and Crafty Apes hope to see you at our next Pub Night\, on October 25th @ Brewhall. \nDon’t forget\, members get their first drink free! \nPlease RSVP here to let us know if you can make it.
URL:https://vesglobal.org/event/vancouver-october-pub-night/
LOCATION:BREWHALL\, 97 E 2nd Ave\, Vancouver\, BC\, V5T 1B3\, Canada
CATEGORIES:Pub Night
ATTACH;FMTTYPE=image/png:https://vesglobal.org/wp-content/uploads/2022/10/CraftyPubNight1.png
END:VEVENT
END:VCALENDAR