BEGIN:VCALENDAR
VERSION:2.0
PRODID:-//Visual Effects Society - ECPv6.15.20//NONSGML v1.0//EN
CALSCALE:GREGORIAN
METHOD:PUBLISH
X-WR-CALNAME:Visual Effects Society
X-ORIGINAL-URL:https://vesglobal.org
X-WR-CALDESC:Events for Visual Effects Society
REFRESH-INTERVAL;VALUE=DURATION:PT1H
X-Robots-Tag:noindex
X-PUBLISHED-TTL:PT1H
BEGIN:VTIMEZONE
TZID:Europe/Berlin
BEGIN:DAYLIGHT
TZOFFSETFROM:+0100
TZOFFSETTO:+0200
TZNAME:CEST
DTSTART:20210328T010000
END:DAYLIGHT
BEGIN:STANDARD
TZOFFSETFROM:+0200
TZOFFSETTO:+0100
TZNAME:CET
DTSTART:20211031T010000
END:STANDARD
BEGIN:DAYLIGHT
TZOFFSETFROM:+0100
TZOFFSETTO:+0200
TZNAME:CEST
DTSTART:20220327T010000
END:DAYLIGHT
BEGIN:STANDARD
TZOFFSETFROM:+0200
TZOFFSETTO:+0100
TZNAME:CET
DTSTART:20221030T010000
END:STANDARD
BEGIN:DAYLIGHT
TZOFFSETFROM:+0100
TZOFFSETTO:+0200
TZNAME:CEST
DTSTART:20230326T010000
END:DAYLIGHT
BEGIN:STANDARD
TZOFFSETFROM:+0200
TZOFFSETTO:+0100
TZNAME:CET
DTSTART:20231029T010000
END:STANDARD
END:VTIMEZONE
BEGIN:VEVENT
DTSTART;TZID=Europe/Berlin:20220713T190000
DTEND;TZID=Europe/Berlin:20220713T230000
DTSTAMP:20260423T094054
CREATED:20220707T123726Z
LAST-MODIFIED:20220707T124906Z
UID:10010327-1657738800-1657753200@vesglobal.org
SUMMARY:VES Germany Hangout - Stuttgart
DESCRIPTION:We invite you for some cool drinks at the Brauhaus Schönbuch for another in-person hangout\, after the last one at FMX was so nice! :) You can also bring along one person that is interested in joining the VES with you. \nPlease RSVP below. If you don’t see the RSVP Button below\, you have to log into your VES Account! \n 
URL:https://vesglobal.org/event/ves-germany-hangout-stuttgart/
LOCATION:Brauhaus Schönbuch\, Bolzstraße 10\, Stuttgart\, 70173\, Germany
CATEGORIES:Pub Night
ATTACH;FMTTYPE=image/jpeg:https://vesglobal.org/wp-content/uploads/2022/07/4080406.jpg
END:VEVENT
BEGIN:VEVENT
DTSTART;TZID=Europe/Berlin:20220713T190000
DTEND;TZID=Europe/Berlin:20220713T230000
DTSTAMP:20260423T094054
CREATED:20220707T124816Z
LAST-MODIFIED:20220707T124816Z
UID:10010329-1657738800-1657753200@vesglobal.org
SUMMARY:VES Germany Hangout Berlin
DESCRIPTION:We invite you for some cool drinks at the “Roter Rabe” bar for another in-person hangout\, after the last one at FMX was so nice! :) You can also bring along one person that is interested in joining the VES with you. \nPlease RSVP below. If you don’t see the RSVP Button below\, you have to log into your VES Account!
URL:https://vesglobal.org/event/ves-germany-hangout-berlin/
LOCATION:Roter Rabe\, Kotbusser Str. 13\, Berlin\, 10999
CATEGORIES:Pub Night
ATTACH;FMTTYPE=image/jpeg:https://vesglobal.org/wp-content/uploads/2022/07/4080406.jpg
ORGANIZER;CN="Germany":MAILTO:germanyboard@vesglobal.org
END:VEVENT
END:VCALENDAR