BEGIN:VCALENDAR
VERSION:2.0
PRODID:-//Visual Effects Society - ECPv6.15.20//NONSGML v1.0//EN
CALSCALE:GREGORIAN
METHOD:PUBLISH
X-ORIGINAL-URL:https://vesglobal.org
X-WR-CALDESC:Events for Visual Effects Society
REFRESH-INTERVAL;VALUE=DURATION:PT1H
X-Robots-Tag:noindex
X-PUBLISHED-TTL:PT1H
BEGIN:VTIMEZONE
TZID:America/Los_Angeles
BEGIN:DAYLIGHT
TZOFFSETFROM:-0800
TZOFFSETTO:-0700
TZNAME:PDT
DTSTART:20210314T100000
END:DAYLIGHT
BEGIN:STANDARD
TZOFFSETFROM:-0700
TZOFFSETTO:-0800
TZNAME:PST
DTSTART:20211107T090000
END:STANDARD
BEGIN:DAYLIGHT
TZOFFSETFROM:-0800
TZOFFSETTO:-0700
TZNAME:PDT
DTSTART:20220313T100000
END:DAYLIGHT
BEGIN:STANDARD
TZOFFSETFROM:-0700
TZOFFSETTO:-0800
TZNAME:PST
DTSTART:20221106T090000
END:STANDARD
BEGIN:DAYLIGHT
TZOFFSETFROM:-0800
TZOFFSETTO:-0700
TZNAME:PDT
DTSTART:20230312T100000
END:DAYLIGHT
BEGIN:STANDARD
TZOFFSETFROM:-0700
TZOFFSETTO:-0800
TZNAME:PST
DTSTART:20231105T090000
END:STANDARD
END:VTIMEZONE
BEGIN:VEVENT
DTSTART;TZID=America/Los_Angeles:20220330T190000
DTEND;TZID=America/Los_Angeles:20220330T220000
DTSTAMP:20260423T145421
CREATED:20220317T041816Z
LAST-MODIFIED:20220329T233803Z
UID:10010263-1648666800-1648677600@vesglobal.org
SUMMARY:Event - VES Pub Night (Los Angeles)
DESCRIPTION:The VES Los Angeles Section would like to invite our members to our first night out of the new year.\nJoin us and socialize with VES Members.  Live Jazz\, Libations and Lovely Noshes will be served throughout the evening.\n\nAll VES members and guests must show photo ID and proof of full vaccination against COVID-19 for admission.\n\nPlease jot in your calendar: Wednesday March 30\, 2022 from 7:00PM to 10:00PM\nPlease RSVP below (VES members must login to sign up.)\n\nOur social will take place at:\nThe Cat & Fiddle\n742 N. Highland Avenue\nHollywood\, CA\n\n***VES Members: Please register your name in “Attendee 1″ fields***
URL:https://vesglobal.org/event/event-ves-pub-night-los-angeles/
LOCATION:The Cat and Fiddle\, 742 N Highland Avenue\, Los Angeles\, CA\, 90038\, United States
CATEGORIES:Pub Night
END:VEVENT
END:VCALENDAR