BEGIN:VCALENDAR
VERSION:2.0
PRODID:-//Visual Effects Society - ECPv6.15.20//NONSGML v1.0//EN
CALSCALE:GREGORIAN
METHOD:PUBLISH
X-ORIGINAL-URL:https://vesglobal.org
X-WR-CALDESC:Events for Visual Effects Society
REFRESH-INTERVAL;VALUE=DURATION:PT1H
X-Robots-Tag:noindex
X-PUBLISHED-TTL:PT1H
BEGIN:VTIMEZONE
TZID:Australia/Sydney
BEGIN:STANDARD
TZOFFSETFROM:+1100
TZOFFSETTO:+1000
TZNAME:AEST
DTSTART:20200404T160000
END:STANDARD
BEGIN:DAYLIGHT
TZOFFSETFROM:+1000
TZOFFSETTO:+1100
TZNAME:AEDT
DTSTART:20201003T160000
END:DAYLIGHT
BEGIN:STANDARD
TZOFFSETFROM:+1100
TZOFFSETTO:+1000
TZNAME:AEST
DTSTART:20210403T160000
END:STANDARD
BEGIN:DAYLIGHT
TZOFFSETFROM:+1000
TZOFFSETTO:+1100
TZNAME:AEDT
DTSTART:20211002T160000
END:DAYLIGHT
BEGIN:STANDARD
TZOFFSETFROM:+1100
TZOFFSETTO:+1000
TZNAME:AEST
DTSTART:20220402T160000
END:STANDARD
BEGIN:DAYLIGHT
TZOFFSETFROM:+1000
TZOFFSETTO:+1100
TZNAME:AEDT
DTSTART:20221001T160000
END:DAYLIGHT
END:VTIMEZONE
BEGIN:VTIMEZONE
TZID:Australia/Adelaide
BEGIN:STANDARD
TZOFFSETFROM:+1030
TZOFFSETTO:+0930
TZNAME:ACST
DTSTART:20200404T163000
END:STANDARD
BEGIN:DAYLIGHT
TZOFFSETFROM:+0930
TZOFFSETTO:+1030
TZNAME:ACDT
DTSTART:20201003T163000
END:DAYLIGHT
BEGIN:STANDARD
TZOFFSETFROM:+1030
TZOFFSETTO:+0930
TZNAME:ACST
DTSTART:20210403T163000
END:STANDARD
BEGIN:DAYLIGHT
TZOFFSETFROM:+0930
TZOFFSETTO:+1030
TZNAME:ACDT
DTSTART:20211002T163000
END:DAYLIGHT
BEGIN:STANDARD
TZOFFSETFROM:+1030
TZOFFSETTO:+0930
TZNAME:ACST
DTSTART:20220402T163000
END:STANDARD
BEGIN:DAYLIGHT
TZOFFSETFROM:+0930
TZOFFSETTO:+1030
TZNAME:ACDT
DTSTART:20221001T163000
END:DAYLIGHT
END:VTIMEZONE
BEGIN:VEVENT
DTSTART;TZID=Australia/Sydney:20210513T183000
DTEND;TZID=Australia/Sydney:20210513T223000
DTSTAMP:20260424T032841
CREATED:20210429T120414Z
LAST-MODIFIED:20210429T214757Z
UID:10010087-1620930600-1620945000@vesglobal.org
SUMMARY:SYD - VES Pub Night May 2021
DESCRIPTION:VES Australia members and one guest are invited to join us for our first social event of the year. \nEvent Details\nThursday May 13th\nKeg & Brew\n26 Foveaux St\, Surry Hills NSW 2010 \nDrinks and finger food provided. \nRSVP via the event page on the VES website (login required):
URL:https://vesglobal.org/event/syd-ves-pub-night-may-2021/
LOCATION:Keg and Brew\, 26 Foveaux St\, Surry Hills\, NSW\, 2010\, Australia
CATEGORIES:Pub Night
ATTACH;FMTTYPE=image/jpeg:https://vesglobal.org/wp-content/uploads/2021/04/keg.jpeg
END:VEVENT
BEGIN:VEVENT
DTSTART;TZID=Australia/Adelaide:20210521T180000
DTEND;TZID=Australia/Adelaide:20210521T200000
DTSTAMP:20260424T032841
CREATED:20210516T015246Z
LAST-MODIFIED:20210516T020807Z
UID:10010099-1621620000-1621627200@vesglobal.org
SUMMARY:Adelaide VES Mixer
DESCRIPTION:Please join us for our Adelaide VES Mixer. \nYou are invited to join us for a chance to meet new\, existing and potential VES members in Adelaide! We encourage you to bring one potential eligible member to the function. \nEvent Details:\nFriday 21st May at 6pm\nThe Jade\n142-160 Flinders Street\, Adelaide\, SA 5000 \nHope to see you there!
URL:https://vesglobal.org/event/adl-ves-mixer/
LOCATION:The Jade\, 142-160 Flinders Street\, Adelaide\, SA\, 5000\, Australia
CATEGORIES:Party,Pub Night
ATTACH;FMTTYPE=image/png:https://vesglobal.org/wp-content/uploads/2021/05/1.front_.png
END:VEVENT
END:VCALENDAR