BEGIN:VCALENDAR
VERSION:2.0
PRODID:-//Visual Effects Society - ECPv6.15.20//NONSGML v1.0//EN
CALSCALE:GREGORIAN
METHOD:PUBLISH
X-WR-CALNAME:Visual Effects Society
X-ORIGINAL-URL:https://vesglobal.org
X-WR-CALDESC:Events for Visual Effects Society
REFRESH-INTERVAL;VALUE=DURATION:PT1H
X-Robots-Tag:noindex
X-PUBLISHED-TTL:PT1H
BEGIN:VTIMEZONE
TZID:Australia/Melbourne
BEGIN:STANDARD
TZOFFSETFROM:+1100
TZOFFSETTO:+1000
TZNAME:AEST
DTSTART:20190406T160000
END:STANDARD
BEGIN:DAYLIGHT
TZOFFSETFROM:+1000
TZOFFSETTO:+1100
TZNAME:AEDT
DTSTART:20191005T160000
END:DAYLIGHT
BEGIN:STANDARD
TZOFFSETFROM:+1100
TZOFFSETTO:+1000
TZNAME:AEST
DTSTART:20200404T160000
END:STANDARD
BEGIN:DAYLIGHT
TZOFFSETFROM:+1000
TZOFFSETTO:+1100
TZNAME:AEDT
DTSTART:20201003T160000
END:DAYLIGHT
BEGIN:STANDARD
TZOFFSETFROM:+1100
TZOFFSETTO:+1000
TZNAME:AEST
DTSTART:20210403T160000
END:STANDARD
BEGIN:DAYLIGHT
TZOFFSETFROM:+1000
TZOFFSETTO:+1100
TZNAME:AEDT
DTSTART:20211002T160000
END:DAYLIGHT
END:VTIMEZONE
BEGIN:VTIMEZONE
TZID:America/Los_Angeles
BEGIN:DAYLIGHT
TZOFFSETFROM:-0800
TZOFFSETTO:-0700
TZNAME:PDT
DTSTART:20190310T100000
END:DAYLIGHT
BEGIN:STANDARD
TZOFFSETFROM:-0700
TZOFFSETTO:-0800
TZNAME:PST
DTSTART:20191103T090000
END:STANDARD
BEGIN:DAYLIGHT
TZOFFSETFROM:-0800
TZOFFSETTO:-0700
TZNAME:PDT
DTSTART:20200308T100000
END:DAYLIGHT
BEGIN:STANDARD
TZOFFSETFROM:-0700
TZOFFSETTO:-0800
TZNAME:PST
DTSTART:20201101T090000
END:STANDARD
BEGIN:DAYLIGHT
TZOFFSETFROM:-0800
TZOFFSETTO:-0700
TZNAME:PDT
DTSTART:20210314T100000
END:DAYLIGHT
BEGIN:STANDARD
TZOFFSETFROM:-0700
TZOFFSETTO:-0800
TZNAME:PST
DTSTART:20211107T090000
END:STANDARD
END:VTIMEZONE
BEGIN:VTIMEZONE
TZID:Australia/Adelaide
BEGIN:STANDARD
TZOFFSETFROM:+1030
TZOFFSETTO:+0930
TZNAME:ACST
DTSTART:20190406T163000
END:STANDARD
BEGIN:DAYLIGHT
TZOFFSETFROM:+0930
TZOFFSETTO:+1030
TZNAME:ACDT
DTSTART:20191005T163000
END:DAYLIGHT
BEGIN:STANDARD
TZOFFSETFROM:+1030
TZOFFSETTO:+0930
TZNAME:ACST
DTSTART:20200404T163000
END:STANDARD
BEGIN:DAYLIGHT
TZOFFSETFROM:+0930
TZOFFSETTO:+1030
TZNAME:ACDT
DTSTART:20201003T163000
END:DAYLIGHT
BEGIN:STANDARD
TZOFFSETFROM:+1030
TZOFFSETTO:+0930
TZNAME:ACST
DTSTART:20210403T163000
END:STANDARD
BEGIN:DAYLIGHT
TZOFFSETFROM:+0930
TZOFFSETTO:+1030
TZNAME:ACDT
DTSTART:20211002T163000
END:DAYLIGHT
END:VTIMEZONE
BEGIN:VTIMEZONE
TZID:Europe/Paris
BEGIN:DAYLIGHT
TZOFFSETFROM:+0100
TZOFFSETTO:+0200
TZNAME:CEST
DTSTART:20190331T010000
END:DAYLIGHT
BEGIN:STANDARD
TZOFFSETFROM:+0200
TZOFFSETTO:+0100
TZNAME:CET
DTSTART:20191027T010000
END:STANDARD
BEGIN:DAYLIGHT
TZOFFSETFROM:+0100
TZOFFSETTO:+0200
TZNAME:CEST
DTSTART:20200329T010000
END:DAYLIGHT
BEGIN:STANDARD
TZOFFSETFROM:+0200
TZOFFSETTO:+0100
TZNAME:CET
DTSTART:20201025T010000
END:STANDARD
BEGIN:DAYLIGHT
TZOFFSETFROM:+0100
TZOFFSETTO:+0200
TZNAME:CEST
DTSTART:20210328T010000
END:DAYLIGHT
BEGIN:STANDARD
TZOFFSETFROM:+0200
TZOFFSETTO:+0100
TZNAME:CET
DTSTART:20211031T010000
END:STANDARD
END:VTIMEZONE
BEGIN:VEVENT
DTSTART;TZID=Australia/Melbourne:20200305T183000
DTEND;TZID=Australia/Melbourne:20200305T210000
DTSTAMP:20260424T205802
CREATED:20200219T085629Z
LAST-MODIFIED:20200219T085707Z
UID:10009867-1583433000-1583442000@vesglobal.org
SUMMARY:MEL - New Year Mixer 2020!
DESCRIPTION:Please join us for the first VES Mixer of 2020!\nYou are invited to join us for a chance to meet new\, existing and potential VES members in Melbourne! \nPlus one’s welcome. \nEvent Details\nThursday 5th March at 6.30pm\nThe Clarendon – Sky Bar\n209-215 Clarendon St\, South Melbourne \nDrinks and Finger Food provided. \nRSVP via the form below. Hope to see you there!
URL:https://vesglobal.org/event/mel-new-year-mixer-2020/
LOCATION:The Clarendon Hotel\, 209-215 Clarendon Street\, South Melbourne\, VIC\, 3205\, Australia
CATEGORIES:Pub Night
ATTACH;FMTTYPE=image/jpeg:https://vesglobal.org/wp-content/uploads/2020/02/d04f12e49c8aa5c369c030a91c18b6ed.jpg
END:VEVENT
BEGIN:VEVENT
DTSTART;TZID=America/Los_Angeles:20200305T183000
DTEND;TZID=America/Los_Angeles:20200305T210000
DTSTAMP:20260424T205802
CREATED:20200221T060905Z
LAST-MODIFIED:20200222T035443Z
UID:10009871-1583433000-1583442000@vesglobal.org
SUMMARY:SYD - New Year Social Mixer 2020
DESCRIPTION:Please join us for the first VES Mixer of 2020!\nYou are invited to join us for a chance to meet new\, existing and potential VES members in Sydney! \nPlus one’s welcome. \nEvent Details\nThursday 5th March at 6.30pm\nThe Local Taphouse – Rooftop\n122 Flinders St\, Darlinghurst \nDrinks and Finger Food provided. \nRSVP via the form below by March 4th. Hope to see you there!
URL:https://vesglobal.org/event/syd-new-year-social-mixer-2020/
LOCATION:Taphouse\, 122 Flinders St\, Darlinghurst\, NSW\, 2010\, Australia
CATEGORIES:Pub Night
ATTACH;FMTTYPE=image/jpeg:https://vesglobal.org/wp-content/uploads/2020/02/taphouse.jpg
END:VEVENT
BEGIN:VEVENT
DTSTART;TZID=America/Los_Angeles:20200305T193000
DTEND;TZID=America/Los_Angeles:20200305T230000
DTSTAMP:20260424T205802
CREATED:20200219T234559Z
LAST-MODIFIED:20200229T014851Z
UID:10009870-1583436600-1583449200@vesglobal.org
SUMMARY:VES-WA Section: Movie & Pub Night (The Invisible Man)
DESCRIPTION:Hey Washington Section! (updated Friday\, 2/28/2020)  \nYou are cordially invited to a Movie & Pub Night\, hosted by the Washington Section of the VES on Thursday\, March 5th\, at the AMC Factoria in Bellevue (3505 Factoria Blvd\, Bellevue\, WA). \nVES-Washington has purchased a limited number of tickets to see a screening of THE INVISIBLE MAN starring Elisabeth Moss.  After the show\, we’ll convene at the nearby Applebee’s —  first drink’s on us — to discuss the movie\, and the enjoy the fellowship of our VES colleagues. Factoria 8 showtime is currently set @ 7:30p\, we’ll update you if that changes.  \nPlease note that this is not one of our usual studio-sponsored screenings. The Washington Section has purchased these tickets individually\, so they will be available on a strict first-come\, first-served basis\, and to WA-VES members only — no guests\, please. We have space for maximum 20 people to RSVP (use the RSVP button below)\, and we’re about half-full as of this update. Please get your RSVP in no later that Wednesday\, Mar 4th by 11pm to ensure your spot.  \nIf you RSVP and then expect you won’t be able to attend (or have a problem with your RSVP)\, please let us know ASAP at veswashington@gmail.com so we can make space for someone else. \nA reminder that the VES Spring Membership drive deadline is March 15\, so if you know of anyone who might be interested in joining\, now’s the time to ask them! In the meantime\, we look forward to seeing you on March 5th for our Movie & Pub Night. \nAll the best! \nVisual Effects Society – Washington Section \n 
URL:https://vesglobal.org/event/ves-wa-section-movie-pub-night-the-invisible-man/
CATEGORIES:Pub Night,Screening
ATTACH;FMTTYPE=image/png:https://vesglobal.org/wp-content/uploads/2020/02/VES_MoviePubNight_Mar_2020_web.png
END:VEVENT
BEGIN:VEVENT
DTSTART;TZID=Australia/Adelaide:20200310T183000
DTEND;TZID=Australia/Adelaide:20200310T200000
DTSTAMP:20260424T205802
CREATED:20200305T161007Z
LAST-MODIFIED:20200310T003228Z
UID:10009898-1583865000-1583870400@vesglobal.org
SUMMARY:ADL - New Year Social Mixer 2020!
DESCRIPTION:Please join us for the first VES Mixer of 2020!\nYou are invited to join us for a chance to meet new\, existing and potential VES members in Adelaide! \nIn an effort to prevent the spread of COVID19\, we ask you or your guests who may show any symptoms or who might have been exposed to the virus do not attend VES events. \nPlus ones welcome. \nEvent Details\nTuesday 10th March at 6.30pm\nThe Jade\n142-160 Flinders Street\, Adelaide \nDrinks and Finger Food provided. \nRSVP via the form below. Hope to see you there!
URL:https://vesglobal.org/event/adl-new-year-social-mixer-2020/
LOCATION:The Jade\, 142-160 Flinders Street\, Adelaide\, SA\, 5000\, Australia
CATEGORIES:Pub Night
ATTACH;FMTTYPE=image/jpeg:https://vesglobal.org/wp-content/uploads/2020/03/79177536_2655712914507310_1253927363686672240_n.jpg
END:VEVENT
BEGIN:VEVENT
DTSTART;TZID=Europe/Paris:20200312T193000
DTEND;TZID=Europe/Paris:20200312T230000
DTSTAMP:20260424T205802
CREATED:20200303T133456Z
LAST-MODIFIED:20200310T003608Z
UID:10009886-1584041400-1584054000@vesglobal.org
SUMMARY:Recruitment Party - Paris March 12th
DESCRIPTION:Recruitment Party\, Fall 2020\nAfin d'éviter la propagation de COVID19\, nous demandons à vous ou à vos invités qui peuvent présenter des symptômes ou qui pourraient avoir été exposés au virus de ne pas assister aux événements VES.\nRendez-vous Jeudi 12 Mars à partir de 19h30\nau\nCorcoran’s Irish Pub\n23\, boulevard Poissonnière\n75002 Paris – FRANCE\n  \nVenez avec un ou plusieurs invités susceptibles de rejoindre la VES France.\nDeadline d’inscription aux VES Spring Session: 15 mars 2020.\nN’oubliez pas de vous loguer pour pouvoir vous inscrire.
URL:https://vesglobal.org/event/recruitment-party-paris-march-12th/
LOCATION:Corcoran’s Irish Pub\, 23\, boulevard Poissonnière\, Paris\, 75002\, France
CATEGORIES:Pub Night
END:VEVENT
END:VCALENDAR