BEGIN:VCALENDAR
VERSION:2.0
PRODID:-//Visual Effects Society - ECPv6.15.20//NONSGML v1.0//EN
CALSCALE:GREGORIAN
METHOD:PUBLISH
X-ORIGINAL-URL:https://vesglobal.org
X-WR-CALDESC:Events for Visual Effects Society
REFRESH-INTERVAL;VALUE=DURATION:PT1H
X-Robots-Tag:noindex
X-PUBLISHED-TTL:PT1H
BEGIN:VTIMEZONE
TZID:America/Chicago
BEGIN:DAYLIGHT
TZOFFSETFROM:-0600
TZOFFSETTO:-0500
TZNAME:CDT
DTSTART:20250309T080000
END:DAYLIGHT
BEGIN:STANDARD
TZOFFSETFROM:-0500
TZOFFSETTO:-0600
TZNAME:CST
DTSTART:20251102T070000
END:STANDARD
BEGIN:DAYLIGHT
TZOFFSETFROM:-0600
TZOFFSETTO:-0500
TZNAME:CDT
DTSTART:20260308T080000
END:DAYLIGHT
BEGIN:STANDARD
TZOFFSETFROM:-0500
TZOFFSETTO:-0600
TZNAME:CST
DTSTART:20261101T070000
END:STANDARD
BEGIN:DAYLIGHT
TZOFFSETFROM:-0600
TZOFFSETTO:-0500
TZNAME:CDT
DTSTART:20270314T080000
END:DAYLIGHT
BEGIN:STANDARD
TZOFFSETFROM:-0500
TZOFFSETTO:-0600
TZNAME:CST
DTSTART:20271107T070000
END:STANDARD
END:VTIMEZONE
BEGIN:VEVENT
DTSTART;TZID=America/Chicago:20260317T190000
DTEND;TZID=America/Chicago:20260317T193000
DTSTAMP:20260421T073409
CREATED:20260311T220506Z
LAST-MODIFIED:20260312T232724Z
UID:10011646-1773774000-1773775800@vesglobal.org
SUMMARY:Texas Section Town Hall Zoom Meeting!
DESCRIPTION:On behalf of the VES Texas Board of Managers\, thank you to our members for helping grow and sustain the Texas section over the past two years. Your support has helped build our VFX community across the state. \nWe’re hosting a short VES Texas Town Hall and would love to hear your ideas on events\, engagement\, and the future direction of the section. \n📅 Tuesday\, 3/17\n ⏰ 7:00–7:30 PM CST\n 💻 Virtual \nWe’ll also share opportunities to get involved\, including an open Treasurer position on the Board of Managers. \nTOWN HALL ZOOM LINK
URL:https://vesglobal.org/event/texas-section-town-hall-zoom-meeting/
CATEGORIES:Meeting,Virtual
LOCATION:https://us06web.zoom.us/j/89354081285?pwd=Rf0mIECaNqjAj28hEbn7vero7Bdrz4.1
END:VEVENT
END:VCALENDAR