BEGIN:VCALENDAR
VERSION:2.0
PRODID:-//Visual Effects Society - ECPv6.15.20//NONSGML v1.0//EN
CALSCALE:GREGORIAN
METHOD:PUBLISH
X-WR-CALNAME:Visual Effects Society
X-ORIGINAL-URL:https://vesglobal.org
X-WR-CALDESC:Events for Visual Effects Society
REFRESH-INTERVAL;VALUE=DURATION:PT1H
X-Robots-Tag:noindex
X-PUBLISHED-TTL:PT1H
BEGIN:VTIMEZONE
TZID:America/Toronto
BEGIN:DAYLIGHT
TZOFFSETFROM:-0500
TZOFFSETTO:-0400
TZNAME:EDT
DTSTART:20250309T070000
END:DAYLIGHT
BEGIN:STANDARD
TZOFFSETFROM:-0400
TZOFFSETTO:-0500
TZNAME:EST
DTSTART:20251102T060000
END:STANDARD
BEGIN:DAYLIGHT
TZOFFSETFROM:-0500
TZOFFSETTO:-0400
TZNAME:EDT
DTSTART:20260308T070000
END:DAYLIGHT
BEGIN:STANDARD
TZOFFSETFROM:-0400
TZOFFSETTO:-0500
TZNAME:EST
DTSTART:20261101T060000
END:STANDARD
BEGIN:DAYLIGHT
TZOFFSETFROM:-0500
TZOFFSETTO:-0400
TZNAME:EDT
DTSTART:20270314T070000
END:DAYLIGHT
BEGIN:STANDARD
TZOFFSETFROM:-0400
TZOFFSETTO:-0500
TZNAME:EST
DTSTART:20271107T060000
END:STANDARD
END:VTIMEZONE
BEGIN:VEVENT
DTSTART;TZID=America/Toronto:20260205T190000
DTEND;TZID=America/Toronto:20260205T230000
DTSTAMP:20260421T095713
CREATED:20260117T202956Z
LAST-MODIFIED:20260117T202956Z
UID:10011605-1770318000-1770332400@vesglobal.org
SUMMARY:VES TORONTO SECTION - 2026 Annual General Meeting (AGM)
DESCRIPTION:Please check your email for RSVP link or login and use the link at the bottom of this post. \nVES Toronto members and guest\, please join us for our Annual General Meeting to share a drink and some food\, connect with other VES members and the VES Toronto board. Share your voice and learn about what’s coming up for 2026. \n\nWhen: Thursday February 5th 2026\, 7:00 pm to 11:00 pm ET\nLocation: Black Sheep\, 165 E Liberty St\, Toronto\, 3rd Floor. (inside The Brazen Head Pub)\nDrink Ticket and Food will be provided. We look forward to seeing you there!\n\n 
URL:https://vesglobal.org/event/ves-toronto-section-2026-annual-general-meeting-agm/
LOCATION:The Black Sheep\, 165 E Liberty St 3rd Floor\, Toronto\, Ontario\, M6K 3K4\, Canada
CATEGORIES:Meeting,Party,Pub Night
ATTACH;FMTTYPE=image/jpeg:https://vesglobal.org/wp-content/uploads/2026/01/agm_2026_v01_crop.jpg
END:VEVENT
END:VCALENDAR