BEGIN:VCALENDAR
VERSION:2.0
PRODID:-//Visual Effects Society - ECPv6.15.20//NONSGML v1.0//EN
CALSCALE:GREGORIAN
METHOD:PUBLISH
X-ORIGINAL-URL:https://vesglobal.org
X-WR-CALDESC:Events for Visual Effects Society
REFRESH-INTERVAL;VALUE=DURATION:PT1H
X-Robots-Tag:noindex
X-PUBLISHED-TTL:PT1H
BEGIN:VTIMEZONE
TZID:America/Toronto
BEGIN:DAYLIGHT
TZOFFSETFROM:-0500
TZOFFSETTO:-0400
TZNAME:EDT
DTSTART:20240310T070000
END:DAYLIGHT
BEGIN:STANDARD
TZOFFSETFROM:-0400
TZOFFSETTO:-0500
TZNAME:EST
DTSTART:20241103T060000
END:STANDARD
BEGIN:DAYLIGHT
TZOFFSETFROM:-0500
TZOFFSETTO:-0400
TZNAME:EDT
DTSTART:20250309T070000
END:DAYLIGHT
BEGIN:STANDARD
TZOFFSETFROM:-0400
TZOFFSETTO:-0500
TZNAME:EST
DTSTART:20251102T060000
END:STANDARD
BEGIN:DAYLIGHT
TZOFFSETFROM:-0500
TZOFFSETTO:-0400
TZNAME:EDT
DTSTART:20260308T070000
END:DAYLIGHT
BEGIN:STANDARD
TZOFFSETFROM:-0400
TZOFFSETTO:-0500
TZNAME:EST
DTSTART:20261101T060000
END:STANDARD
END:VTIMEZONE
BEGIN:VEVENT
DTSTART;TZID=America/Toronto:20250206T190000
DTEND;TZID=America/Toronto:20250206T220000
DTSTAMP:20260422T052922
CREATED:20250122T033714Z
LAST-MODIFIED:20250122T033714Z
UID:10011082-1738868400-1738879200@vesglobal.org
SUMMARY:VES Toronto Section 2025 AGM Meeting
DESCRIPTION:VES Toronto members and guest\, please join us for our Annual General Meeting to share a drink and some food\, connect with other VES members and the VES Toronto board. Share your voice and learn about what’s coming up for 2025. \n\nWhen: Thursday February 6th\, 2025\, 7:00 pm to 10:00 pm EST\nLocation: Black Sheep\, 165 E Liberty St\, Toronto\, 3rd Floor. (inside The Brazen Head Pub)\nDrink Tickets and Food will be provided. We look forward to seeing you there!\n\nPlease check your email for RSVP link or login and use the link at the bottom of this post.
URL:https://vesglobal.org/event/ves-toronto-section-2025-agm-meeting/
LOCATION:The Black Sheep\, 165 E Liberty St 3rd Floor\, Toronto\, Ontario\, M6K 3K4\, Canada
CATEGORIES:Meeting,Party,Pub Night
ATTACH;FMTTYPE=image/png:https://vesglobal.org/wp-content/uploads/2025/01/agm-2025-v01.png
END:VEVENT
END:VCALENDAR