BEGIN:VCALENDAR
VERSION:2.0
PRODID:-//Visual Effects Society - ECPv6.15.20//NONSGML v1.0//EN
CALSCALE:GREGORIAN
METHOD:PUBLISH
X-WR-CALNAME:Visual Effects Society
X-ORIGINAL-URL:https://vesglobal.org
X-WR-CALDESC:Events for Visual Effects Society
REFRESH-INTERVAL;VALUE=DURATION:PT1H
X-Robots-Tag:noindex
X-PUBLISHED-TTL:PT1H
BEGIN:VTIMEZONE
TZID:Pacific/Auckland
BEGIN:STANDARD
TZOFFSETFROM:+1300
TZOFFSETTO:+1200
TZNAME:NZST
DTSTART:20240406T140000
END:STANDARD
BEGIN:DAYLIGHT
TZOFFSETFROM:+1200
TZOFFSETTO:+1300
TZNAME:NZDT
DTSTART:20240928T140000
END:DAYLIGHT
BEGIN:STANDARD
TZOFFSETFROM:+1300
TZOFFSETTO:+1200
TZNAME:NZST
DTSTART:20250405T140000
END:STANDARD
BEGIN:DAYLIGHT
TZOFFSETFROM:+1200
TZOFFSETTO:+1300
TZNAME:NZDT
DTSTART:20250927T140000
END:DAYLIGHT
BEGIN:STANDARD
TZOFFSETFROM:+1300
TZOFFSETTO:+1200
TZNAME:NZST
DTSTART:20260404T140000
END:STANDARD
BEGIN:DAYLIGHT
TZOFFSETFROM:+1200
TZOFFSETTO:+1300
TZNAME:NZDT
DTSTART:20260926T140000
END:DAYLIGHT
END:VTIMEZONE
BEGIN:VEVENT
DTSTART;TZID=Pacific/Auckland:20250129T183000
DTEND;TZID=Pacific/Auckland:20250129T213000
DTSTAMP:20260422T071338
CREATED:20241219T004928Z
LAST-MODIFIED:20241219T005229Z
UID:10011076-1738175400-1738186200@vesglobal.org
SUMMARY:Virginie Bourdin: Mastering the Art of Direction
DESCRIPTION:Virginie Bourdin: Mastering the Art of Direction\nDate: January 30\, 2025\nTime: 6:30–9:30 PM\nLocation: Miramar Creative Centre \nJoin us for an extraordinary evening with Virginie Bourdin\, a globally acclaimed Creative Director and Visual Development artist whose iconic credits include Alien\, Barbie\, Harry Potter\, and Captain Marvel. \nThis exclusive event\, brought to you by C.A.F.E.\, WIFT NZ\, VFXG\, VES NZ\, and the Miramar Creative Centre\, offers a rare opportunity to delve into Virginie’s expertise in the Virtual Art Department (VAD) and her trailblazing contributions to concept art. \nFormerly the VFX Art Director at MPC Film London\, Virginie established the first VFX art department in 2003 and later founded AOD Visuals (The Art of Direction). She now leads masterclasses designed to empower artists in navigating the fast-evolving landscape of AI. \nThe evening’s program includes: \n\nA presentation on The Art of Direction\nA moderated discussion with Guillaume Renier (37 Degrees Studios)\nA live audience Q&A session\nNetworking drinks at Double Vision Brewery\n\nSeating is limited—reserve your spot today and gain insights from one of the industry’s most innovative visionaries. \nGet your Tickets HERE
URL:https://vesglobal.org/event/virginie-bourdin-mastering-the-art-of-direction/
LOCATION:Miramar Creative Centre\, 133 Park Road\, Miramar Wellington\, 6022\, New Zealand
CATEGORIES:Educational,Event,Meeting
ATTACH;FMTTYPE=image/png:https://vesglobal.org/wp-content/uploads/2024/12/art-of-direction-graphic.png
END:VEVENT
END:VCALENDAR