BEGIN:VCALENDAR
VERSION:2.0
PRODID:-//Visual Effects Society - ECPv6.15.20//NONSGML v1.0//EN
CALSCALE:GREGORIAN
METHOD:PUBLISH
X-WR-CALNAME:Visual Effects Society
X-ORIGINAL-URL:https://vesglobal.org
X-WR-CALDESC:Events for Visual Effects Society
REFRESH-INTERVAL;VALUE=DURATION:PT1H
X-Robots-Tag:noindex
X-PUBLISHED-TTL:PT1H
BEGIN:VTIMEZONE
TZID:America/Los_Angeles
BEGIN:DAYLIGHT
TZOFFSETFROM:-0800
TZOFFSETTO:-0700
TZNAME:PDT
DTSTART:20230312T100000
END:DAYLIGHT
BEGIN:STANDARD
TZOFFSETFROM:-0700
TZOFFSETTO:-0800
TZNAME:PST
DTSTART:20231105T090000
END:STANDARD
BEGIN:DAYLIGHT
TZOFFSETFROM:-0800
TZOFFSETTO:-0700
TZNAME:PDT
DTSTART:20240310T100000
END:DAYLIGHT
BEGIN:STANDARD
TZOFFSETFROM:-0700
TZOFFSETTO:-0800
TZNAME:PST
DTSTART:20241103T090000
END:STANDARD
BEGIN:DAYLIGHT
TZOFFSETFROM:-0800
TZOFFSETTO:-0700
TZNAME:PDT
DTSTART:20250309T100000
END:DAYLIGHT
BEGIN:STANDARD
TZOFFSETFROM:-0700
TZOFFSETTO:-0800
TZNAME:PST
DTSTART:20251102T090000
END:STANDARD
END:VTIMEZONE
BEGIN:VEVENT
DTSTART;TZID=America/Los_Angeles:20241121T110000
DTEND;TZID=America/Los_Angeles:20241121T113000
DTSTAMP:20260422T102039
CREATED:20241111T230219Z
LAST-MODIFIED:20241114T072250Z
UID:10011032-1732186800-1732188600@vesglobal.org
SUMMARY:Event - New Member Orientation (Online)
DESCRIPTION:VES members must login to RSVP and see the URL below. \nThursday\, November 21\, 2024 at 11:00AM (PST)\, 1:00PM (CST)\, 2:00PM (EST)\, 7:00PM (GMT)\, 8:00PM (CET) and Friday\, November 22\, 2024 at 1:30AM (IST)\, 7:00AM (AEST)\, 9:00AM (NZST) \nPlease join us for an orientation to get the most out of your VES membership! You’ll have the chance to meet your fellow members\, take advantage of key member benefits\, learn how to navigate our website and ways you can start to participate in the Society immediately.
URL:https://vesglobal.org/event/event-new-member-orientation-online-3/
CATEGORIES:Global/Online,Meeting
ATTACH;FMTTYPE=image/jpeg:https://vesglobal.org/wp-content/uploads/2024/06/Membership-Collage.jpg
END:VEVENT
END:VCALENDAR