BEGIN:VCALENDAR
VERSION:2.0
PRODID:-//Visual Effects Society - ECPv6.15.20//NONSGML v1.0//EN
CALSCALE:GREGORIAN
METHOD:PUBLISH
X-WR-CALNAME:Visual Effects Society
X-ORIGINAL-URL:https://vesglobal.org
X-WR-CALDESC:Events for Visual Effects Society
REFRESH-INTERVAL;VALUE=DURATION:PT1H
X-Robots-Tag:noindex
X-PUBLISHED-TTL:PT1H
BEGIN:VTIMEZONE
TZID:Pacific/Auckland
BEGIN:STANDARD
TZOFFSETFROM:+1300
TZOFFSETTO:+1200
TZNAME:NZST
DTSTART:20230401T140000
END:STANDARD
BEGIN:DAYLIGHT
TZOFFSETFROM:+1200
TZOFFSETTO:+1300
TZNAME:NZDT
DTSTART:20230923T140000
END:DAYLIGHT
BEGIN:STANDARD
TZOFFSETFROM:+1300
TZOFFSETTO:+1200
TZNAME:NZST
DTSTART:20240406T140000
END:STANDARD
BEGIN:DAYLIGHT
TZOFFSETFROM:+1200
TZOFFSETTO:+1300
TZNAME:NZDT
DTSTART:20240928T140000
END:DAYLIGHT
BEGIN:STANDARD
TZOFFSETFROM:+1300
TZOFFSETTO:+1200
TZNAME:NZST
DTSTART:20250405T140000
END:STANDARD
BEGIN:DAYLIGHT
TZOFFSETFROM:+1200
TZOFFSETTO:+1300
TZNAME:NZDT
DTSTART:20250927T140000
END:DAYLIGHT
END:VTIMEZONE
BEGIN:VEVENT
DTSTART;TZID=Pacific/Auckland:20240911T190000
DTEND;TZID=Pacific/Auckland:20240911T210000
DTSTAMP:20260422T131803
CREATED:20240904T181345Z
LAST-MODIFIED:20240904T221003Z
UID:10010937-1726081200-1726088400@vesglobal.org
SUMMARY:Wellington Pub Night & Membership Drive
DESCRIPTION:Come along and join us for our upcoming networking\, pub night and membership drive all in one. Open to all folks working in Visual and Special Effects\, Games\, Animation\, the works! Please invite your colleagues to come along and learn more. \nIt’s the perfect opportunity to unwind\, socialize\, and learn more about the Visual Effects Society here in New Zealand. \nWhat’s in Store: \n\nWelcome Drinks: Enjoy a complimentary drink on arrival.\nMembership Info: Learn about the benefits of becoming a member.\nNetworking: Meet and mingle with fellow members and guests.\n\nDate: Wednesday\, September 11\, 2024\nTime: 7:00pm\nLocation: Double Vision Brewery\, 128A Unit E\, Park Road\, Miramar\, Wellington 6022
URL:https://vesglobal.org/event/wellington-pub-night-membership-drive/
LOCATION:Double Vision Brewing\, 128A Unit E Park Road\, Miramar\, Wellington\, 6022\, New Zealand
CATEGORIES:Event,Meeting,Party,Pub Night
ATTACH;FMTTYPE=image/jpeg:https://vesglobal.org/wp-content/uploads/2024/09/IMG-8791-cropped-scaled.jpg
END:VEVENT
END:VCALENDAR