BEGIN:VCALENDAR
VERSION:2.0
PRODID:-//Visual Effects Society - ECPv6.15.20//NONSGML v1.0//EN
CALSCALE:GREGORIAN
METHOD:PUBLISH
X-WR-CALNAME:Visual Effects Society
X-ORIGINAL-URL:https://vesglobal.org
X-WR-CALDESC:Events for Visual Effects Society
REFRESH-INTERVAL;VALUE=DURATION:PT1H
X-Robots-Tag:noindex
X-PUBLISHED-TTL:PT1H
BEGIN:VTIMEZONE
TZID:America/Los_Angeles
BEGIN:DAYLIGHT
TZOFFSETFROM:-0800
TZOFFSETTO:-0700
TZNAME:PDT
DTSTART:20230312T100000
END:DAYLIGHT
BEGIN:STANDARD
TZOFFSETFROM:-0700
TZOFFSETTO:-0800
TZNAME:PST
DTSTART:20231105T090000
END:STANDARD
BEGIN:DAYLIGHT
TZOFFSETFROM:-0800
TZOFFSETTO:-0700
TZNAME:PDT
DTSTART:20240310T100000
END:DAYLIGHT
BEGIN:STANDARD
TZOFFSETFROM:-0700
TZOFFSETTO:-0800
TZNAME:PST
DTSTART:20241103T090000
END:STANDARD
BEGIN:DAYLIGHT
TZOFFSETFROM:-0800
TZOFFSETTO:-0700
TZNAME:PDT
DTSTART:20250309T100000
END:DAYLIGHT
BEGIN:STANDARD
TZOFFSETFROM:-0700
TZOFFSETTO:-0800
TZNAME:PST
DTSTART:20251102T090000
END:STANDARD
END:VTIMEZONE
BEGIN:VEVENT
DTSTART;TZID=America/Los_Angeles:20240404T110000
DTEND;TZID=America/Los_Angeles:20240404T123000
DTSTAMP:20260422T202203
CREATED:20240329T194957Z
LAST-MODIFIED:20240329T194957Z
UID:10010787-1712228400-1712233800@vesglobal.org
SUMMARY:VES Virtual Panel - The VFX of The Hunger Games: The Ballad of Songbirds & Snakes
DESCRIPTION:The Visual Effects Society of Los Angeles invites our global members you to a panel discussion on the Art of VFX featuring Adrian de Wet. \nPlease join us virtually – April 4th\, 2024  \n\n11 AM – West Coast\n\n2 PM – East Coast\n\n8 PM – Central Europe\n\n\nRSPV Here: https://forms.gle/7V6xEH8vTxC3qGMc7 \nEvent Description: \nVFX Supervisor Adrian de Wet will discuss the visual effects decision making and process for the feature film The Hunger Games: The Ballad of Songbirds & Snakes. From visualization to finals\, featured guests will include\, Martin Gaardeler from GHOST VFX\, Marko Ljubez from IMPORTANT LOOKING PIRATES\, Casey Pyke from HALON ENTERTAINMENT\, Erik Schneider from RISE VFX\, and Sheen Yap from OUTPOST VFX. Following the panel will be a brief Q&A. \nThe event will be presented via Zoom webinar. Please RSVP with the link provided above and a Zoom link will be email prior to the event.If you are unable to attend in real-time\, the panel will be available on the VES Global website to stream at your convenience.  \n\n \n 
URL:https://vesglobal.org/event/ves-virtual-panel-the-vfx-of-the-hunger-games-the-ballad-of-songbirds-snakes/
CATEGORIES:Educational,Event,Meeting
ATTACH;FMTTYPE=image/png:https://vesglobal.org/wp-content/uploads/2024/03/Screenshot-2024-03-29-at-12.42.11 PM.png
END:VEVENT
END:VCALENDAR