BEGIN:VCALENDAR
VERSION:2.0
PRODID:-//Visual Effects Society - ECPv6.15.20//NONSGML v1.0//EN
CALSCALE:GREGORIAN
METHOD:PUBLISH
X-ORIGINAL-URL:https://vesglobal.org
X-WR-CALDESC:Events for Visual Effects Society
REFRESH-INTERVAL;VALUE=DURATION:PT1H
X-Robots-Tag:noindex
X-PUBLISHED-TTL:PT1H
BEGIN:VTIMEZONE
TZID:America/Chicago
BEGIN:DAYLIGHT
TZOFFSETFROM:-0600
TZOFFSETTO:-0500
TZNAME:CDT
DTSTART:20230312T080000
END:DAYLIGHT
BEGIN:STANDARD
TZOFFSETFROM:-0500
TZOFFSETTO:-0600
TZNAME:CST
DTSTART:20231105T070000
END:STANDARD
BEGIN:DAYLIGHT
TZOFFSETFROM:-0600
TZOFFSETTO:-0500
TZNAME:CDT
DTSTART:20240310T080000
END:DAYLIGHT
BEGIN:STANDARD
TZOFFSETFROM:-0500
TZOFFSETTO:-0600
TZNAME:CST
DTSTART:20241103T070000
END:STANDARD
BEGIN:DAYLIGHT
TZOFFSETFROM:-0600
TZOFFSETTO:-0500
TZNAME:CDT
DTSTART:20250309T080000
END:DAYLIGHT
BEGIN:STANDARD
TZOFFSETFROM:-0500
TZOFFSETTO:-0600
TZNAME:CST
DTSTART:20251102T070000
END:STANDARD
END:VTIMEZONE
BEGIN:VEVENT
DTSTART;TZID=America/Chicago:20240208T190000
DTEND;TZID=America/Chicago:20240208T200000
DTSTAMP:20260422T225713
CREATED:20240202T234931Z
LAST-MODIFIED:20240203T013540Z
UID:10010737-1707418800-1707422400@vesglobal.org
SUMMARY:Texas Section Welcome Townhall - Zoom
DESCRIPTION:Visual Effects Society HQ is so over the moon (man) about welcoming Texas as our 16th Section! If you haven’t seen it yet\, click here to read the official announcement. You’ve set a new record by having the quickest petition ever completed\, and we know that kind of « go get ‘em » lone star energy will help make the Section successful. \nSoon\, we will open up elections for the inaugural\, 12-seat Texas Board of Managers. Our Global Manager\, Shannon Cassidy\, will be giving you an overview of how the Board of Managers runs\, the roles\, and the fantastic opportunities that come along with this position. She will also answer any questions you have about your new Section. \nPlease join us for an open house on Thursday\, February 8\, at 7:00 PM Central Time via zoom. \nCLICK HERE to RSVP and get the link. \nWe wait to see you then! \n  \n 
URL:https://vesglobal.org/event/texas-section-welcome-townhall-zoom/
CATEGORIES:Meeting
END:VEVENT
END:VCALENDAR