BEGIN:VCALENDAR
VERSION:2.0
PRODID:-//Visual Effects Society - ECPv6.15.20//NONSGML v1.0//EN
CALSCALE:GREGORIAN
METHOD:PUBLISH
X-WR-CALNAME:Visual Effects Society
X-ORIGINAL-URL:https://vesglobal.org
X-WR-CALDESC:Events for Visual Effects Society
REFRESH-INTERVAL;VALUE=DURATION:PT1H
X-Robots-Tag:noindex
X-PUBLISHED-TTL:PT1H
BEGIN:VTIMEZONE
TZID:America/Los_Angeles
BEGIN:DAYLIGHT
TZOFFSETFROM:-0800
TZOFFSETTO:-0700
TZNAME:PDT
DTSTART:20220313T100000
END:DAYLIGHT
BEGIN:STANDARD
TZOFFSETFROM:-0700
TZOFFSETTO:-0800
TZNAME:PST
DTSTART:20221106T090000
END:STANDARD
BEGIN:DAYLIGHT
TZOFFSETFROM:-0800
TZOFFSETTO:-0700
TZNAME:PDT
DTSTART:20230312T100000
END:DAYLIGHT
BEGIN:STANDARD
TZOFFSETFROM:-0700
TZOFFSETTO:-0800
TZNAME:PST
DTSTART:20231105T090000
END:STANDARD
BEGIN:DAYLIGHT
TZOFFSETFROM:-0800
TZOFFSETTO:-0700
TZNAME:PDT
DTSTART:20240310T100000
END:DAYLIGHT
BEGIN:STANDARD
TZOFFSETFROM:-0700
TZOFFSETTO:-0800
TZNAME:PST
DTSTART:20241103T090000
END:STANDARD
END:VTIMEZONE
BEGIN:VEVENT
DTSTART;TZID=America/Los_Angeles:20231214T110000
DTEND;TZID=America/Los_Angeles:20231214T120000
DTSTAMP:20260423T013501
CREATED:20231202T044317Z
LAST-MODIFIED:20231202T044317Z
UID:10010717-1702551600-1702555200@vesglobal.org
SUMMARY:2023 VES Annual Membership Meeting (Online)
DESCRIPTION:2023 VES Annual Membership Meeting (VES members must login to register below)\n\n\nThursday\, December 14 at 11:00AM (PST)\, 2:00PM (EST)\, 7:00PM (GMT)\, 8:00PM (CET)\n\nPlease join VES Board Chair Lisa Cooke and Executive Director Nancy Ward for a discussion about what’s going on in your Society.
URL:https://vesglobal.org/event/2023-ves-annual-membership-meeting-online/
CATEGORIES:Meeting
END:VEVENT
END:VCALENDAR