BEGIN:VCALENDAR
VERSION:2.0
PRODID:-//Visual Effects Society - ECPv6.15.20//NONSGML v1.0//EN
CALSCALE:GREGORIAN
METHOD:PUBLISH
X-ORIGINAL-URL:https://vesglobal.org
X-WR-CALDESC:Events for Visual Effects Society
REFRESH-INTERVAL;VALUE=DURATION:PT1H
X-Robots-Tag:noindex
X-PUBLISHED-TTL:PT1H
BEGIN:VTIMEZONE
TZID:America/Los_Angeles
BEGIN:DAYLIGHT
TZOFFSETFROM:-0800
TZOFFSETTO:-0700
TZNAME:PDT
DTSTART:20220313T100000
END:DAYLIGHT
BEGIN:STANDARD
TZOFFSETFROM:-0700
TZOFFSETTO:-0800
TZNAME:PST
DTSTART:20221106T090000
END:STANDARD
BEGIN:DAYLIGHT
TZOFFSETFROM:-0800
TZOFFSETTO:-0700
TZNAME:PDT
DTSTART:20230312T100000
END:DAYLIGHT
BEGIN:STANDARD
TZOFFSETFROM:-0700
TZOFFSETTO:-0800
TZNAME:PST
DTSTART:20231105T090000
END:STANDARD
BEGIN:DAYLIGHT
TZOFFSETFROM:-0800
TZOFFSETTO:-0700
TZNAME:PDT
DTSTART:20240310T100000
END:DAYLIGHT
BEGIN:STANDARD
TZOFFSETFROM:-0700
TZOFFSETTO:-0800
TZNAME:PST
DTSTART:20241103T090000
END:STANDARD
END:VTIMEZONE
BEGIN:VEVENT
DTSTART;TZID=America/Los_Angeles:20230412T183000
DTEND;TZID=America/Los_Angeles:20230412T193000
DTSTAMP:20260425T130857
CREATED:20230403T225017Z
LAST-MODIFIED:20230403T225236Z
UID:10010491-1681324200-1681327800@vesglobal.org
SUMMARY:Zoom Meeting - Oregon Townhall
DESCRIPTION:Oregon Members\, you are invited to attend the Section’s first Townhall! \nPlease RSVP below \nFriday\, April 21 at 5:00 PM PDT \nThis will be a live zoom meeting with Q & A and the link will be sent the day before\n \n  \nNow that the Board of Managers’ election nominations has begun\, I’m sure you have questions about the process. We will be hosting an Oregon Townhall on Wednesday\, April 12th at 6:30 PM Pacific time. I will go over the structure of the board\, fun opportunities\, and things we need to put in place to have a thriving Section! \n  \nAs a reminder\, you can fill the self-nomination form out here and it is open until Friday\, April 21 at 5 PM PDT. We would love for you to share your unique skills to dynamically kickstart the Oregon leadership. Whether you’re a producer type\, social media maven\, love organizing events\, or seeing movies on the big screen\, there is a niche on the BOM for YOU! 
URL:https://vesglobal.org/event/zoom-meeting-oregon-townhall/
CATEGORIES:Meeting
ATTACH;FMTTYPE=image/jpeg:https://vesglobal.org/wp-content/uploads/2023/04/IMG_0027.jpg
END:VEVENT
END:VCALENDAR