BEGIN:VCALENDAR
VERSION:2.0
PRODID:-//Visual Effects Society - ECPv6.15.20//NONSGML v1.0//EN
CALSCALE:GREGORIAN
METHOD:PUBLISH
X-ORIGINAL-URL:https://vesglobal.org
X-WR-CALDESC:Events for Visual Effects Society
REFRESH-INTERVAL;VALUE=DURATION:PT1H
X-Robots-Tag:noindex
X-PUBLISHED-TTL:PT1H
BEGIN:VTIMEZONE
TZID:America/Los_Angeles
BEGIN:DAYLIGHT
TZOFFSETFROM:-0800
TZOFFSETTO:-0700
TZNAME:PDT
DTSTART:20100314T100000
END:DAYLIGHT
BEGIN:STANDARD
TZOFFSETFROM:-0700
TZOFFSETTO:-0800
TZNAME:PST
DTSTART:20101107T090000
END:STANDARD
BEGIN:DAYLIGHT
TZOFFSETFROM:-0800
TZOFFSETTO:-0700
TZNAME:PDT
DTSTART:20110313T100000
END:DAYLIGHT
BEGIN:STANDARD
TZOFFSETFROM:-0700
TZOFFSETTO:-0800
TZNAME:PST
DTSTART:20111106T090000
END:STANDARD
BEGIN:DAYLIGHT
TZOFFSETFROM:-0800
TZOFFSETTO:-0700
TZNAME:PDT
DTSTART:20120311T100000
END:DAYLIGHT
BEGIN:STANDARD
TZOFFSETFROM:-0700
TZOFFSETTO:-0800
TZNAME:PST
DTSTART:20121104T090000
END:STANDARD
BEGIN:DAYLIGHT
TZOFFSETFROM:-0800
TZOFFSETTO:-0700
TZNAME:PDT
DTSTART:20130310T100000
END:DAYLIGHT
BEGIN:STANDARD
TZOFFSETFROM:-0700
TZOFFSETTO:-0800
TZNAME:PST
DTSTART:20131103T090000
END:STANDARD
END:VTIMEZONE
BEGIN:VEVENT
DTSTART;TZID=America/Los_Angeles:20111112T030000
DTEND;TZID=America/Los_Angeles:20121112T051500
DTSTAMP:20260421T050430
CREATED:20111112T190000Z
LAST-MODIFIED:20111112T190000Z
UID:10006495-1321066800-1352697300@vesglobal.org
SUMMARY:Screening - SUPER 8 (London)
DESCRIPTION:London VES Members & Up To 2 Guests Are \n	Invited To Attend An IMAX Screening Of \n	SUPER 8 \n	Saturday November 12\, 2011 At 11:00AM
URL:https://vesglobal.org/event/screening-super-8-london/
LOCATION:NY
CATEGORIES:Event
ATTACH;FMTTYPE=image/jpeg:https://vesglobal.org/wp-content/uploads/2014/07/super_8_3.jpg
END:VEVENT
BEGIN:VEVENT
DTSTART;TZID=America/Los_Angeles:20120303T103000
DTEND;TZID=America/Los_Angeles:20120303T140000
DTSTAMP:20260421T050430
CREATED:20120304T023000Z
LAST-MODIFIED:20120304T023000Z
UID:10006007-1330770600-1330783200@vesglobal.org
SUMMARY:Screening - JOHN CARTER w/ Q&A (London)
DESCRIPTION:London VES Members And A Guest Are Invited\n	To Attend A Special 3D Pre-Release Screening\n	Of JOHN CARTER \nQ&A w/ VFX Supervisors and reception following screening 
URL:https://vesglobal.org/event/screening-john-carter-w-qa-london/
LOCATION:NY
CATEGORIES:Event
ATTACH;FMTTYPE=image/jpeg:https://vesglobal.org/wp-content/uploads/2014/06/john_carter_4.jpg
END:VEVENT
BEGIN:VEVENT
DTSTART;TZID=America/Los_Angeles:20120307T223000
DTEND;TZID=America/Los_Angeles:20120307T223000
DTSTAMP:20260421T050430
CREATED:20120308T143000Z
LAST-MODIFIED:20120308T143000Z
UID:10006005-1331159400-1331159400@vesglobal.org
SUMMARY:Event - VES Pub Night (Australia)
DESCRIPTION:Sydney VFX community unite! The next Sydney VFX pub night will be upstairs at the Marlborough Hotel\, 145 King St Newtown (corner of Missendon Road). Thursday\, March 8\, 7:00PM. The VES Australia section are sponsoring and providing a few snacks for you to enjoy. All are welcome!
URL:https://vesglobal.org/event/event-ves-pub-night-australia/
LOCATION:NY
CATEGORIES:Conference,Event
END:VEVENT
BEGIN:VEVENT
DTSTART;TZID=America/Los_Angeles:20120308T183000
DTEND;TZID=America/Los_Angeles:20120308T234500
DTSTAMP:20260421T050430
CREATED:20120309T031000Z
LAST-MODIFIED:20120309T031000Z
UID:10006004-1331231400-1331250300@vesglobal.org
SUMMARY:Event - VES Pub Night (Vancouver)
DESCRIPTION:Vancouver VES Members And A Guest Are\n	Invited To A Pub Night Next Thursday Night
URL:https://vesglobal.org/event/event-ves-pub-night-vancouver-4/
LOCATION:NY
CATEGORIES:Event
END:VEVENT
BEGIN:VEVENT
DTSTART;TZID=America/Los_Angeles:20120309T210000
DTEND;TZID=America/Los_Angeles:20120309T231500
DTSTAMP:20260421T050430
CREATED:20120310T130000Z
LAST-MODIFIED:20120310T130000Z
UID:10006003-1331326800-1331334900@vesglobal.org
SUMMARY:Screening - JOHN CARTER in 3D (New Zealand)
DESCRIPTION:New Zealand VES Members & Their Families Are\n	Invited To An Opening Weekend 3D Screening\n	JOHN CARTER
URL:https://vesglobal.org/event/screening-john-carter-in-3d-new-zealand/
LOCATION:NY
CATEGORIES:Event
ATTACH;FMTTYPE=image/jpeg:https://vesglobal.org/wp-content/uploads/2014/06/john_carter_3.jpg
END:VEVENT
BEGIN:VEVENT
DTSTART;TZID=America/Los_Angeles:20120310T110000
DTEND;TZID=America/Los_Angeles:20120310T131500
DTSTAMP:20260421T050430
CREATED:20120311T030000Z
LAST-MODIFIED:20120311T030000Z
UID:10005780-1331377200-1331385300@vesglobal.org
SUMMARY:Screening - JOHN CARTER (New York)
DESCRIPTION:New York VES Members And A Guest Are\n	Invited To A Attend A Screening Of\n	JOHN CARTER
URL:https://vesglobal.org/event/screening-john-carter-new-york/
LOCATION:NY
CATEGORIES:Event
ATTACH;FMTTYPE=image/jpeg:https://vesglobal.org/wp-content/uploads/2014/06/john_carter_0.jpg
END:VEVENT
BEGIN:VEVENT
DTSTART;TZID=America/Los_Angeles:20120310T150000
DTEND;TZID=America/Los_Angeles:20120310T173000
DTSTAMP:20260421T050430
CREATED:20120311T070000Z
LAST-MODIFIED:20120311T070000Z
UID:10006001-1331391600-1331400600@vesglobal.org
SUMMARY:Screening - JOHN CARTER in 3D (Bay Area)
DESCRIPTION:Bay Area VES Members And Their Families Are\n	Invited To An Opening Weekend 3D Screening\n	JOHN CARTER
URL:https://vesglobal.org/event/screening-john-carter-in-3d-bay-area/
LOCATION:NY
CATEGORIES:Event
ATTACH;FMTTYPE=image/jpeg:https://vesglobal.org/wp-content/uploads/2014/06/john_carter_1.jpg
END:VEVENT
BEGIN:VEVENT
DTSTART;TZID=America/Los_Angeles:20120311T120000
DTEND;TZID=America/Los_Angeles:20120311T141500
DTSTAMP:20260421T050430
CREATED:20120312T020000Z
LAST-MODIFIED:20120312T020000Z
UID:10005776-1331467200-1331475300@vesglobal.org
SUMMARY:Screening - JOHN CARTER in 3D (New York)
DESCRIPTION:New York VES Members And Their Families Are\n	Invited To An Opening Weekend 3D Screening\n	JOHN CARTER
URL:https://vesglobal.org/event/screening-john-carter-in-3d-new-york/
LOCATION:NY
CATEGORIES:Event
ATTACH;FMTTYPE=image/jpeg:https://vesglobal.org/wp-content/uploads/2014/06/john_carter.jpg
END:VEVENT
BEGIN:VEVENT
DTSTART;TZID=America/Los_Angeles:20120311T150000
DTEND;TZID=America/Los_Angeles:20120311T163000
DTSTAMP:20260421T050430
CREATED:20120312T050000Z
LAST-MODIFIED:20120312T050000Z
UID:10005778-1331478000-1331483400@vesglobal.org
SUMMARY:Screening - THE LORAX in 2D (Bay Area)
DESCRIPTION:Bay Area VES Members And Their Families Are\n	Invited To Attend A 2D Screening Of Dr. Seuss’\n	THE LORAX
URL:https://vesglobal.org/event/screening-the-lorax-in-2d-bay-area/
LOCATION:NY
CATEGORIES:Event
ATTACH;FMTTYPE=image/jpeg:https://vesglobal.org/wp-content/uploads/2014/06/lorax.jpg
END:VEVENT
BEGIN:VEVENT
DTSTART;TZID=America/Los_Angeles:20120325T150000
DTEND;TZID=America/Los_Angeles:20120325T174500
DTSTAMP:20260421T050430
CREATED:20120326T050000Z
LAST-MODIFIED:20120326T050000Z
UID:10005774-1332687600-1332697500@vesglobal.org
SUMMARY:Screening - MIRROR MIRROR w/ Q&A (Bay Area)
DESCRIPTION:The VES Bay Area Section And Tippett\n\n	Studio Invites VES Members And\n\n	Guests To Attend A Screening Of\n\n	MIRROR MIRROR\n	Followed by Q&A w/ Tippett VFX Team
URL:https://vesglobal.org/event/screening-mirror-mirror-w-qa-bay-area/
LOCATION:NY
CATEGORIES:Event
ATTACH;FMTTYPE=image/jpeg:https://vesglobal.org/wp-content/uploads/2014/06/mirror_mirror.jpg
END:VEVENT
BEGIN:VEVENT
DTSTART;TZID=America/Los_Angeles:20120328T170000
DTEND;TZID=America/Los_Angeles:20120328T200000
DTSTAMP:20260421T050430
CREATED:20120329T070000Z
LAST-MODIFIED:20120329T070000Z
UID:10005764-1332954000-1332964800@vesglobal.org
SUMMARY:Event - Monthly Pub Trivia Night (New York)
DESCRIPTION:New York VES Members And Guests \nAre Invited To The Innaugural \nMonthly Pub Trivia Night
URL:https://vesglobal.org/event/event-monthly-pub-trivia-night-new-york-4/
LOCATION:NY
CATEGORIES:Event
END:VEVENT
END:VCALENDAR