BEGIN:VCALENDAR
VERSION:2.0
PRODID:-//Visual Effects Society - ECPv6.15.20//NONSGML v1.0//EN
CALSCALE:GREGORIAN
METHOD:PUBLISH
X-ORIGINAL-URL:https://vesglobal.org
X-WR-CALDESC:Events for Visual Effects Society
REFRESH-INTERVAL;VALUE=DURATION:PT1H
X-Robots-Tag:noindex
X-PUBLISHED-TTL:PT1H
BEGIN:VTIMEZONE
TZID:America/Los_Angeles
BEGIN:DAYLIGHT
TZOFFSETFROM:-0800
TZOFFSETTO:-0700
TZNAME:PDT
DTSTART:20100314T100000
END:DAYLIGHT
BEGIN:STANDARD
TZOFFSETFROM:-0700
TZOFFSETTO:-0800
TZNAME:PST
DTSTART:20101107T090000
END:STANDARD
BEGIN:DAYLIGHT
TZOFFSETFROM:-0800
TZOFFSETTO:-0700
TZNAME:PDT
DTSTART:20110313T100000
END:DAYLIGHT
BEGIN:STANDARD
TZOFFSETFROM:-0700
TZOFFSETTO:-0800
TZNAME:PST
DTSTART:20111106T090000
END:STANDARD
BEGIN:DAYLIGHT
TZOFFSETFROM:-0800
TZOFFSETTO:-0700
TZNAME:PDT
DTSTART:20120311T100000
END:DAYLIGHT
BEGIN:STANDARD
TZOFFSETFROM:-0700
TZOFFSETTO:-0800
TZNAME:PST
DTSTART:20121104T090000
END:STANDARD
BEGIN:DAYLIGHT
TZOFFSETFROM:-0800
TZOFFSETTO:-0700
TZNAME:PDT
DTSTART:20130310T100000
END:DAYLIGHT
BEGIN:STANDARD
TZOFFSETFROM:-0700
TZOFFSETTO:-0800
TZNAME:PST
DTSTART:20131103T090000
END:STANDARD
END:VTIMEZONE
BEGIN:VEVENT
DTSTART;TZID=America/Los_Angeles:20111107T193000
DTEND;TZID=America/Los_Angeles:20111107T214500
DTSTAMP:20260421T123516
CREATED:20111108T113000Z
LAST-MODIFIED:20111108T113000Z
UID:10006492-1320694200-1320702300@vesglobal.org
SUMMARY:Screening - PUSS IN BOOTS in 3D (Bay Area)
DESCRIPTION:DreamWorks Animation Invites VES Members \n	And Their Families To A Special 3D Screening Of \n	PUSS IN BOOTS
URL:https://vesglobal.org/event/screening-puss-in-boots-in-3d-bay-area/
LOCATION:NY
CATEGORIES:Event
ATTACH;FMTTYPE=image/jpeg:https://vesglobal.org/wp-content/uploads/2014/07/puss_in_boots.jpg
END:VEVENT
BEGIN:VEVENT
DTSTART;TZID=America/Los_Angeles:20111107T223000
DTEND;TZID=America/Los_Angeles:20111108T004500
DTSTAMP:20260421T123516
CREATED:20111108T143000Z
LAST-MODIFIED:20111108T143000Z
UID:10006493-1320705000-1320713100@vesglobal.org
SUMMARY:Screening - SUPER 8 (New Zealand)
DESCRIPTION:New Zealand VES Members Are Invited \n	To Attend A Sreening Of SUPER 8
URL:https://vesglobal.org/event/screening-super-8-new-zealand/
LOCATION:NY
CATEGORIES:Event
ATTACH;FMTTYPE=image/jpeg:https://vesglobal.org/wp-content/uploads/2014/07/super_8_2.jpg
END:VEVENT
BEGIN:VEVENT
DTSTART;TZID=America/Los_Angeles:20111112T030000
DTEND;TZID=America/Los_Angeles:20121112T051500
DTSTAMP:20260421T123516
CREATED:20111112T190000Z
LAST-MODIFIED:20111112T190000Z
UID:10006495-1321066800-1352697300@vesglobal.org
SUMMARY:Screening - SUPER 8 (London)
DESCRIPTION:London VES Members & Up To 2 Guests Are \n	Invited To Attend An IMAX Screening Of \n	SUPER 8 \n	Saturday November 12\, 2011 At 11:00AM
URL:https://vesglobal.org/event/screening-super-8-london/
LOCATION:NY
CATEGORIES:Event
ATTACH;FMTTYPE=image/jpeg:https://vesglobal.org/wp-content/uploads/2014/07/super_8_3.jpg
END:VEVENT
BEGIN:VEVENT
DTSTART;TZID=America/Los_Angeles:20111112T180000
DTEND;TZID=America/Los_Angeles:20111112T230000
DTSTAMP:20260421T123516
CREATED:20111113T100000Z
LAST-MODIFIED:20111113T100000Z
UID:10006496-1321120800-1321138800@vesglobal.org
SUMMARY:Event - Night At The Museum VES Bay Area Party (Bay Area)
DESCRIPTION:The Visual Effects Society Bay Area Section \n	In Co-Sponsorship With Advanced Systems Group And GenArts \n	Invite All VES Bay Area Members And One Guest Each To \n	 \n	The Walt Disney Family Museum \n	November 12\, 2011
URL:https://vesglobal.org/event/event-night-at-the-museum-ves-bay-area-party-bay-area/
LOCATION:NY
CATEGORIES:Event
END:VEVENT
BEGIN:VEVENT
DTSTART;TZID=America/Los_Angeles:20111114T201500
DTEND;TZID=America/Los_Angeles:20111114T231500
DTSTAMP:20260421T123516
CREATED:20111115T121500Z
LAST-MODIFIED:20111115T121500Z
UID:10006497-1321301700-1321312500@vesglobal.org
SUMMARY:Screening - YOUNG ADULT w/ Q&A (Bay Area)
DESCRIPTION:Paramount Pictures Invites Bay Area VES \n	Members And A Guest To Attend A \n	Pre-Release Screening Of YOUNG ADULT \n	Followed by Q&A with Patton Oswalt
URL:https://vesglobal.org/event/screening-young-adult-w-qa-bay-area/
LOCATION:NY
CATEGORIES:Event
ATTACH;FMTTYPE=image/jpeg:https://vesglobal.org/wp-content/uploads/2014/07/young_adult.jpg
END:VEVENT
BEGIN:VEVENT
DTSTART;TZID=America/Los_Angeles:20111114T223000
DTEND;TZID=America/Los_Angeles:20111115T003000
DTSTAMP:20260421T123516
CREATED:20111115T143000Z
LAST-MODIFIED:20111115T143000Z
UID:10006501-1321309800-1321317000@vesglobal.org
SUMMARY:Screening - ANONYMOUS (New Zealand)
DESCRIPTION:New Zealand VES Members And Guests Are \n	Invited To Attend A Special Screening Of \n	ANONYMOUS
URL:https://vesglobal.org/event/screening-anonymous-new-zealand/
LOCATION:NY
CATEGORIES:Event
ATTACH;FMTTYPE=image/jpeg:https://vesglobal.org/wp-content/uploads/2014/07/anonymous_2.jpg
END:VEVENT
BEGIN:VEVENT
DTSTART;TZID=America/Los_Angeles:20111117T180000
DTEND;TZID=America/Los_Angeles:20111117T220000
DTSTAMP:20260421T123516
CREATED:20111118T100000Z
LAST-MODIFIED:20111118T100000Z
UID:10006503-1321552800-1321567200@vesglobal.org
SUMMARY:Screening - STAR TREK (2009) (Bay Area)
DESCRIPTION:In Celebration Of The 45th Anniversary of \n	STAR TREK\, Bay Area VES Members \n	And A Guest Are Invited To “Into Space” \n	NightLife At The California Academy Of Science
URL:https://vesglobal.org/event/screening-star-trek-2009-bay-area/
LOCATION:NY
CATEGORIES:Event
ATTACH;FMTTYPE=image/jpeg:https://vesglobal.org/wp-content/uploads/2014/07/star_trek_3.jpg
END:VEVENT
BEGIN:VEVENT
DTSTART;TZID=America/Los_Angeles:20111119T173000
DTEND;TZID=America/Los_Angeles:20111119T213000
DTSTAMP:20260421T123516
CREATED:20111120T093000Z
LAST-MODIFIED:20111120T093000Z
UID:10006505-1321723800-1321738200@vesglobal.org
SUMMARY:Event - 5th Annual Celebration of Animation and Visual Effects (Vancouver)
DESCRIPTION:VES Vancouver Presents the 5th Annual \n	Celebration of Animation & Visual Effects
URL:https://vesglobal.org/event/event-5th-annual-celebration-of-animation-and-visual-effects-vancouver/
LOCATION:NY
CATEGORIES:Event
END:VEVENT
BEGIN:VEVENT
DTSTART;TZID=America/Los_Angeles:20111120T021500
DTEND;TZID=America/Los_Angeles:20111120T044500
DTSTAMP:20260421T123516
CREATED:20111120T181500Z
LAST-MODIFIED:20111120T181500Z
UID:10006507-1321755300-1321764300@vesglobal.org
SUMMARY:Screening - TRANSFORMERS: DARK OF THE MOON in IMAX 3D (London)
DESCRIPTION:London VES Members And A Guest Are \n	Invited To An IMAX 3D Screening Of \n	TRANSFORMERS: DARK OF THE MOON \n	Sunday November 20\, 2011 At 10:15AM
URL:https://vesglobal.org/event/screening-transformers-dark-of-the-moon-in-imax-3d-london/
LOCATION:NY
CATEGORIES:Event
ATTACH;FMTTYPE=image/jpeg:https://vesglobal.org/wp-content/uploads/2014/07/transformers_dark_of_the_moon_3.jpg
END:VEVENT
BEGIN:VEVENT
DTSTART;TZID=America/Los_Angeles:20111120T150000
DTEND;TZID=America/Los_Angeles:20111120T183000
DTSTAMP:20260421T123516
CREATED:20111121T070000Z
LAST-MODIFIED:20111121T070000Z
UID:10006509-1321801200-1321813800@vesglobal.org
SUMMARY:Screening - HUGO w/ Martin Scorcese Q&A (New York)
DESCRIPTION:New York VES Members And A Guest\n	Are Invited To A Pre-Release ScreeningOf \nHUGO In 3D \n	Followed by Q&A with Director\, Martin Scorcese\, and VFX Sup.\,\n	Rob Legato\, and others moderated by Annette Insdorf.
URL:https://vesglobal.org/event/screening-hugo-w-martin-scorcese-qa-new-york/
LOCATION:NY
CATEGORIES:Event
ATTACH;FMTTYPE=image/jpeg:https://vesglobal.org/wp-content/uploads/2014/07/hugo_3.jpg
END:VEVENT
BEGIN:VEVENT
DTSTART;TZID=America/Los_Angeles:20111122T103000
DTEND;TZID=America/Los_Angeles:20111122T123000
DTSTAMP:20260421T123516
CREATED:20111123T023000Z
LAST-MODIFIED:20111123T023000Z
UID:10006510-1321957800-1321965000@vesglobal.org
SUMMARY:Screening - HUGO in 3D (London)
DESCRIPTION:London VES Members And A Guest Are Invited\n	To A Pre-Release 3D Screening OfHUGO
URL:https://vesglobal.org/event/screening-hugo-in-3d-london/
LOCATION:NY
CATEGORIES:Event
ATTACH;FMTTYPE=image/jpeg:https://vesglobal.org/wp-content/uploads/2014/07/hugo_4.jpg
END:VEVENT
BEGIN:VEVENT
DTSTART;TZID=America/Los_Angeles:20111130T103000
DTEND;TZID=America/Los_Angeles:20111130T123000
DTSTAMP:20260421T123516
CREATED:20111201T023000Z
LAST-MODIFIED:20111201T023000Z
UID:10006516-1322649000-1322656200@vesglobal.org
SUMMARY:Screening - X-MEN: FIRST CLASS in 3D (London)
DESCRIPTION:London VES Members And A Guest \nAre Invited To A 3D Screening Of \nX-MEN: FIRST CLASS
URL:https://vesglobal.org/event/screening-x-men-first-class-in-3d-london/
LOCATION:NY
CATEGORIES:Event
ATTACH;FMTTYPE=image/jpeg:https://vesglobal.org/wp-content/uploads/2014/07/xmen_first_class_1.jpg
END:VEVENT
END:VCALENDAR