BEGIN:VCALENDAR
VERSION:2.0
PRODID:-//Visual Effects Society - ECPv6.15.20//NONSGML v1.0//EN
CALSCALE:GREGORIAN
METHOD:PUBLISH
X-WR-CALNAME:Visual Effects Society
X-ORIGINAL-URL:https://vesglobal.org
X-WR-CALDESC:Events for Visual Effects Society
REFRESH-INTERVAL;VALUE=DURATION:PT1H
X-Robots-Tag:noindex
X-PUBLISHED-TTL:PT1H
BEGIN:VTIMEZONE
TZID:America/Los_Angeles
BEGIN:DAYLIGHT
TZOFFSETFROM:-0800
TZOFFSETTO:-0700
TZNAME:PDT
DTSTART:20100314T100000
END:DAYLIGHT
BEGIN:STANDARD
TZOFFSETFROM:-0700
TZOFFSETTO:-0800
TZNAME:PST
DTSTART:20101107T090000
END:STANDARD
BEGIN:DAYLIGHT
TZOFFSETFROM:-0800
TZOFFSETTO:-0700
TZNAME:PDT
DTSTART:20110313T100000
END:DAYLIGHT
BEGIN:STANDARD
TZOFFSETFROM:-0700
TZOFFSETTO:-0800
TZNAME:PST
DTSTART:20111106T090000
END:STANDARD
BEGIN:DAYLIGHT
TZOFFSETFROM:-0800
TZOFFSETTO:-0700
TZNAME:PDT
DTSTART:20120311T100000
END:DAYLIGHT
BEGIN:STANDARD
TZOFFSETFROM:-0700
TZOFFSETTO:-0800
TZNAME:PST
DTSTART:20121104T090000
END:STANDARD
END:VTIMEZONE
BEGIN:VEVENT
DTSTART;TZID=America/Los_Angeles:20110802T190000
DTEND;TZID=America/Los_Angeles:20110802T210000
DTSTAMP:20260421T162532
CREATED:20110803T090000Z
LAST-MODIFIED:20110803T090000Z
UID:10006449-1312311600-1312318800@vesglobal.org
SUMMARY:Screening - COWBOYS AND ALIENS (Bay Area)
DESCRIPTION:Bay Area VES Members And A Guest \n	Are Invited To Attend A Screening Of \n	COWBOYS AND ALIENS
URL:https://vesglobal.org/event/screening-cowboys-and-aliens-bay-area-2/
LOCATION:NY
CATEGORIES:Event
ATTACH;FMTTYPE=image/jpeg:https://vesglobal.org/wp-content/uploads/2014/07/cowboys_and_aliens_1.jpg
END:VEVENT
BEGIN:VEVENT
DTSTART;TZID=America/Los_Angeles:20110806T140000
DTEND;TZID=America/Los_Angeles:20110806T161500
DTSTAMP:20260421T162532
CREATED:20110807T040000Z
LAST-MODIFIED:20110807T040000Z
UID:10006450-1312639200-1312647300@vesglobal.org
SUMMARY:Screening - CAPTAIN AMERICA in 2D (Bay Area)
DESCRIPTION:Bay Area VES Members & Their Families Are Invited \n	To A 2D Screening Of CAPTAIN AMERICA
URL:https://vesglobal.org/event/screening-captain-america-in-2d-bay-area/
LOCATION:NY
CATEGORIES:Event
ATTACH;FMTTYPE=image/jpeg:https://vesglobal.org/wp-content/uploads/2014/07/captain_america_0.jpg
END:VEVENT
BEGIN:VEVENT
DTSTART;TZID=America/Los_Angeles:20110807T140000
DTEND;TZID=America/Los_Angeles:20110807T154500
DTSTAMP:20260421T162532
CREATED:20110808T040000Z
LAST-MODIFIED:20110808T040000Z
UID:10006451-1312725600-1312731900@vesglobal.org
SUMMARY:Screening - WINNIE THE POOH (Bay Area)
DESCRIPTION:Bay Area VES Members And Their Families \n	Are Invited To Attend A Screening Of \nWINNIE THE POOH
URL:https://vesglobal.org/event/screening-winnie-the-pooh-bay-area/
LOCATION:NY
CATEGORIES:Event
ATTACH;FMTTYPE=image/jpeg:https://vesglobal.org/wp-content/uploads/2014/07/winnie_the_pooh_0.jpg
END:VEVENT
BEGIN:VEVENT
DTSTART;TZID=America/Los_Angeles:20110807T140000
DTEND;TZID=America/Los_Angeles:20110807T160000
DTSTAMP:20260421T162532
CREATED:20110808T040000Z
LAST-MODIFIED:20110808T040000Z
UID:10006082-1312725600-1312732800@vesglobal.org
SUMMARY:Screening - COWBOYS AND ALIENS (New York)
DESCRIPTION:New York VES Members And Their Families \n	Are Invited To Attend A Screening Of \n	COWBOYS AND ALIENS
URL:https://vesglobal.org/event/screening-cowboys-and-aliens-new-york/
LOCATION:NY
CATEGORIES:Event
ATTACH;FMTTYPE=image/jpeg:https://vesglobal.org/wp-content/uploads/2014/07/cowboys_and_aliens_2.jpg
END:VEVENT
BEGIN:VEVENT
DTSTART;TZID=America/Los_Angeles:20110809T173000
DTEND;TZID=America/Los_Angeles:20110809T200000
DTSTAMP:20260421T162532
CREATED:20110810T073000Z
LAST-MODIFIED:20110810T073000Z
UID:10006083-1312911000-1312920000@vesglobal.org
SUMMARY:Event - VES Vancouver Siggraph 2011 Party (Vancouver)
DESCRIPTION:VES Vancouver Section Welcomes Worldwide \nMembers And A Guest To Siggraph 2011
URL:https://vesglobal.org/event/event-ves-vancouver-siggraph-2011-party-vancouver/
LOCATION:NY
CATEGORIES:Event
END:VEVENT
BEGIN:VEVENT
DTSTART;TZID=America/Los_Angeles:20110812T181500
DTEND;TZID=America/Los_Angeles:20110812T210000
DTSTAMP:20260421T162532
CREATED:20110813T081500Z
LAST-MODIFIED:20110813T081500Z
UID:10006084-1313172900-1313182800@vesglobal.org
SUMMARY:Screening - TREE OF LIFE (Bay Area)
DESCRIPTION:Bay Area VES Members & Guests Are Invited \n	To Attend A Screening Of TREE OF LIFE
URL:https://vesglobal.org/event/screening-tree-of-life-bay-area/
LOCATION:NY
CATEGORIES:Event
ATTACH;FMTTYPE=image/jpeg:https://vesglobal.org/wp-content/uploads/2014/07/tree_of_life.jpg
END:VEVENT
BEGIN:VEVENT
DTSTART;TZID=America/Los_Angeles:20110815T103000
DTEND;TZID=America/Los_Angeles:20110815T130000
DTSTAMP:20260421T162532
CREATED:20110816T003000Z
LAST-MODIFIED:20110816T003000Z
UID:10006085-1313404200-1313413200@vesglobal.org
SUMMARY:Screening - PIRATES OF THE CARIBBEAN: ON STRANGER TIDES in 3D (London)
DESCRIPTION:London VES Members And A Guest Are \n	Invited To Attend A 3D Screening of  \n	PIRATES OF THE CARIBBEAN: \n	ON STRANGER TIDES
URL:https://vesglobal.org/event/screening-pirates-of-the-caribbean-on-stranger-tides-in-3d-london/
LOCATION:NY
CATEGORIES:Event
ATTACH;FMTTYPE=image/jpeg:https://vesglobal.org/wp-content/uploads/2014/07/pirates_of_the_caribbean_on_stranger_tides_2.jpg
END:VEVENT
BEGIN:VEVENT
DTSTART;TZID=America/Los_Angeles:20110818T200000
DTEND;TZID=America/Los_Angeles:20110818T220000
DTSTAMP:20260421T162532
CREATED:20110819T100000Z
LAST-MODIFIED:20110819T100000Z
UID:10006086-1313697600-1313704800@vesglobal.org
SUMMARY:Event - VES Pub Night (New York)
DESCRIPTION:New York VES Members And A Guest \n	Are Invited To Pub Night! \n	Come and have a beer on us \n	and sing an Irish folk song. 
URL:https://vesglobal.org/event/event-ves-pub-night-new-york/
LOCATION:NY
CATEGORIES:Event
END:VEVENT
BEGIN:VEVENT
DTSTART;TZID=America/Los_Angeles:20110823T130000
DTEND;TZID=America/Los_Angeles:20110823T153000
DTSTAMP:20260421T162532
CREATED:20110824T030000Z
LAST-MODIFIED:20110824T030000Z
UID:10006088-1314104400-1314113400@vesglobal.org
SUMMARY:Screening - COWBOYS AND ALIENS (London)
DESCRIPTION:London VES Members And A Guest Are Invited \n	To Attend A Screening Of \n	COWBOYS AND ALIENS
URL:https://vesglobal.org/event/screening-cowboys-and-aliens-london/
LOCATION:NY
CATEGORIES:Event
ATTACH;FMTTYPE=image/jpeg:https://vesglobal.org/wp-content/uploads/2014/07/cowboys_and_aliens_3.jpg
END:VEVENT
BEGIN:VEVENT
DTSTART;TZID=America/Los_Angeles:20110823T163000
DTEND;TZID=America/Los_Angeles:20110823T183000
DTSTAMP:20260421T162532
CREATED:20110824T063000Z
LAST-MODIFIED:20110824T063000Z
UID:10006089-1314117000-1314124200@vesglobal.org
SUMMARY:Screening - FRIGHT NIGHT in 3D (New York)
DESCRIPTION:The Producers Guild Of America East \n	Invites New York VES Members And A Guest \n	To A Screening Of FRIGHT NIGHT In 3D \n	DreamWorks Pictures Presents
URL:https://vesglobal.org/event/screening-fright-night-in-3d-new-york/
LOCATION:NY
CATEGORIES:Event
ATTACH;FMTTYPE=image/jpeg:https://vesglobal.org/wp-content/uploads/2014/07/fright_night_0.jpg
END:VEVENT
BEGIN:VEVENT
DTSTART;TZID=America/Los_Angeles:20110824T110000
DTEND;TZID=America/Los_Angeles:20110824T170000
DTSTAMP:20260421T162532
CREATED:20110825T010000Z
LAST-MODIFIED:20110825T010000Z
UID:10006090-1314183600-1314205200@vesglobal.org
SUMMARY:SUMMER PARTY 2011
DESCRIPTION:24th August 2011\n	19.00 til 01:00\nVenue:  \nParamount. Centre Point (Level 31)\,  \n101-103 New Oxford Street\,  \nLondon WC1A 1DD \n(with fantastic views over Central London)
URL:https://vesglobal.org/event/summer-party-2011/
LOCATION:NY
CATEGORIES:Event
END:VEVENT
BEGIN:VEVENT
DTSTART;TZID=America/Los_Angeles:20110826T230000
DTEND;TZID=America/Los_Angeles:20110827T010000
DTSTAMP:20260421T162532
CREATED:20110827T130000Z
LAST-MODIFIED:20110827T130000Z
UID:10006452-1314399600-1314406800@vesglobal.org
SUMMARY:Screening - RISE OF THE PLANET OF THE APES (New Zealand)
DESCRIPTION:New Zealand VES Members And Guests Are \nInvited To Attend A Special Screening Of \nRISE OF THE PLANET OF THE APES \nFollowed the next morning by an online panel from Weta Digital
URL:https://vesglobal.org/event/screening-rise-of-the-planet-of-the-apes-new-zealand/
LOCATION:NY
CATEGORIES:Event
ATTACH;FMTTYPE=image/jpeg:https://vesglobal.org/wp-content/uploads/2014/07/rise_of_the_planet_of_the_apes_2.jpg
END:VEVENT
BEGIN:VEVENT
DTSTART;TZID=America/Los_Angeles:20110827T120000
DTEND;TZID=America/Los_Angeles:20110827T120000
DTSTAMP:20260421T162532
CREATED:20110828T020000Z
LAST-MODIFIED:20110828T020000Z
UID:10006454-1314446400-1314446400@vesglobal.org
SUMMARY:Screening & Panel - RISE OF THE PLANET OF THE APES (Vancouver)
DESCRIPTION:Vancouver VES Members And A Guest Are \nInvited To Attend A Special Screening Of \nRISE OF THE PLANET OF THE APES \nFollowed by a live interactive panel from Weta Digital
URL:https://vesglobal.org/event/screening-panel-rise-of-the-planet-of-the-apes-vancouver/
LOCATION:NY
CATEGORIES:Event
ATTACH;FMTTYPE=image/jpeg:https://vesglobal.org/wp-content/uploads/2014/07/rise_of_the_planet_of_the_apes_4.jpg
END:VEVENT
BEGIN:VEVENT
DTSTART;TZID=America/Los_Angeles:20110827T120000
DTEND;TZID=America/Los_Angeles:20110827T150000
DTSTAMP:20260421T162532
CREATED:20110828T020000Z
LAST-MODIFIED:20110828T020000Z
UID:10006453-1314446400-1314457200@vesglobal.org
SUMMARY:Screening & Panel - RISE OF THE PLANET OF THE APES (Bay Area)
DESCRIPTION:Bay Area VES Members And Guests Are \n	Invited To Attend A Special Screening Of \n	RISE OF THE PLANET OF THE APES \n	Followed by a live interactive panel from Weta Digital
URL:https://vesglobal.org/event/screening-panel-rise-of-the-planet-of-the-apes-bay-area/
LOCATION:NY
CATEGORIES:Event
ATTACH;FMTTYPE=image/jpeg:https://vesglobal.org/wp-content/uploads/2014/07/rise_of_the_planet_of_the_apes_3.jpg
END:VEVENT
BEGIN:VEVENT
DTSTART;TZID=America/Los_Angeles:20110830T110000
DTEND;TZID=America/Los_Angeles:20110830T130000
DTSTAMP:20260421T162532
CREATED:20110831T010000Z
LAST-MODIFIED:20110831T010000Z
UID:10006456-1314702000-1314709200@vesglobal.org
SUMMARY:Screening - FRIGHT NIGHT in 3D (London)
DESCRIPTION:London VES Members And Guests Are \n	Invited To Attend A Special Screening Of \n	FRIGHT NIGHT In 3D
URL:https://vesglobal.org/event/screening-fright-night-in-3d-london/
LOCATION:NY
CATEGORIES:Event
ATTACH;FMTTYPE=image/jpeg:https://vesglobal.org/wp-content/uploads/2014/07/fright_night_1.jpg
END:VEVENT
BEGIN:VEVENT
DTSTART;TZID=America/Los_Angeles:20110830T190000
DTEND;TZID=America/Los_Angeles:20110830T210000
DTSTAMP:20260421T162532
CREATED:20110831T090000Z
LAST-MODIFIED:20110831T090000Z
UID:10006457-1314730800-1314738000@vesglobal.org
SUMMARY:Screening - FRIGHT NIGHT in 2D (Bay Area)
DESCRIPTION:Bay Area VES Members And Guests Are \n	Invited To Attend A 2D Screening Of \n	FRIGHT NIGHT
URL:https://vesglobal.org/event/screening-fright-night-in-2d-bay-area/
LOCATION:NY
CATEGORIES:Event
ATTACH;FMTTYPE=image/jpeg:https://vesglobal.org/wp-content/uploads/2014/07/fright_night_2.jpg
END:VEVENT
BEGIN:VEVENT
DTSTART;TZID=America/Los_Angeles:20110831T103000
DTEND;TZID=America/Los_Angeles:20110831T123000
DTSTAMP:20260421T162532
CREATED:20110901T003000Z
LAST-MODIFIED:20110901T003000Z
UID:10006460-1314786600-1314793800@vesglobal.org
SUMMARY:Screening - CARS 2 in 3D (London)
DESCRIPTION:London VES Members And A Guest Are Invited \n	To Attend A 3D Screening of CARS 2
URL:https://vesglobal.org/event/screening-cars-2-in-3d-london/
LOCATION:NY
CATEGORIES:Event
ATTACH;FMTTYPE=image/jpeg:https://vesglobal.org/wp-content/uploads/2014/07/cars_2_1.jpg
END:VEVENT
END:VCALENDAR