BEGIN:VCALENDAR
VERSION:2.0
PRODID:-//Visual Effects Society - ECPv6.15.20//NONSGML v1.0//EN
CALSCALE:GREGORIAN
METHOD:PUBLISH
X-WR-CALNAME:Visual Effects Society
X-ORIGINAL-URL:https://vesglobal.org
X-WR-CALDESC:Events for Visual Effects Society
REFRESH-INTERVAL;VALUE=DURATION:PT1H
X-Robots-Tag:noindex
X-PUBLISHED-TTL:PT1H
BEGIN:VTIMEZONE
TZID:America/Los_Angeles
BEGIN:DAYLIGHT
TZOFFSETFROM:-0800
TZOFFSETTO:-0700
TZNAME:PDT
DTSTART:20100314T100000
END:DAYLIGHT
BEGIN:STANDARD
TZOFFSETFROM:-0700
TZOFFSETTO:-0800
TZNAME:PST
DTSTART:20101107T090000
END:STANDARD
BEGIN:DAYLIGHT
TZOFFSETFROM:-0800
TZOFFSETTO:-0700
TZNAME:PDT
DTSTART:20110313T100000
END:DAYLIGHT
BEGIN:STANDARD
TZOFFSETFROM:-0700
TZOFFSETTO:-0800
TZNAME:PST
DTSTART:20111106T090000
END:STANDARD
BEGIN:DAYLIGHT
TZOFFSETFROM:-0800
TZOFFSETTO:-0700
TZNAME:PDT
DTSTART:20120311T100000
END:DAYLIGHT
BEGIN:STANDARD
TZOFFSETFROM:-0700
TZOFFSETTO:-0800
TZNAME:PST
DTSTART:20121104T090000
END:STANDARD
END:VTIMEZONE
BEGIN:VEVENT
DTSTART;TZID=America/Los_Angeles:20110501T140000
DTEND;TZID=America/Los_Angeles:20110501T154500
DTSTAMP:20260421T203532
CREATED:20110502T040000Z
LAST-MODIFIED:20110502T040000Z
UID:10006381-1304258400-1304264700@vesglobal.org
SUMMARY:Screening - RIO (Bay Area)
DESCRIPTION:Bay Area VES Members And Their Families \n	Are Invited To Attend A 3D Screening Of \n	RIO
URL:https://vesglobal.org/event/screening-rio-bay-area/
LOCATION:NY
CATEGORIES:Event
ATTACH;FMTTYPE=image/jpeg:https://vesglobal.org/wp-content/uploads/2014/07/rio.jpg
END:VEVENT
BEGIN:VEVENT
DTSTART;TZID=America/Los_Angeles:20110509T183000
DTEND;TZID=America/Los_Angeles:20110509T210000
DTSTAMP:20260421T203532
CREATED:20110510T083000Z
LAST-MODIFIED:20110510T083000Z
UID:10006383-1304965800-1304974800@vesglobal.org
SUMMARY:Event - The Making Of TANGLED (London)
DESCRIPTION:Studios Cordially Invite VES Members \n	In London To Attend \n	The Making Of TANGLED
URL:https://vesglobal.org/event/event-the-making-of-tangled-london/
LOCATION:NY
CATEGORIES:Event
END:VEVENT
BEGIN:VEVENT
DTSTART;TZID=America/Los_Angeles:20110509T183000
DTEND;TZID=America/Los_Angeles:20110509T213000
DTSTAMP:20260421T203532
CREATED:20110510T083000Z
LAST-MODIFIED:20110510T083000Z
UID:10006384-1304965800-1304976600@vesglobal.org
SUMMARY:Screening - NORWEGIAN WOOD (London)
DESCRIPTION:The Visual Effects Society (London) \n	and \n	SODAPICTURES \n	Cordially invites all VES Members to this \n	Fundraising Event with the screening \n	of this visually stunning film by \n	ANH HUNG TRAN\, director of ‘Scent of a Green Papaya’ \n	based on a novel by Haruki Murakami.\n	 
URL:https://vesglobal.org/event/screening-norwegian-wood-london/
LOCATION:NY
CATEGORIES:Event
END:VEVENT
BEGIN:VEVENT
DTSTART;TZID=America/Los_Angeles:20110510T100000
DTEND;TZID=America/Los_Angeles:20110510T163000
DTSTAMP:20260421T203532
CREATED:20110511T000000Z
LAST-MODIFIED:20110511T000000Z
UID:10006385-1305021600-1305045000@vesglobal.org
SUMMARY:Event - Sony Technology Center 3D Seminar (New York)
DESCRIPTION:VES Members In New York Are Invited \n	To Attend Sony Technology Center’s \n	Three Days Of Free 3D Seminars
URL:https://vesglobal.org/event/event-sony-technology-center-3d-seminar-new-york/
LOCATION:NY
CATEGORIES:Event
END:VEVENT
BEGIN:VEVENT
DTSTART;TZID=America/Los_Angeles:20110510T180000
DTEND;TZID=America/Los_Angeles:20110510T200000
DTSTAMP:20260421T203532
CREATED:20110511T080000Z
LAST-MODIFIED:20110511T080000Z
UID:10006386-1305050400-1305057600@vesglobal.org
SUMMARY:Screening - ILM: CREATING THE IMPOSSIBLE (London)
DESCRIPTION:Are Invited To Attend A Screening Of \n	INDUSTRIAL LIGHT & MAGIC: \n	CREATING THE IMPOSSIBLE
URL:https://vesglobal.org/event/screening-ilm-creating-the-impossible-london/
LOCATION:NY
CATEGORIES:Event
ATTACH;FMTTYPE=image/jpeg:https://vesglobal.org/wp-content/uploads/2014/07/ilm.jpg
END:VEVENT
BEGIN:VEVENT
DTSTART;TZID=America/Los_Angeles:20110510T190000
DTEND;TZID=America/Los_Angeles:20110510T220000
DTSTAMP:20260421T203532
CREATED:20110511T090000Z
LAST-MODIFIED:20110511T090000Z
UID:10006387-1305054000-1305064800@vesglobal.org
SUMMARY:Screening - JOURNEY FROM ZANSKAR (Bay Area)
DESCRIPTION:VES Members And A Guest In The Bay Area \n	Are Invited To Attend A Screening Of \n	JOURNEY FROM ZANSKAR
URL:https://vesglobal.org/event/screening-journey-from-zanskar-bay-area/
LOCATION:NY
CATEGORIES:Event
ATTACH;FMTTYPE=image/jpeg:https://vesglobal.org/wp-content/uploads/2014/07/journey_from_zanskar.jpg
END:VEVENT
BEGIN:VEVENT
DTSTART;TZID=America/Los_Angeles:20110511T100000
DTEND;TZID=America/Los_Angeles:20110511T163000
DTSTAMP:20260421T203532
CREATED:20110512T000000Z
LAST-MODIFIED:20110512T000000Z
UID:10006388-1305108000-1305131400@vesglobal.org
SUMMARY:Event - Sony Technology Center 3D Seminar (New York)
DESCRIPTION:VES Members In New York Are Invited \n	To Attend Sony Technology Center’s \n	Three Days Of Free 3D Seminars
URL:https://vesglobal.org/event/event-sony-technology-center-3d-seminar-new-york-2/
LOCATION:NY
CATEGORIES:Event
END:VEVENT
BEGIN:VEVENT
DTSTART;TZID=America/Los_Angeles:20110511T190000
DTEND;TZID=America/Los_Angeles:20110511T210000
DTSTAMP:20260421T203532
CREATED:20110512T090000Z
LAST-MODIFIED:20110512T090000Z
UID:10006389-1305140400-1305147600@vesglobal.org
SUMMARY:Screening - FAST FIVE (Bay Area)
DESCRIPTION:Bay Area VES Members And Guests Are \n	Invited To Attend A Screening Of \n	FAST FIVE
URL:https://vesglobal.org/event/screening-fast-five-bay-area/
LOCATION:NY
CATEGORIES:Event
ATTACH;FMTTYPE=image/jpeg:https://vesglobal.org/wp-content/uploads/2014/07/fast_five.jpg
END:VEVENT
BEGIN:VEVENT
DTSTART;TZID=America/Los_Angeles:20110512T100000
DTEND;TZID=America/Los_Angeles:20110512T163000
DTSTAMP:20260421T203532
CREATED:20110513T000000Z
LAST-MODIFIED:20110513T000000Z
UID:10006390-1305194400-1305217800@vesglobal.org
SUMMARY:Event - Sony Technology Center 3D Seminar (New York)
DESCRIPTION:VES Members In New York Are Invited \n	To Attend Sony Technology Center’s \n	Three Days Of Free 3D Seminars
URL:https://vesglobal.org/event/event-sony-technology-center-3d-seminar-new-york-3/
LOCATION:NY
CATEGORIES:Event
END:VEVENT
BEGIN:VEVENT
DTSTART;TZID=America/Los_Angeles:20110521T140000
DTEND;TZID=America/Los_Angeles:20110521T184500
DTSTAMP:20260421T203532
CREATED:20110522T040000Z
LAST-MODIFIED:20110522T040000Z
UID:10006396-1305986400-1306003500@vesglobal.org
SUMMARY:Screenings - THOR in 2D & 3D (Bay Area)
DESCRIPTION:Bay Area VES Members And Guests Are \n	Invited To Attend 2D & 3D Screenings Of \n	THOR
URL:https://vesglobal.org/event/screenings-thor-in-2d-3d-bay-area/
LOCATION:NY
CATEGORIES:Event
ATTACH;FMTTYPE=image/jpeg:https://vesglobal.org/wp-content/uploads/2014/07/thor_0.jpg
END:VEVENT
BEGIN:VEVENT
DTSTART;TZID=America/Los_Angeles:20110524T190000
DTEND;TZID=America/Los_Angeles:20110524T210000
DTSTAMP:20260421T203532
CREATED:20110525T090000Z
LAST-MODIFIED:20110525T090000Z
UID:10006400-1306263600-1306270800@vesglobal.org
SUMMARY:Screening - PRIEST in 3D (Bay Area)
DESCRIPTION:Bay Area VES Members And Guests Are \n	Invited To Attend A 3D Screening Of \n	PRIEST
URL:https://vesglobal.org/event/screening-priest-in-3d-bay-area/
LOCATION:NY
CATEGORIES:Event
ATTACH;FMTTYPE=image/jpeg:https://vesglobal.org/wp-content/uploads/2014/07/priest.jpg
END:VEVENT
BEGIN:VEVENT
DTSTART;TZID=America/Los_Angeles:20110528T130000
DTEND;TZID=America/Los_Angeles:20110528T153000
DTSTAMP:20260421T203532
CREATED:20110529T030000Z
LAST-MODIFIED:20110529T030000Z
UID:10006404-1306587600-1306596600@vesglobal.org
SUMMARY:Screening - PIRATES OF THE CARIBBEAN: ON STRANGER TIDES in 3D (Vancouver)
DESCRIPTION:Vancouver VES Members And Guests \nAre Invited To Attend A 3D Screening Of \nPIRATES OF THE CARIBBEAN: \nON STRANGER TIDES
URL:https://vesglobal.org/event/screening-pirates-of-the-caribbean-on-stranger-tides-in-3d-vancouver/
LOCATION:NY
CATEGORIES:Event
ATTACH;FMTTYPE=image/jpeg:https://vesglobal.org/wp-content/uploads/2014/07/pirates_of_the_caribbean_on_stranger_tides_0.jpg
END:VEVENT
BEGIN:VEVENT
DTSTART;TZID=America/Los_Angeles:20110531T190000
DTEND;TZID=America/Los_Angeles:20110531T213000
DTSTAMP:20260421T203532
CREATED:20110601T090000Z
LAST-MODIFIED:20110601T090000Z
UID:10006406-1306868400-1306877400@vesglobal.org
SUMMARY:Screening - PIRATES OF THE CARIBBEAN: ON STRANGER TIDES in 3D (Bay Area)
DESCRIPTION:Bay Area VES Members And Guests Are \n	Invited To Attend A 3D Screening Of \n	PIRATES OF THE CARIBBEAN: \n	ON STRANGER TIDES
URL:https://vesglobal.org/event/screening-pirates-of-the-caribbean-on-stranger-tides-in-3d-bay-area/
LOCATION:NY
CATEGORIES:Event
ATTACH;FMTTYPE=image/jpeg:https://vesglobal.org/wp-content/uploads/2014/07/pirates_of_the_caribbean_on_stranger_tides_1.jpg
END:VEVENT
END:VCALENDAR